BEGIN:VCALENDAR
VERSION:2.0
PRODID:-//MOSAIC - ECPv6.15.20//NONSGML v1.0//EN
CALSCALE:GREGORIAN
METHOD:PUBLISH
X-ORIGINAL-URL:https://mosaicbc.org
X-WR-CALDESC:Events for MOSAIC
REFRESH-INTERVAL;VALUE=DURATION:PT1H
X-Robots-Tag:noindex
X-PUBLISHED-TTL:PT1H
BEGIN:VTIMEZONE
TZID:America/Los_Angeles
BEGIN:DAYLIGHT
TZOFFSETFROM:-0800
TZOFFSETTO:-0700
TZNAME:PDT
DTSTART:20240310T100000
END:DAYLIGHT
BEGIN:STANDARD
TZOFFSETFROM:-0700
TZOFFSETTO:-0800
TZNAME:PST
DTSTART:20241103T090000
END:STANDARD
BEGIN:DAYLIGHT
TZOFFSETFROM:-0800
TZOFFSETTO:-0700
TZNAME:PDT
DTSTART:20250309T100000
END:DAYLIGHT
BEGIN:STANDARD
TZOFFSETFROM:-0700
TZOFFSETTO:-0800
TZNAME:PST
DTSTART:20251102T090000
END:STANDARD
BEGIN:DAYLIGHT
TZOFFSETFROM:-0800
TZOFFSETTO:-0700
TZNAME:PDT
DTSTART:20260308T100000
END:DAYLIGHT
BEGIN:STANDARD
TZOFFSETFROM:-0700
TZOFFSETTO:-0800
TZNAME:PST
DTSTART:20261101T090000
END:STANDARD
END:VTIMEZONE
BEGIN:VEVENT
DTSTART;TZID=America/Los_Angeles:20250719T110000
DTEND;TZID=America/Los_Angeles:20250719T150000
DTSTAMP:20260423T130714
CREATED:20250624T230028Z
LAST-MODIFIED:20250624T230147Z
UID:10035439-1752922800-1752937200@mosaicbc.org
SUMMARY:Collingwood Days 2025: Celebrate With Us!
DESCRIPTION:Let’s come together to celebrate community and connection! You’re invited to take part in a meaningful outreach opportunity at the Collingwood Days Festival on Saturday\, July the 19th! Be part of Team MOSAIC\, engage with community\, share our programs\, and help build lasting connections \nThis year’s festival theme highlights the Seven Grandfathers’ Teachings\, a powerful set of Anishinaabe principles rooted in wisdom\, love\, respect\, bravery\, honesty\, humility\, and truth. The celebration kicks off the week of July 11th with an Opening Ceremony\, followed by daily activities leading up to Festival Day at Gaston Park on July 19th. \nEvent Details: \n\nDate: July 19 (Saturday)\nTime: 11:00 AM – 03:00 PM\nLocation: Gaston Park\, 3470 Crowley Drive\, Vancouver\, BC\, V5R\n\nNo registration is required! \nHighlights: \n\nFESTIVAL WEEK BEGINS JULY 11th with the Opening Day & Drum Circle — Collingwood Days. You can view the full event breakdown including MOSAIC’s own in-house activities happening on July 14th on the official website: collingwooddays.com/events\nThis year’s Festival Day on July 19th at Gaston Park promises to be an exciting celebration for the entire family\, featuring live music\, dancing\, storytelling\, poetry\, games\, workshops\, and more. From Indigenous blessings and stilt walkers to a vibrant artisan market and kids zone\, it’s a beautiful expression of culture and community.\nThere will be food trucks\, kid zones\, mini market with crochet items from our Seniors Club clients\, so we highly recommend you bringing cash\, because some booths might not have card machine.\n\nWe look forward to celebrating Collingwood Days 2025 with you and sharing the rich and diverse programs we offer at MOSAIC. Come\, connect\, and enjoy a day filled with community spirit and exciting activities!
URL:https://mosaicbc.org/event/collingwood-days-2025-celebrate-with-us/
LOCATION:Gaston Park\, 3470 Crowley Drive\, Vancouver\, British Columbia\, V5R 6G5\, Canada
CATEGORIES:Other Events
ATTACH;FMTTYPE=image/jpeg:https://mosaicbc.org/wp-content/uploads/2025/06/collinwgood-1-scaled.jpg
ORGANIZER;CN="Seniors Club":MAILTO:seniors@mosaicbc.org
END:VEVENT
END:VCALENDAR