BEGIN:VCALENDAR
VERSION:2.0
PRODID:-//MOSAIC - ECPv6.15.20//NONSGML v1.0//EN
CALSCALE:GREGORIAN
METHOD:PUBLISH
X-WR-CALNAME:MOSAIC
X-ORIGINAL-URL:https://mosaicbc.org
X-WR-CALDESC:Events for MOSAIC
REFRESH-INTERVAL;VALUE=DURATION:PT1H
X-Robots-Tag:noindex
X-PUBLISHED-TTL:PT1H
BEGIN:VTIMEZONE
TZID:America/Los_Angeles
BEGIN:DAYLIGHT
TZOFFSETFROM:-0800
TZOFFSETTO:-0700
TZNAME:PDT
DTSTART:20220313T100000
END:DAYLIGHT
BEGIN:STANDARD
TZOFFSETFROM:-0700
TZOFFSETTO:-0800
TZNAME:PST
DTSTART:20221106T090000
END:STANDARD
BEGIN:DAYLIGHT
TZOFFSETFROM:-0800
TZOFFSETTO:-0700
TZNAME:PDT
DTSTART:20230312T100000
END:DAYLIGHT
BEGIN:STANDARD
TZOFFSETFROM:-0700
TZOFFSETTO:-0800
TZNAME:PST
DTSTART:20231105T090000
END:STANDARD
BEGIN:DAYLIGHT
TZOFFSETFROM:-0800
TZOFFSETTO:-0700
TZNAME:PDT
DTSTART:20240310T100000
END:DAYLIGHT
BEGIN:STANDARD
TZOFFSETFROM:-0700
TZOFFSETTO:-0800
TZNAME:PST
DTSTART:20241103T090000
END:STANDARD
END:VTIMEZONE
BEGIN:VTIMEZONE
TZID:America/Vancouver
BEGIN:DAYLIGHT
TZOFFSETFROM:-0800
TZOFFSETTO:-0700
TZNAME:PDT
DTSTART:20240310T100000
END:DAYLIGHT
BEGIN:STANDARD
TZOFFSETFROM:-0700
TZOFFSETTO:-0800
TZNAME:PST
DTSTART:20241103T090000
END:STANDARD
BEGIN:DAYLIGHT
TZOFFSETFROM:-0800
TZOFFSETTO:-0700
TZNAME:PDT
DTSTART:20250309T100000
END:DAYLIGHT
BEGIN:STANDARD
TZOFFSETFROM:-0700
TZOFFSETTO:-0800
TZNAME:PST
DTSTART:20251102T090000
END:STANDARD
BEGIN:DAYLIGHT
TZOFFSETFROM:-0800
TZOFFSETTO:-0700
TZNAME:PDT
DTSTART:20260308T100000
END:DAYLIGHT
BEGIN:STANDARD
TZOFFSETFROM:-0700
TZOFFSETTO:-0800
TZNAME:PST
DTSTART:20261101T090000
END:STANDARD
END:VTIMEZONE
BEGIN:VEVENT
DTSTART;TZID=America/Los_Angeles:20230922T140000
DTEND;TZID=America/Los_Angeles:20230922T150000
DTSTAMP:20260423T123044
CREATED:20230912T195127Z
LAST-MODIFIED:20230912T195127Z
UID:10032151-1695391200-1695394800@mosaicbc.org
SUMMARY:Career Guidance in Canada: Navigating Your Path to Success
DESCRIPTION:Discover Your Career Path Workshop in Canada Career guidance in Canada \nAre you uncertain about which career path to pursue in Canada? Do you need clarity in making informed decisions about your future job prospects? Whether you’re considering a career change or looking to embark on your pre-arrival career\, our workshop is designed to provide you with essential guidance at every step of your career exploration and planning journey. \nWorkshop Topics: \n\nCareer Planning Steps: Learn how to effectively plan your career journey\, set goals\, and take actionable steps towards your dream job.\nLabor Market Research: Gain insights into researching the Canadian labor market\, including job trends\, demand\, and growth areas.\nWorkplace Culture: Understand the nuances of Canadian workplace culture and how to succeed in a diverse work environment.\nCommunity Building Resources: Discover valuable community resources and support networks that can assist you in your career development.\n\nEvent Details: \nDate: September 22\, 2023\nTime: 2:00 PM – 3:00 PM\nLocation: 5575 Boundary Road\, Vancouver\, BC\, V5R 2P9 \nGuest Speaker: \nWe are delighted to welcome a Job Developer from WorkBC Centre\, who will share their expertise and insights to help you on your career journey. \nPriority Seating:\nPriority seating will be given to Permanent Residents\, CUAET holders\, and Protected Persons. However\, all individuals interested in career development are welcome to attend. \nRefreshments:\nTo make your learning experience more enjoyable\, refreshments will be provided during the workshop. \nDon’t miss this opportunity to gain the knowledge and resources you need to navigate your career path successfully in Canada. Join us on September 22nd\, and take the first step towards a brighter future! \nFor registration and inquiries\, please use the Registration Form. \nThis event is organized by the Newcomers and Community Building Program. We can help you with getting a SIN (Social Insurance Number)\, finding schools\, jobs\, and family doctors and more. \nEvent Brochure Career guidance in Canada
URL:https://mosaicbc.org/event/career-guidance-in-canada/
LOCATION:MOSAIC – Boundary\, 5575 Boundary Road\, Vancouver\, British Columbia\, V5R 2P9
CATEGORIES:Information Sessions,Workshops
ATTACH;FMTTYPE=image/jpeg:https://mosaicbc.org/wp-content/uploads/2023/09/Career-guidance-in-Canada.jpg
ORGANIZER;CN="MOSAIC":MAILTO:info@mosaicbc.org
GEO:49.2336134;-123.0236146
X-APPLE-STRUCTURED-LOCATION;VALUE=URI;X-ADDRESS=MOSAIC – Boundary 5575 Boundary Road Vancouver British Columbia V5R 2P9;X-APPLE-RADIUS=500;X-TITLE=5575 Boundary Road:geo:-123.0236146,49.2336134
END:VEVENT
BEGIN:VEVENT
DTSTART;TZID=America/Vancouver:20250503T110000
DTEND;TZID=America/Vancouver:20250503T163000
DTSTAMP:20260423T123044
CREATED:20250408T233937Z
LAST-MODIFIED:20250502T205523Z
UID:10033987-1746270000-1746289800@mosaicbc.org
SUMMARY:Financial Training For Youth (Ages 13-18)
DESCRIPTION:Get ready for Dollars with Sense\, a fun and interactive financial literacy workshop for youth (ages 13-18)! Hosted by MOSAIC in partnership with JA British Columbia (JABC)\, this all-day event will teach you how to manage money wisely through engaging activities. You’ll leave with a certificate of completion and practical skills to make smart financial decisions—plus\, you’ll have a great time connecting with other youth. \nEvent Details\n\nDate: Saturday\, May 03\, 2025\nTime: 11:00 a.m. to 4:30 p.m. (with breaks to relax and connect)\nLocation: 5575 Boundary Rd\, Vancouver\, BC V5R 0E3\nFree (lunch and snacks provided\, with vegan and halal options)\nRegistration Form\n\nWhat You’ll Do and Why It Matters\nPicture this: You’ve been saving your allowance for weeks to buy a new video game\, but when you go to the store\, you see a cool pair of sneakers on sale and can’t decide what to do with your money. At Dollars with Sense\, you’ll take part in: \n\nBudgeting Games: Create a pretend budget using “play money” to decide how much to spend on things like snacks\, clothes\, or saving for bigger goals—like that video game or sneakers.\nSavings Challenges: Learn how to set up a savings plan and understand why saving even a little each week can add up over time (e.g.\, for a phone or a school trip).\nGroup Discussions: Share ideas with other youth about how to avoid spending all your money at once and make thoughtful choices\, like saving for something you really want instead of buying impulsively.\n\nThese activities will help you understand how to manage money\, avoid financial stress\, and make smart choices—skills that will be useful now (like saving for things you want) and in the future (like paying bills or saving for college). \nWhat to Expect\n\nFun\, hands-on activities to learn financial literacy concepts like budgeting\, saving\, and spending wisely.\nOpportunities to connect with other youth while building practical money skills.\nA certificate of completion to celebrate your achievement.\nLunch and snacks (vegan and halal options available) to keep you fueled.\n\nWho Can Join?\nThis program is open to all youth (Ages 13-18)\, including: \n\nCurrent or exited MOSAIC clients.\nChildren of current or exited MOSAIC clients.\nPermanent residents\, citizens\, refugee claimants—status or no status\, everyone is welcome!\nYour friends\, classmates\, or neighbors—spread the word!\n\nRegistration\nSeats are limited\, and registration is required to secure your spot\, prepare certificates\, and plan meals. Register now! \nWhy Attend?\nMOSAIC and JA British Columbia are teaming up to deliver this impactful program as part of JABC’s mission to provide hands-on education in financial health\, work readiness\, and entrepreneurship for youth. Learning how to manage money early will set you up for success as you grow—whether you’re saving for a big purchase or planning for your future. Join us to gain these essential skills\, earn a certificate\, and make new friends!
URL:https://mosaicbc.org/event/financial-training-ages-13-18/
LOCATION:MOSAIC – Boundary\, 5575 Boundary Road\, Vancouver\, British Columbia\, V5R 2P9
CATEGORIES:Information Sessions,Other Events,Workshops
ATTACH;FMTTYPE=image/jpeg:https://mosaicbc.org/wp-content/uploads/2025/04/financial-literacy-for-young-adults-scaled.jpg
ORGANIZER;CN="MOSAIC":MAILTO:info@mosaicbc.org
GEO:49.2336134;-123.0236146
X-APPLE-STRUCTURED-LOCATION;VALUE=URI;X-ADDRESS=MOSAIC – Boundary 5575 Boundary Road Vancouver British Columbia V5R 2P9;X-APPLE-RADIUS=500;X-TITLE=5575 Boundary Road:geo:-123.0236146,49.2336134
END:VEVENT
BEGIN:VEVENT
DTSTART;TZID=America/Vancouver:20250503T110000
DTEND;TZID=America/Vancouver:20250503T163000
DTSTAMP:20260423T123044
CREATED:20250408T233014Z
LAST-MODIFIED:20250502T192911Z
UID:10033986-1746270000-1746289800@mosaicbc.org
SUMMARY:Financial Literacy Training for Young People (Ages 13-18)
DESCRIPTION:Join us for Success Skills\, an all-day training program tailored for newcomer youth aged 13-18! Hosted by MOSAIC in partnership with JA British Columbia (JABC)\, this event will help you develop essential personal and professional skills to navigate life’s challenges with confidence. You’ll leave with a certificate of completion and a toolkit of transferable skills to boost your resilience and improve outcomes in tough situations—plus\, you’ll connect with other young people in a fun\, supportive environment. \nEvent Details\n\nDate: Saturday\, May 03\, 2025\nTime: 11:00 a.m. to 4:30 p.m. (includes breaks to relax and connect)\nLocation: 5575 Boundary Rd\, Vancouver\, BC V5R 0E3\nRegistration Form\n\n\nWhat You’ll Do and Why It Matters\nImagine you’ve just moved to Canada and landed your first part-time job at a local café in Burnaby. On your first day\, a customer gets upset because their order is wrong\, and you’re unsure how to handle the situation without feeling overwhelmed. At Success Skills\, you’ll participate in: \n\nInteractive Role-Playing Activities: Practice handling real-life scenarios like resolving conflicts at work\, communicating effectively with coworkers\, or managing stress during busy shifts.\nGoal-Setting Workshops: Learn how to set realistic goals for your education\, career\, or personal life—like saving for school or building a strong resume—and create a step-by-step plan to achieve them.\nTeam-Building Exercises: Work with other newcomer youth to solve challenges together\, helping you build confidence\, teamwork skills\, and a network of friends who understand your journey.\n\nThese activities are designed to give you practical tools to stay calm under pressure\, communicate clearly\, and adapt to new environments—skills that will help you succeed in jobs\, school\, and everyday life as a newcomer in Canada. \n\nWhat to Expect\n\nHands-on workshops to build transferable skills like problem-solving\, communication\, and resilience.\nOpportunities to connect with other newcomer youth in a welcoming space.\nA certificate of completion to showcase your new skills to employers or schools.\nLunch and snacks (vegan and halal options available) to keep you energized.\n\nWho Can Join?\nThis program is open to all young people aged 13-18\, including: \n\nCurrent or exited MOSAIC clients.\nChildren of current or exited MOSAIC clients.\nPermanent residents\, citizens\, refugee claimants—status or no status\, everyone is welcome!\nYour friends\, classmates\, or neighbors—spread the word!\n\nRegistration\nSeats are limited\, and registration is required to secure your spot\, prepare certificates\, and plan meals. Register now! \nWhy Attend?\nThis event is a collaboration between MOSAIC and JA British Columbia\, a globally recognized non-profit dedicated to empowering youth through hands-on education in work readiness\, financial health\, and entrepreneurship. Don’t miss this chance to gain valuable skills\, earn a certificate\, and connect with other newcomer youth!
URL:https://mosaicbc.org/event/financial-literacy-training-youth/
LOCATION:MOSAIC – Boundary\, 5575 Boundary Road\, Vancouver\, British Columbia\, V5R 2P9
CATEGORIES:Information Sessions,Other Events
ATTACH;FMTTYPE=image/jpeg:https://mosaicbc.org/wp-content/uploads/2025/04/financial-literacy-scaled.jpg
ORGANIZER;CN="MOSAIC":MAILTO:info@mosaicbc.org
GEO:49.2336134;-123.0236146
X-APPLE-STRUCTURED-LOCATION;VALUE=URI;X-ADDRESS=MOSAIC – Boundary 5575 Boundary Road Vancouver British Columbia V5R 2P9;X-APPLE-RADIUS=500;X-TITLE=5575 Boundary Road:geo:-123.0236146,49.2336134
END:VEVENT
BEGIN:VEVENT
DTSTART;TZID=America/Vancouver:20250613T160000
DTEND;TZID=America/Vancouver:20250613T183000
DTSTAMP:20260423T123044
CREATED:20250429T170524Z
LAST-MODIFIED:20250624T181841Z
UID:10034053-1749830400-1749839400@mosaicbc.org
SUMMARY:Newcomer Youth Creative Space - 🎉 Welcome Studio
DESCRIPTION:Are you a newcomer youth looking to make friends\, express yourself\, and feel more connected in your new community? You’re invited to the Welcome Studio —a vibrant\, inclusive space where art meets belonging! \nThe Welcome Studio is a creative art program designed especially for newcomer youth in Vancouver. Whether you love painting\, sketching\, crafting\, or simply want a fun place to hang out after school\, this is your space to shine. No experience needed—just bring your imagination and come as you are! \nEvent Details:\n📍Location: CNH Annex\, 3690 Vanness Ave\, Vancouver\, BC V5R 5B6 \n🗓️ Dates:  June 13 & 27; July 11 & 25; August 8 & 22 \n⏰ Time: All sessions run from 4:00 PM – 6:30 PM \nRegister now to save your spot! \nRefreshments will be provided \nWhy should you join?\n✔️ Meet other newcomer youth who are also navigating a new city and culture.✔️ Express your creativity through guided hands-on activities like painting\, drawing\, and mixed media.✔️ Build confidence in a welcoming\, non-judgmental environment.✔️ Enjoy free food (yes\, there will be pizza!) and meaningful conversation. \nWe know that starting fresh in a new country can be both exciting and challenging. The Welcome Studio is here to support you with a fun\, safe\, and friendly place to be yourself\, make memories\, and feel at home in Vancouver. \nThis program is hosted by MOSAIC\, in collaboration with SWIS Vancouver and Collingwood Neighbourhood House.
URL:https://mosaicbc.org/event/newcomer-youth-creative-space/2025-06-13/
LOCATION:CNH Annex\, 5288 Joyce St\, Vancouver\, British Columbia\, V5R 6C9\, Canada
CATEGORIES:Other Events
ATTACH;FMTTYPE=image/jpeg:https://mosaicbc.org/wp-content/uploads/2025/04/financial-literacy-for-young-adults-scaled.jpg
ORGANIZER;CN="MOSAIC":MAILTO:info@mosaicbc.org
END:VEVENT
BEGIN:VEVENT
DTSTART;TZID=America/Vancouver:20250627T160000
DTEND;TZID=America/Vancouver:20250627T183000
DTSTAMP:20260423T123044
CREATED:20250429T170524Z
LAST-MODIFIED:20250624T181841Z
UID:10034141-1751040000-1751049000@mosaicbc.org
SUMMARY:Newcomer Youth Creative Space - 🎉 Welcome Studio
DESCRIPTION:Are you a newcomer youth looking to make friends\, express yourself\, and feel more connected in your new community? You’re invited to the Welcome Studio —a vibrant\, inclusive space where art meets belonging! \nThe Welcome Studio is a creative art program designed especially for newcomer youth in Vancouver. Whether you love painting\, sketching\, crafting\, or simply want a fun place to hang out after school\, this is your space to shine. No experience needed—just bring your imagination and come as you are! \nEvent Details:\n📍Location: CNH Annex\, 3690 Vanness Ave\, Vancouver\, BC V5R 5B6 \n🗓️ Dates:  June 13 & 27; July 11 & 25; August 8 & 22 \n⏰ Time: All sessions run from 4:00 PM – 6:30 PM \nRegister now to save your spot! \nRefreshments will be provided \nWhy should you join?\n✔️ Meet other newcomer youth who are also navigating a new city and culture.✔️ Express your creativity through guided hands-on activities like painting\, drawing\, and mixed media.✔️ Build confidence in a welcoming\, non-judgmental environment.✔️ Enjoy free food (yes\, there will be pizza!) and meaningful conversation. \nWe know that starting fresh in a new country can be both exciting and challenging. The Welcome Studio is here to support you with a fun\, safe\, and friendly place to be yourself\, make memories\, and feel at home in Vancouver. \nThis program is hosted by MOSAIC\, in collaboration with SWIS Vancouver and Collingwood Neighbourhood House.
URL:https://mosaicbc.org/event/newcomer-youth-creative-space/2025-06-27/
LOCATION:CNH Annex\, 5288 Joyce St\, Vancouver\, British Columbia\, V5R 6C9\, Canada
CATEGORIES:Other Events
ATTACH;FMTTYPE=image/jpeg:https://mosaicbc.org/wp-content/uploads/2025/04/financial-literacy-for-young-adults-scaled.jpg
ORGANIZER;CN="MOSAIC":MAILTO:info@mosaicbc.org
END:VEVENT
BEGIN:VEVENT
DTSTART;TZID=America/Vancouver:20250711T160000
DTEND;TZID=America/Vancouver:20250711T183000
DTSTAMP:20260423T123044
CREATED:20250429T170524Z
LAST-MODIFIED:20250624T181841Z
UID:10034142-1752249600-1752258600@mosaicbc.org
SUMMARY:Newcomer Youth Creative Space - 🎉 Welcome Studio
DESCRIPTION:Are you a newcomer youth looking to make friends\, express yourself\, and feel more connected in your new community? You’re invited to the Welcome Studio —a vibrant\, inclusive space where art meets belonging! \nThe Welcome Studio is a creative art program designed especially for newcomer youth in Vancouver. Whether you love painting\, sketching\, crafting\, or simply want a fun place to hang out after school\, this is your space to shine. No experience needed—just bring your imagination and come as you are! \nEvent Details:\n📍Location: CNH Annex\, 3690 Vanness Ave\, Vancouver\, BC V5R 5B6 \n🗓️ Dates:  June 13 & 27; July 11 & 25; August 8 & 22 \n⏰ Time: All sessions run from 4:00 PM – 6:30 PM \nRegister now to save your spot! \nRefreshments will be provided \nWhy should you join?\n✔️ Meet other newcomer youth who are also navigating a new city and culture.✔️ Express your creativity through guided hands-on activities like painting\, drawing\, and mixed media.✔️ Build confidence in a welcoming\, non-judgmental environment.✔️ Enjoy free food (yes\, there will be pizza!) and meaningful conversation. \nWe know that starting fresh in a new country can be both exciting and challenging. The Welcome Studio is here to support you with a fun\, safe\, and friendly place to be yourself\, make memories\, and feel at home in Vancouver. \nThis program is hosted by MOSAIC\, in collaboration with SWIS Vancouver and Collingwood Neighbourhood House.
URL:https://mosaicbc.org/event/newcomer-youth-creative-space/2025-07-11/
LOCATION:CNH Annex\, 5288 Joyce St\, Vancouver\, British Columbia\, V5R 6C9\, Canada
CATEGORIES:Other Events
ATTACH;FMTTYPE=image/jpeg:https://mosaicbc.org/wp-content/uploads/2025/04/financial-literacy-for-young-adults-scaled.jpg
ORGANIZER;CN="MOSAIC":MAILTO:info@mosaicbc.org
END:VEVENT
BEGIN:VEVENT
DTSTART;TZID=America/Vancouver:20250725T160000
DTEND;TZID=America/Vancouver:20250725T183000
DTSTAMP:20260423T123044
CREATED:20250429T170524Z
LAST-MODIFIED:20250624T181841Z
UID:10034143-1753459200-1753468200@mosaicbc.org
SUMMARY:Newcomer Youth Creative Space - 🎉 Welcome Studio
DESCRIPTION:Are you a newcomer youth looking to make friends\, express yourself\, and feel more connected in your new community? You’re invited to the Welcome Studio —a vibrant\, inclusive space where art meets belonging! \nThe Welcome Studio is a creative art program designed especially for newcomer youth in Vancouver. Whether you love painting\, sketching\, crafting\, or simply want a fun place to hang out after school\, this is your space to shine. No experience needed—just bring your imagination and come as you are! \nEvent Details:\n📍Location: CNH Annex\, 3690 Vanness Ave\, Vancouver\, BC V5R 5B6 \n🗓️ Dates:  June 13 & 27; July 11 & 25; August 8 & 22 \n⏰ Time: All sessions run from 4:00 PM – 6:30 PM \nRegister now to save your spot! \nRefreshments will be provided \nWhy should you join?\n✔️ Meet other newcomer youth who are also navigating a new city and culture.✔️ Express your creativity through guided hands-on activities like painting\, drawing\, and mixed media.✔️ Build confidence in a welcoming\, non-judgmental environment.✔️ Enjoy free food (yes\, there will be pizza!) and meaningful conversation. \nWe know that starting fresh in a new country can be both exciting and challenging. The Welcome Studio is here to support you with a fun\, safe\, and friendly place to be yourself\, make memories\, and feel at home in Vancouver. \nThis program is hosted by MOSAIC\, in collaboration with SWIS Vancouver and Collingwood Neighbourhood House.
URL:https://mosaicbc.org/event/newcomer-youth-creative-space/2025-07-25/
LOCATION:CNH Annex\, 5288 Joyce St\, Vancouver\, British Columbia\, V5R 6C9\, Canada
CATEGORIES:Other Events
ATTACH;FMTTYPE=image/jpeg:https://mosaicbc.org/wp-content/uploads/2025/04/financial-literacy-for-young-adults-scaled.jpg
ORGANIZER;CN="MOSAIC":MAILTO:info@mosaicbc.org
END:VEVENT
BEGIN:VEVENT
DTSTART;TZID=America/Vancouver:20250808T160000
DTEND;TZID=America/Vancouver:20250808T183000
DTSTAMP:20260423T123044
CREATED:20250429T170524Z
LAST-MODIFIED:20250624T181841Z
UID:10034144-1754668800-1754677800@mosaicbc.org
SUMMARY:Newcomer Youth Creative Space - 🎉 Welcome Studio
DESCRIPTION:Are you a newcomer youth looking to make friends\, express yourself\, and feel more connected in your new community? You’re invited to the Welcome Studio —a vibrant\, inclusive space where art meets belonging! \nThe Welcome Studio is a creative art program designed especially for newcomer youth in Vancouver. Whether you love painting\, sketching\, crafting\, or simply want a fun place to hang out after school\, this is your space to shine. No experience needed—just bring your imagination and come as you are! \nEvent Details:\n📍Location: CNH Annex\, 3690 Vanness Ave\, Vancouver\, BC V5R 5B6 \n🗓️ Dates:  June 13 & 27; July 11 & 25; August 8 & 22 \n⏰ Time: All sessions run from 4:00 PM – 6:30 PM \nRegister now to save your spot! \nRefreshments will be provided \nWhy should you join?\n✔️ Meet other newcomer youth who are also navigating a new city and culture.✔️ Express your creativity through guided hands-on activities like painting\, drawing\, and mixed media.✔️ Build confidence in a welcoming\, non-judgmental environment.✔️ Enjoy free food (yes\, there will be pizza!) and meaningful conversation. \nWe know that starting fresh in a new country can be both exciting and challenging. The Welcome Studio is here to support you with a fun\, safe\, and friendly place to be yourself\, make memories\, and feel at home in Vancouver. \nThis program is hosted by MOSAIC\, in collaboration with SWIS Vancouver and Collingwood Neighbourhood House.
URL:https://mosaicbc.org/event/newcomer-youth-creative-space/2025-08-08/
LOCATION:CNH Annex\, 5288 Joyce St\, Vancouver\, British Columbia\, V5R 6C9\, Canada
CATEGORIES:Other Events
ATTACH;FMTTYPE=image/jpeg:https://mosaicbc.org/wp-content/uploads/2025/04/financial-literacy-for-young-adults-scaled.jpg
ORGANIZER;CN="MOSAIC":MAILTO:info@mosaicbc.org
END:VEVENT
BEGIN:VEVENT
DTSTART;TZID=America/Vancouver:20250822T160000
DTEND;TZID=America/Vancouver:20250822T183000
DTSTAMP:20260423T123044
CREATED:20250429T170524Z
LAST-MODIFIED:20250624T181841Z
UID:10034145-1755878400-1755887400@mosaicbc.org
SUMMARY:Newcomer Youth Creative Space - 🎉 Welcome Studio
DESCRIPTION:Are you a newcomer youth looking to make friends\, express yourself\, and feel more connected in your new community? You’re invited to the Welcome Studio —a vibrant\, inclusive space where art meets belonging! \nThe Welcome Studio is a creative art program designed especially for newcomer youth in Vancouver. Whether you love painting\, sketching\, crafting\, or simply want a fun place to hang out after school\, this is your space to shine. No experience needed—just bring your imagination and come as you are! \nEvent Details:\n📍Location: CNH Annex\, 3690 Vanness Ave\, Vancouver\, BC V5R 5B6 \n🗓️ Dates:  June 13 & 27; July 11 & 25; August 8 & 22 \n⏰ Time: All sessions run from 4:00 PM – 6:30 PM \nRegister now to save your spot! \nRefreshments will be provided \nWhy should you join?\n✔️ Meet other newcomer youth who are also navigating a new city and culture.✔️ Express your creativity through guided hands-on activities like painting\, drawing\, and mixed media.✔️ Build confidence in a welcoming\, non-judgmental environment.✔️ Enjoy free food (yes\, there will be pizza!) and meaningful conversation. \nWe know that starting fresh in a new country can be both exciting and challenging. The Welcome Studio is here to support you with a fun\, safe\, and friendly place to be yourself\, make memories\, and feel at home in Vancouver. \nThis program is hosted by MOSAIC\, in collaboration with SWIS Vancouver and Collingwood Neighbourhood House.
URL:https://mosaicbc.org/event/newcomer-youth-creative-space/2025-08-22/
LOCATION:CNH Annex\, 5288 Joyce St\, Vancouver\, British Columbia\, V5R 6C9\, Canada
CATEGORIES:Other Events
ATTACH;FMTTYPE=image/jpeg:https://mosaicbc.org/wp-content/uploads/2025/04/financial-literacy-for-young-adults-scaled.jpg
ORGANIZER;CN="MOSAIC":MAILTO:info@mosaicbc.org
END:VEVENT
BEGIN:VEVENT
DTSTART;TZID=America/Vancouver:20251112T183000
DTEND;TZID=America/Vancouver:20251112T200000
DTSTAMP:20260423T123044
CREATED:20251104T191841Z
LAST-MODIFIED:20251105T212233Z
UID:10035552-1762972200-1762977600@mosaicbc.org
SUMMARY:Financial Literacy Workshop: Basic Banking Made Easy
DESCRIPTION:Learn the Essentials of Banking in Canada\nEver wondered what chequing and savings accounts really do? Or how credit\, RESPs\, and RRSPs work? This Financial Literacy Workshop is designed to help newcomers and  Tigrinya-speaking community members understand the basics of banking in Canada. Whether you’re opening your first account or planning for the future\, this session will give you practical tools to manage your money confidently. \n\nEvent Details\n\nDate: November 12\, 2025\nTime: 6:30 PM – 8:00 PM\nLocation: 315-7155 Kingsway\, Burnaby\, BC V5E 2V1 (Highgate)\nRegistration Form\nPlease Note: This workshop will be conducted in Tigrinya only.\n\n\nWhy Attend This Workshop?\nManaging finances can feel overwhelming\, especially if you’re new to Canada. This workshop will cover: \n\nThe difference between chequing and savings accounts\nHow credit works and why it matters\nUnderstanding RESPs (Registered Education Savings Plans) and RRSPs (Registered Retirement Savings Plans)\nTips for building financial security\n\nOur goal is to make banking simple\, practical\, and tailored to your needs. \n\nWho Should Join?\nThis event is perfect for newcomers\, students\, and anyone looking to improve their financial literacy. No prior knowledge is required—just bring your questions! \n\nNeed More Support?\nIf you want more help with settlement\, community connection\, and navigation\, explore the Newcomers and Community Building Program (NCBP). This program offers guidance and resources to help you feel at home in your new community.
URL:https://mosaicbc.org/event/financial-literacy-workshop-burnaby/
LOCATION:MOSAIC – Highgate\, 315–7155 Kingsway\, Burnaby\, BC\, Canada
CATEGORIES:Information Sessions,Workshops
ATTACH;FMTTYPE=image/jpeg:https://mosaicbc.org/wp-content/uploads/2025/11/Financial-Literacy-scaled.jpg
ORGANIZER;CN="Newcomers and Community Building Program (NCBP)":MAILTO:settlement@mosaicbc.org
GEO:49.2188954;-122.9567991
X-APPLE-STRUCTURED-LOCATION;VALUE=URI;X-ADDRESS=MOSAIC – Highgate 315–7155 Kingsway Burnaby BC Canada;X-APPLE-RADIUS=500;X-TITLE=315–7155 Kingsway:geo:-122.9567991,49.2188954
END:VEVENT
END:VCALENDAR