BEGIN:VCALENDAR
VERSION:2.0
PRODID:-//MOSAIC - ECPv6.15.20//NONSGML v1.0//EN
CALSCALE:GREGORIAN
METHOD:PUBLISH
X-WR-CALNAME:MOSAIC
X-ORIGINAL-URL:https://mosaicbc.org
X-WR-CALDESC:Events for MOSAIC
REFRESH-INTERVAL;VALUE=DURATION:PT1H
X-Robots-Tag:noindex
X-PUBLISHED-TTL:PT1H
BEGIN:VTIMEZONE
TZID:America/Vancouver
BEGIN:DAYLIGHT
TZOFFSETFROM:-0800
TZOFFSETTO:-0700
TZNAME:PDT
DTSTART:20240310T100000
END:DAYLIGHT
BEGIN:STANDARD
TZOFFSETFROM:-0700
TZOFFSETTO:-0800
TZNAME:PST
DTSTART:20241103T090000
END:STANDARD
BEGIN:DAYLIGHT
TZOFFSETFROM:-0800
TZOFFSETTO:-0700
TZNAME:PDT
DTSTART:20250309T100000
END:DAYLIGHT
BEGIN:STANDARD
TZOFFSETFROM:-0700
TZOFFSETTO:-0800
TZNAME:PST
DTSTART:20251102T090000
END:STANDARD
BEGIN:DAYLIGHT
TZOFFSETFROM:-0800
TZOFFSETTO:-0700
TZNAME:PDT
DTSTART:20260308T100000
END:DAYLIGHT
BEGIN:STANDARD
TZOFFSETFROM:-0700
TZOFFSETTO:-0800
TZNAME:PST
DTSTART:20261101T090000
END:STANDARD
END:VTIMEZONE
BEGIN:VEVENT
DTSTART;TZID=America/Vancouver:20251128T100000
DTEND;TZID=America/Vancouver:20251128T140000
DTSTAMP:20260421T142119
CREATED:20251104T203203Z
LAST-MODIFIED:20251105T213327Z
UID:10035553-1764324000-1764338400@mosaicbc.org
SUMMARY:Stop the Violence Awareness Event
DESCRIPTION:Learn\, reflect\, and take action to prevent gender-based violence\nJoin us for a free community event led by MOSAIC’s Violence Prevention Program (VPP) as part of the international 16 Days of Activism campaign. Designed for adults 19+ living in B.C.\, this hybrid event combines practical legal information\, an arts-based performance\, and a short wellness session to help participants build awareness\, connect with others\, and leave with clear next steps. \nEvent schedule\n10:00 a.m.–12:00 p.m. | Know Your Rights — Legal Knowledge Info-session (Community Room) \n\nKey topics: Family Law\, Protection Orders\, Immigration Status\, and more\nPresenter: Cyrus Haghighi\, Lawyer\, Sinclair Law Centre LLP\n\n12:00 p.m.–12:30 p.m. | Short Break \n12:30 p.m.–1:30 p.m. | “Stars on Pavement” — Live Dramatic Reading \n\nA powerful play by Mexican playwright Carlos Arturo Aguilar exploring how gender violence becomes normalized and its consequences\nPerformed by Jessica Valencia\, Miguel Guerrero\, and Paulina Pino-Rubio (a VPP client)\n\n1:30 p.m.–1:45 p.m. | Short Break \n1:45 p.m.–2:00 p.m. | Yoga and Mindfulness \n\nGentle practice to help you decompress and reflect\nLed by VPP client Fakhria Ibrahimi Momtaz of Momtaz Yoga\n\nEvent details\n\nDate: Friday\, November 28\, 2025\nTime: 10:00 a.m.–2:00 p.m.\nFormat: Hybrid — attend in person or online (Zoom)\nIn-person location: MOSAIC — 5575 Boundary Rd\, Vancouver\, BC V5R 2P9(Closest SkyTrain: Expo Line — Joyce-Collingwood)\nAudience: Individuals 19+ living in British Columbia\nRegistration Form\n\nIf you need help registering or have questions\, please email women.support@mosaicbc.org. \nWhy this event matters\nGender-based violence affects people across communities. This event offers practical legal knowledge to understand your rights\, an arts-based lens to deepen reflection and empathy\, and a wellness practice to ground and restore. You’ll leave with information\, resources\, and community connections to support safety and healing. \nNeed more support?\nIf you want more support related to safety\, legal referrals\, or trauma-informed services\, check the Violence Prevention and Support page.
URL:https://mosaicbc.org/event/stop-the-violence-awareness-event/
LOCATION:MOSAIC – Boundary\, 5575 Boundary Road\, Vancouver\, British Columbia\, V5R 2P9
CATEGORIES:Information Sessions,Online,Other Events,Workshops
ATTACH;FMTTYPE=image/png:https://mosaicbc.org/wp-content/uploads/2025/11/stop-the-violence-scaled.png
GEO:49.2336134;-123.0236146
X-APPLE-STRUCTURED-LOCATION;VALUE=URI;X-ADDRESS=MOSAIC – Boundary 5575 Boundary Road Vancouver British Columbia V5R 2P9;X-APPLE-RADIUS=500;X-TITLE=5575 Boundary Road:geo:-123.0236146,49.2336134
END:VEVENT
END:VCALENDAR