BEGIN:VCALENDAR
VERSION:2.0
PRODID:-//MOSAIC - ECPv6.15.20//NONSGML v1.0//EN
CALSCALE:GREGORIAN
METHOD:PUBLISH
X-WR-CALNAME:MOSAIC
X-ORIGINAL-URL:https://mosaicbc.org
X-WR-CALDESC:Events for MOSAIC
REFRESH-INTERVAL;VALUE=DURATION:PT1H
X-Robots-Tag:noindex
X-PUBLISHED-TTL:PT1H
BEGIN:VTIMEZONE
TZID:America/Vancouver
BEGIN:DAYLIGHT
TZOFFSETFROM:-0800
TZOFFSETTO:-0700
TZNAME:PDT
DTSTART:20240310T100000
END:DAYLIGHT
BEGIN:STANDARD
TZOFFSETFROM:-0700
TZOFFSETTO:-0800
TZNAME:PST
DTSTART:20241103T090000
END:STANDARD
BEGIN:DAYLIGHT
TZOFFSETFROM:-0800
TZOFFSETTO:-0700
TZNAME:PDT
DTSTART:20250309T100000
END:DAYLIGHT
BEGIN:STANDARD
TZOFFSETFROM:-0700
TZOFFSETTO:-0800
TZNAME:PST
DTSTART:20251102T090000
END:STANDARD
BEGIN:DAYLIGHT
TZOFFSETFROM:-0800
TZOFFSETTO:-0700
TZNAME:PDT
DTSTART:20260308T100000
END:DAYLIGHT
BEGIN:STANDARD
TZOFFSETFROM:-0700
TZOFFSETTO:-0800
TZNAME:PST
DTSTART:20261101T090000
END:STANDARD
END:VTIMEZONE
BEGIN:VEVENT
DTSTART;TZID=America/Vancouver:20250801T103000
DTEND;TZID=America/Vancouver:20250801T123000
DTSTAMP:20260421T195035
CREATED:20250723T215432Z
LAST-MODIFIED:20250723T215432Z
UID:10035465-1754044200-1754051400@mosaicbc.org
SUMMARY:We See\, We Hear\, We Support: Understanding and Responding to Violence
DESCRIPTION:Worried Someone You Know Might Be Experiencing Gender-Based Violence?\nWe See\, We Hear\, We Support is a free community talk that helps participants recognize the signs of gender-based violence\, understand common myths\, and learn how to offer support in a safe and compassionate way. This event is open to anyone who suspects that a friend\, family member\, colleague\, or neighbour may be experiencing abuse. \nViolence can take many forms and isn’t always easy to spot. Whether you work closely with people in your community or simply want to become more informed\, this session offers practical tools and guidance to help you make a difference. \n\nDate: August 1\, 2025 \nTime: 10:30 AM – 12:30 PM \nLocation: MOSAIC Boundary Office – 5575 Boundary Rd\, Vancouver\, BC\, V5R 2P9 \nLanguage: English \nChildminding: Available upon request \nFacilitator: Moni Wong\, Master of Social Work (Practicum Student) \nRegister Now \n\nWhat You Will Learn\n✅ How to Recognize the Signs of Gender-Based Violence\nViolence is not always physical. It can also be emotional\, psychological\, financial\, or sexual. Learn how to identify red flags and support someone without causing further harm. \n✅ Myths and Facts About Gender-Based Violence\nChallenge harmful stereotypes and better understand the dynamics of abuse and power. \n✅ Supporting Survivors with Compassion\nDiscover helpful ways to respond\, listen\, and validate the experiences of those impacted by violence. \n✅ Local Resources That Can Help\nYou’ll be introduced to local services and organizations that specialize in supporting survivors\, including counselling\, housing\, and legal aid. \n\nAbout the Program\nThis event is part of MOSAIC’s Multicultural Outreach Services program. If you or someone you know needs additional support\, visit our program page for more information. \n\nRegister Today\nSpaces are limited. Please register now to secure your spot. You can also contact Moni Wong at 236-485-1108 or email moni.wong@mosaicbc.org if you have any questions or would like to request childminding services.
URL:https://mosaicbc.org/event/understanding-gender-based-violence-support-event/
LOCATION:MOSAIC – Boundary\, 5575 Boundary Road\, Vancouver\, British Columbia\, V5R 2P9
CATEGORIES:Information Sessions,Other Events
ATTACH;FMTTYPE=image/jpeg:https://mosaicbc.org/wp-content/uploads/2025/07/event-against-violence-1-scaled.jpg
ORGANIZER;CN="Multicultural Outreach Services":MAILTO:women.support@mosaicbc.org
GEO:49.2336134;-123.0236146
X-APPLE-STRUCTURED-LOCATION;VALUE=URI;X-ADDRESS=MOSAIC – Boundary 5575 Boundary Road Vancouver British Columbia V5R 2P9;X-APPLE-RADIUS=500;X-TITLE=5575 Boundary Road:geo:-123.0236146,49.2336134
END:VEVENT
END:VCALENDAR