BEGIN:VCALENDAR
VERSION:2.0
PRODID:-//MOSAIC - ECPv6.15.20//NONSGML v1.0//EN
CALSCALE:GREGORIAN
METHOD:PUBLISH
X-ORIGINAL-URL:https://mosaicbc.org
X-WR-CALDESC:Events for MOSAIC
REFRESH-INTERVAL;VALUE=DURATION:PT1H
X-Robots-Tag:noindex
X-PUBLISHED-TTL:PT1H
BEGIN:VTIMEZONE
TZID:America/Los_Angeles
BEGIN:DAYLIGHT
TZOFFSETFROM:-0800
TZOFFSETTO:-0700
TZNAME:PDT
DTSTART:20220313T100000
END:DAYLIGHT
BEGIN:STANDARD
TZOFFSETFROM:-0700
TZOFFSETTO:-0800
TZNAME:PST
DTSTART:20221106T090000
END:STANDARD
BEGIN:DAYLIGHT
TZOFFSETFROM:-0800
TZOFFSETTO:-0700
TZNAME:PDT
DTSTART:20230312T100000
END:DAYLIGHT
BEGIN:STANDARD
TZOFFSETFROM:-0700
TZOFFSETTO:-0800
TZNAME:PST
DTSTART:20231105T090000
END:STANDARD
BEGIN:DAYLIGHT
TZOFFSETFROM:-0800
TZOFFSETTO:-0700
TZNAME:PDT
DTSTART:20240310T100000
END:DAYLIGHT
BEGIN:STANDARD
TZOFFSETFROM:-0700
TZOFFSETTO:-0800
TZNAME:PST
DTSTART:20241103T090000
END:STANDARD
END:VTIMEZONE
BEGIN:VEVENT
DTSTART;TZID=America/Los_Angeles:20231004T130000
DTEND;TZID=America/Los_Angeles:20231004T150000
DTSTAMP:20260423T235816
CREATED:20230828T200702Z
LAST-MODIFIED:20230828T200854Z
UID:10032148-1696424400-1696431600@mosaicbc.org
SUMMARY:Navigating the CELPIP Journey: Free Webinars to Prepare You
DESCRIPTION:Embark on Your CELPIP Journey with Confidence – Join Our Free Webinars! CELPIP test preparation webinars \nAre you ready to conquer the CELPIP test and open doors to exciting opportunities? MOSAIC invites you to the series of free webinars tailored to equip you with the knowledge\, skills\, and strategies you need for success. Whether you’re a first-time test taker or looking to enhance your performance\, these webinars are designed to empower you at every step. \nWebinar Highlights: CELPIP test preparation webinars \n\nCELPIP: Get The Facts: Begin your CELPIP journey on the right foot with this informative webinar. The “CELPIP: Get The Facts” session is your essential introduction to the test. Learn about the test format\, procedure\, study materials\, and valuable insights from experienced educators. Get all your questions answered and set a strong foundation for your preparation.\nCELPIP Listening: Tune in to the CELPIP Listening webinar to master this crucial skill. Enhance your ability to comprehend spoken language\, learn effective strategies\, and gain insights from expert instructors. Elevate your listening prowess and excel in the CELPIP test.\nCELPIP Reading: Uncover the art of efficient reading with the CELPIP Reading webinar. Delve into techniques for comprehending texts\, analyzing information\, and managing time effectively. Let experienced educators guide you toward mastering the reading component of the CELPIP test.\nCELPIP Writing: Polish your writing skills with the CELPIP Writing webinar. Discover the nuances of constructing well-structured essays\, conveying ideas clearly\, and adhering to test requirements. This webinar offers practical tips and personalized guidance to excel in the writing section.\nCELPIP Speaking: Unlock the secrets to confident communication in the CELPIP Speaking webinar. Learn to express yourself fluently\, engage in discussions\, and respond effectively to various prompts. Expert insights and interactive practice sessions await\, preparing you to ace the speaking component of the CELPIP test.\n\nEvent Details: \n\nDate: September/12 to October/11\nTime: different timings. Refer to the Event Brochure.\nLocation: Online (Webinar link will be provided upon registration)\nRegistration: Secure your spot by registering for free on the CELPIP webinars page.\n\nDon’t miss this chance to demystify the CELPIP test and gain valuable insights that will set you up for success. Whether you’re aiming for immigration\, education\, or personal growth\, these webinars are designed to cater to your needs. \nIn case you want to know more about how MOSAIC can help you with English Classes and Testing\, visit our services page where you can find most of the free programs.
URL:https://mosaicbc.org/event/free-celpip-test-preparation-webinars/2023-10-04/
LOCATION:Online
CATEGORIES:Online
ATTACH;FMTTYPE=image/png:https://mosaicbc.org/wp-content/uploads/2023/08/CELPIP-test-preparation-webinars.png
ORGANIZER;CN="MOSAIC":MAILTO:info@mosaicbc.org
END:VEVENT
BEGIN:VEVENT
DTSTART;TZID=America/Los_Angeles:20231011T130000
DTEND;TZID=America/Los_Angeles:20231011T150000
DTSTAMP:20260423T235816
CREATED:20230828T200702Z
LAST-MODIFIED:20230828T200854Z
UID:10032149-1697029200-1697036400@mosaicbc.org
SUMMARY:Navigating the CELPIP Journey: Free Webinars to Prepare You
DESCRIPTION:Embark on Your CELPIP Journey with Confidence – Join Our Free Webinars! CELPIP test preparation webinars \nAre you ready to conquer the CELPIP test and open doors to exciting opportunities? MOSAIC invites you to the series of free webinars tailored to equip you with the knowledge\, skills\, and strategies you need for success. Whether you’re a first-time test taker or looking to enhance your performance\, these webinars are designed to empower you at every step. \nWebinar Highlights: CELPIP test preparation webinars \n\nCELPIP: Get The Facts: Begin your CELPIP journey on the right foot with this informative webinar. The “CELPIP: Get The Facts” session is your essential introduction to the test. Learn about the test format\, procedure\, study materials\, and valuable insights from experienced educators. Get all your questions answered and set a strong foundation for your preparation.\nCELPIP Listening: Tune in to the CELPIP Listening webinar to master this crucial skill. Enhance your ability to comprehend spoken language\, learn effective strategies\, and gain insights from expert instructors. Elevate your listening prowess and excel in the CELPIP test.\nCELPIP Reading: Uncover the art of efficient reading with the CELPIP Reading webinar. Delve into techniques for comprehending texts\, analyzing information\, and managing time effectively. Let experienced educators guide you toward mastering the reading component of the CELPIP test.\nCELPIP Writing: Polish your writing skills with the CELPIP Writing webinar. Discover the nuances of constructing well-structured essays\, conveying ideas clearly\, and adhering to test requirements. This webinar offers practical tips and personalized guidance to excel in the writing section.\nCELPIP Speaking: Unlock the secrets to confident communication in the CELPIP Speaking webinar. Learn to express yourself fluently\, engage in discussions\, and respond effectively to various prompts. Expert insights and interactive practice sessions await\, preparing you to ace the speaking component of the CELPIP test.\n\nEvent Details: \n\nDate: September/12 to October/11\nTime: different timings. Refer to the Event Brochure.\nLocation: Online (Webinar link will be provided upon registration)\nRegistration: Secure your spot by registering for free on the CELPIP webinars page.\n\nDon’t miss this chance to demystify the CELPIP test and gain valuable insights that will set you up for success. Whether you’re aiming for immigration\, education\, or personal growth\, these webinars are designed to cater to your needs. \nIn case you want to know more about how MOSAIC can help you with English Classes and Testing\, visit our services page where you can find most of the free programs.
URL:https://mosaicbc.org/event/free-celpip-test-preparation-webinars/2023-10-11/
LOCATION:Online
CATEGORIES:Online
ATTACH;FMTTYPE=image/png:https://mosaicbc.org/wp-content/uploads/2023/08/CELPIP-test-preparation-webinars.png
ORGANIZER;CN="MOSAIC":MAILTO:info@mosaicbc.org
END:VEVENT
END:VCALENDAR