BEGIN:VCALENDAR
VERSION:2.0
PRODID:-//MOSAIC - ECPv6.15.20//NONSGML v1.0//EN
CALSCALE:GREGORIAN
METHOD:PUBLISH
X-WR-CALNAME:MOSAIC
X-ORIGINAL-URL:https://mosaicbc.org
X-WR-CALDESC:Events for MOSAIC
REFRESH-INTERVAL;VALUE=DURATION:PT1H
X-Robots-Tag:noindex
X-PUBLISHED-TTL:PT1H
BEGIN:VTIMEZONE
TZID:America/Vancouver
BEGIN:DAYLIGHT
TZOFFSETFROM:-0800
TZOFFSETTO:-0700
TZNAME:PDT
DTSTART:20250309T100000
END:DAYLIGHT
BEGIN:STANDARD
TZOFFSETFROM:-0700
TZOFFSETTO:-0800
TZNAME:PST
DTSTART:20251102T090000
END:STANDARD
BEGIN:DAYLIGHT
TZOFFSETFROM:-0800
TZOFFSETTO:-0700
TZNAME:PDT
DTSTART:20260308T100000
END:DAYLIGHT
BEGIN:STANDARD
TZOFFSETFROM:-0700
TZOFFSETTO:-0800
TZNAME:PST
DTSTART:20261101T090000
END:STANDARD
BEGIN:DAYLIGHT
TZOFFSETFROM:-0800
TZOFFSETTO:-0700
TZNAME:PDT
DTSTART:20270314T100000
END:DAYLIGHT
BEGIN:STANDARD
TZOFFSETFROM:-0700
TZOFFSETTO:-0800
TZNAME:PST
DTSTART:20271107T090000
END:STANDARD
END:VTIMEZONE
BEGIN:VEVENT
DTSTART;TZID=America/Vancouver:20260211T100000
DTEND;TZID=America/Vancouver:20260211T120000
DTSTAMP:20260421T125623
CREATED:20250226T003058Z
LAST-MODIFIED:20260204T173727Z
UID:10033982-1770804000-1770811200@mosaicbc.org
SUMMARY:Networking for Job Search Workshop
DESCRIPTION:Are you ready to boost your job search through the power of professional networking?\nJoin us for this interactive and practical workshop designed to help you confidently expand your network and connect with the right people. \nDate: Wednesday\, February 11\, 2026 \nTime: 10:00 a.m. – 12:00 p.m. \nLocation: MOSAIC Head Office\, 5575 Boundary Rd.\, Vancouver \nRegister Here \nIn this session\, you will learn: \n\n\n\nHow to craft a clear and confident networking message\nStrategies to identify and reach out to potential contacts\nWhere to find networking opportunities both online and in-person\nTips on maintaining professional relationships over time.\n\n\n\nYou’ll also have the chance to practice your networking skills in a supportive small-group setting. \nWho Should Attend?\nThis workshop is delivered in English and is open to international students\, open work permit holders\, refugee claimants\, and naturalized Canadian citizens. \nLet your network work for you—take the next step in your job search journey! \nMore Support for Newcomers\nThis workshop is offered through our BC Newcomer Services Program (BCNSP). If you need more help adjusting to life in Canada\, exploring employment\, or accessing community resources\, visit the program page to learn more.
URL:https://mosaicbc.org/event/networking-for-job-search-workshop/
LOCATION:MOSAIC – Boundary\, 5575 Boundary Road\, Vancouver\, British Columbia\, V5R 2P9
CATEGORIES:Employment related events,Other Events,Workshops
ATTACH;FMTTYPE=image/jpeg:https://mosaicbc.org/wp-content/uploads/2025/02/career-fair-scaled.jpg
ORGANIZER;CN="BC Newcomer Services Program (BCNSP)":MAILTO:bcsis@mosaicbc.org
GEO:49.2336134;-123.0236146
X-APPLE-STRUCTURED-LOCATION;VALUE=URI;X-ADDRESS=MOSAIC – Boundary 5575 Boundary Road Vancouver British Columbia V5R 2P9;X-APPLE-RADIUS=500;X-TITLE=5575 Boundary Road:geo:-123.0236146,49.2336134
END:VEVENT
END:VCALENDAR