BEGIN:VCALENDAR
VERSION:2.0
PRODID:-//MOSAIC - ECPv6.15.20//NONSGML v1.0//EN
CALSCALE:GREGORIAN
METHOD:PUBLISH
X-WR-CALNAME:MOSAIC
X-ORIGINAL-URL:https://mosaicbc.org
X-WR-CALDESC:Events for MOSAIC
REFRESH-INTERVAL;VALUE=DURATION:PT1H
X-Robots-Tag:noindex
X-PUBLISHED-TTL:PT1H
BEGIN:VTIMEZONE
TZID:America/Vancouver
BEGIN:DAYLIGHT
TZOFFSETFROM:-0800
TZOFFSETTO:-0700
TZNAME:PDT
DTSTART:20240310T100000
END:DAYLIGHT
BEGIN:STANDARD
TZOFFSETFROM:-0700
TZOFFSETTO:-0800
TZNAME:PST
DTSTART:20241103T090000
END:STANDARD
BEGIN:DAYLIGHT
TZOFFSETFROM:-0800
TZOFFSETTO:-0700
TZNAME:PDT
DTSTART:20250309T100000
END:DAYLIGHT
BEGIN:STANDARD
TZOFFSETFROM:-0700
TZOFFSETTO:-0800
TZNAME:PST
DTSTART:20251102T090000
END:STANDARD
BEGIN:DAYLIGHT
TZOFFSETFROM:-0800
TZOFFSETTO:-0700
TZNAME:PDT
DTSTART:20260308T100000
END:DAYLIGHT
BEGIN:STANDARD
TZOFFSETFROM:-0700
TZOFFSETTO:-0800
TZNAME:PST
DTSTART:20261101T090000
END:STANDARD
END:VTIMEZONE
BEGIN:VEVENT
DTSTART;TZID=America/Vancouver:20251017T180000
DTEND;TZID=America/Vancouver:20251017T203000
DTSTAMP:20260423T210300
CREATED:20250509T220427Z
LAST-MODIFIED:20251015T154421Z
UID:10034041-1760724000-1760733000@mosaicbc.org
SUMMARY:Open Work Permit Info Session for Vulnerable Workers
DESCRIPTION:Are you a temporary foreign worker with a closed work permit in British Columbia? If you are experiencing abuse\, mistreatment\, or unsafe working conditions\, this free online session can help you understand your rights and learn how to apply for an Open Work Permit for Vulnerable Workers (OWP-VW). \nThis virtual information session\, offered by MOSAIC’s Migrant Workers Program\, is designed specifically for Spanish-speaking workers. It provides essential guidance to help you stay safe\, informed\, and empowered to take the next steps toward protecting your status and well-being in Canada. \nWhat to Expect:\n\nDate: Friday\, October 17\, 2025\nTime: 6:00 p.m. – 8:30 p.m.\nLocation: Zoom Meeting (Spanish-language support available)\n\nWhat You’ll Learn:\n\nStep-by-step process of applying for an Open Work Permit for Vulnerable Workers.\nWhat types of abuse or mistreatment qualify for this permit.\nWhich documents and evidence are required for the application.\nTypical processing times and next steps after submitting your application.\n\nPlease note: individual case-specific questions will not be addressed during the group session. \nWho Should Attend:\nThis session is intended for workers who can prepare their own application and wish to better understand eligibility\, documentation\, and the overall process. \nHow to Register:\nTo register\, please contact the Migrant Workers Program team at migrantworkers@mosaicbc.org.When registering\, include: \n\nYour full name\nPhone number\nLocation (city or region)\nIndustry you work in\n\nLearn\, Protect\, and Empower Yourself:\nDon’t miss this opportunity to gain valuable information about the Open Work Permit for Vulnerable Workers. This session is proudly delivered by MOSAIC through its Migrant Workers Program\, and funded by the Government of Canada.
URL:https://mosaicbc.org/event/open-work-permit-info-session/
LOCATION:Online
CATEGORIES:Employment related events,Information Sessions,Online,Other Events
ATTACH;FMTTYPE=image/jpeg:https://mosaicbc.org/wp-content/uploads/2024/03/vulnerable-work-permit-canada-scaled.jpg
ORGANIZER;CN="Migrant Workers Program":MAILTO:migrantworkers@mosaicbc.org
END:VEVENT
END:VCALENDAR