BEGIN:VCALENDAR
VERSION:2.0
PRODID:-//MOSAIC - ECPv6.15.20//NONSGML v1.0//EN
CALSCALE:GREGORIAN
METHOD:PUBLISH
X-WR-CALNAME:MOSAIC
X-ORIGINAL-URL:https://mosaicbc.org
X-WR-CALDESC:Events for MOSAIC
REFRESH-INTERVAL;VALUE=DURATION:PT1H
X-Robots-Tag:noindex
X-PUBLISHED-TTL:PT1H
BEGIN:VTIMEZONE
TZID:America/Vancouver
BEGIN:DAYLIGHT
TZOFFSETFROM:-0800
TZOFFSETTO:-0700
TZNAME:PDT
DTSTART:20240310T100000
END:DAYLIGHT
BEGIN:STANDARD
TZOFFSETFROM:-0700
TZOFFSETTO:-0800
TZNAME:PST
DTSTART:20241103T090000
END:STANDARD
BEGIN:DAYLIGHT
TZOFFSETFROM:-0800
TZOFFSETTO:-0700
TZNAME:PDT
DTSTART:20250309T100000
END:DAYLIGHT
BEGIN:STANDARD
TZOFFSETFROM:-0700
TZOFFSETTO:-0800
TZNAME:PST
DTSTART:20251102T090000
END:STANDARD
BEGIN:DAYLIGHT
TZOFFSETFROM:-0800
TZOFFSETTO:-0700
TZNAME:PDT
DTSTART:20260308T100000
END:DAYLIGHT
BEGIN:STANDARD
TZOFFSETFROM:-0700
TZOFFSETTO:-0800
TZNAME:PST
DTSTART:20261101T090000
END:STANDARD
END:VTIMEZONE
BEGIN:VEVENT
DTSTART;TZID=America/Vancouver:20250219T140000
DTEND;TZID=America/Vancouver:20250219T160000
DTSTAMP:20260424T083149
CREATED:20250210T225445Z
LAST-MODIFIED:20250211T173427Z
UID:10033962-1739973600-1739980800@mosaicbc.org
SUMMARY:Taxes in Canada: Free Tax Information Session with CRA
DESCRIPTION:Understanding taxes in Canada can be confusing\, especially for newcomers\, migrant workers\, and temporary residents. Whether you’re filing for the first time or need clarity on tax obligations\, this free in-person session will help you navigate the process. Hosted in collaboration with the Canada Revenue Agency (CRA)\, this event will provide step-by-step guidance on filing taxes\, understanding deadlines\, and accessing benefits and credits. \nThis session is ideal for:\n✔ Newcomers to Canada who need help understanding tax requirements.\n✔ Temporary foreign workers looking for tax filing support.\n✔ Community members interested in learning about tax benefits. \nBy attending\, you’ll gain the confidence to file your taxes correctly and ensure you receive the benefits you’re entitled to. \nEvent Details\n📅 Date: Wednesday\, February 19\, 2025\n🕑 Time: 2:00 PM – 4:00 PM\n📍 Location: MOSAIC Community Room\, 5575 Boundary Road\, Vancouver\, BC \nWhat You’ll Learn Regarding Taxes In Canada?\nThis informative session will cover:\n📌 When are taxes due in Canada? Key tax deadlines and filing requirements.\n📌 How to file taxes in Canada—a step-by-step guide for newcomers.\n📌 Available tax benefits and credits (GST/HST credit\, Canada Workers Benefit\, and more).\n📌 Tax obligations for temporary foreign workers and non-residents.\n📌 Common tax mistakes to avoid and how to get support if needed. \nThe session will be conducted in English\, with language support available in Spanish\, Tagalog\, Punjabi\, and Hindi. \nHow to Register\n🔗 Complete the registration form. \nBut if you have any questions\, feel free to contact: \n📧 Email: gkaur@mosaicbc.org\n📱 Text: (604) 655-8421 \nWhy Attend This Tax Session?\nFiling taxes is an essential part of financial stability in Canada. By attending this event\, you will:\n✅ Avoid penalties by understanding tax deadlines.\n✅ Ensure you receive eligible benefits and credits.\n✅ Get direct guidance from CRA experts on tax rules for newcomers and workers.\n✅ Ask questions in a supportive environment with multilingual assistance. \nAbout MOSAIC\nThis event is organized by MOSAIC’s Support for Migrant Workers and Employers\, which supports migrant workers in understanding their workplace rights\, accessing community services\, and receiving employment and emergency assistance. The program also supports employers in understanding their responsibilities when hiring workers.
URL:https://mosaicbc.org/event/taxes-in-canada-information-session/
LOCATION:MOSAIC – Boundary\, 5575 Boundary Road\, Vancouver\, British Columbia\, V5R 2P9
CATEGORIES:Information Sessions
ATTACH;FMTTYPE=image/jpeg:https://mosaicbc.org/wp-content/uploads/2025/02/Taxes-in-Canada-scaled.jpg
ORGANIZER;CN="Migrant Workers Program":MAILTO:migrantworkers@mosaicbc.org
GEO:49.2336134;-123.0236146
X-APPLE-STRUCTURED-LOCATION;VALUE=URI;X-ADDRESS=MOSAIC – Boundary 5575 Boundary Road Vancouver British Columbia V5R 2P9;X-APPLE-RADIUS=500;X-TITLE=5575 Boundary Road:geo:-123.0236146,49.2336134
END:VEVENT
END:VCALENDAR