BEGIN:VCALENDAR
VERSION:2.0
PRODID:-//MOSAIC - ECPv6.15.20//NONSGML v1.0//EN
CALSCALE:GREGORIAN
METHOD:PUBLISH
X-WR-CALNAME:MOSAIC
X-ORIGINAL-URL:https://mosaicbc.org
X-WR-CALDESC:Events for MOSAIC
REFRESH-INTERVAL;VALUE=DURATION:PT1H
X-Robots-Tag:noindex
X-PUBLISHED-TTL:PT1H
BEGIN:VTIMEZONE
TZID:America/Los_Angeles
BEGIN:DAYLIGHT
TZOFFSETFROM:-0800
TZOFFSETTO:-0700
TZNAME:PDT
DTSTART:20250309T100000
END:DAYLIGHT
BEGIN:STANDARD
TZOFFSETFROM:-0700
TZOFFSETTO:-0800
TZNAME:PST
DTSTART:20251102T090000
END:STANDARD
BEGIN:DAYLIGHT
TZOFFSETFROM:-0800
TZOFFSETTO:-0700
TZNAME:PDT
DTSTART:20260308T100000
END:DAYLIGHT
BEGIN:STANDARD
TZOFFSETFROM:-0700
TZOFFSETTO:-0800
TZNAME:PST
DTSTART:20261101T090000
END:STANDARD
BEGIN:DAYLIGHT
TZOFFSETFROM:-0800
TZOFFSETTO:-0700
TZNAME:PDT
DTSTART:20270314T100000
END:DAYLIGHT
BEGIN:STANDARD
TZOFFSETFROM:-0700
TZOFFSETTO:-0800
TZNAME:PST
DTSTART:20271107T090000
END:STANDARD
END:VTIMEZONE
BEGIN:VEVENT
DTSTART;TZID=America/Los_Angeles:20260220T120000
DTEND;TZID=America/Los_Angeles:20260220T140000
DTSTAMP:20260419T224613
CREATED:20260218T234058Z
LAST-MODIFIED:20260218T234058Z
UID:10036670-1771588800-1771596000@mosaicbc.org
SUMMARY:Free Income Tax Clinic Info Session: Arabic
DESCRIPTION:Event Details:\n\nWhen: Friday February 20\, 2026 | 12:00 PM – 2:00 PM\nLocation: 5575 Boundary Rd\, Vancouver BC\, V5R 2P9\n\n\nRegistration Form\n\nPlease note: This info session will be conducted in Arabic only. \nAt MOSAIC Tax Clinic\, we understand the importance of accurate tax filing\, especially for individuals with limited income. Here’s what you need to know to take advantage of our services: \nWho Can Benefit:\nTo be eligible for our filing services: \n\nYour Status: Permanent Resident or Protected Person\nTotal Family Income must be below:\n\n1 person: $45\,000/year\n2 people: $60\,000/year\n+ $ 10\,000 for each additional household member under 18.\n\n\n\nWe Cannot Assist If You Have:\n\nBusiness/rental income or expenses\nCapital gains/losses\nFiled for bankruptcy\nSelf-employed with expense deductions\nFiling for a deceased person\n\nIf you have any additional questions\, please email us at taxclinic@mosaicbc.org \nThe MOSAIC Tax Clinic is organized by the Newcomers and Community Building Program (NCBP)\, underscoring our commitment to serving the community and promoting inclusion. For more information about the program and how you can get more support\, please visit the program page on our website. \nDon’t let tax season overwhelm you – seize this opportunity to secure your financial future! Join us at the MOSAIC Tax Clinic and take the first step toward financial support. \n 
URL:https://mosaicbc.org/event/free-income-tax-clinic-info-session-arabic/
LOCATION:MOSAIC – Boundary\, 5575 Boundary Road\, Vancouver\, British Columbia\, V5R 2P9
CATEGORIES:Information Sessions,Other Events
ATTACH;FMTTYPE=image/jpeg:https://mosaicbc.org/wp-content/uploads/2024/02/tax-clinic-scaled.jpg
ORGANIZER;CN="Newcomers and Community Building Program (NCBP)":MAILTO:settlement@mosaicbc.org
GEO:49.2336134;-123.0236146
X-APPLE-STRUCTURED-LOCATION;VALUE=URI;X-ADDRESS=MOSAIC – Boundary 5575 Boundary Road Vancouver British Columbia V5R 2P9;X-APPLE-RADIUS=500;X-TITLE=5575 Boundary Road:geo:-123.0236146,49.2336134
END:VEVENT
END:VCALENDAR