BEGIN:VCALENDAR
VERSION:2.0
PRODID:-//MOSAIC - ECPv6.15.20//NONSGML v1.0//EN
CALSCALE:GREGORIAN
METHOD:PUBLISH
X-WR-CALNAME:MOSAIC
X-ORIGINAL-URL:https://mosaicbc.org
X-WR-CALDESC:Events for MOSAIC
REFRESH-INTERVAL;VALUE=DURATION:PT1H
X-Robots-Tag:noindex
X-PUBLISHED-TTL:PT1H
BEGIN:VTIMEZONE
TZID:America/Los_Angeles
BEGIN:DAYLIGHT
TZOFFSETFROM:-0800
TZOFFSETTO:-0700
TZNAME:PDT
DTSTART:20240310T100000
END:DAYLIGHT
BEGIN:STANDARD
TZOFFSETFROM:-0700
TZOFFSETTO:-0800
TZNAME:PST
DTSTART:20241103T090000
END:STANDARD
BEGIN:DAYLIGHT
TZOFFSETFROM:-0800
TZOFFSETTO:-0700
TZNAME:PDT
DTSTART:20250309T100000
END:DAYLIGHT
BEGIN:STANDARD
TZOFFSETFROM:-0700
TZOFFSETTO:-0800
TZNAME:PST
DTSTART:20251102T090000
END:STANDARD
BEGIN:DAYLIGHT
TZOFFSETFROM:-0800
TZOFFSETTO:-0700
TZNAME:PDT
DTSTART:20260308T100000
END:DAYLIGHT
BEGIN:STANDARD
TZOFFSETFROM:-0700
TZOFFSETTO:-0800
TZNAME:PST
DTSTART:20261101T090000
END:STANDARD
END:VTIMEZONE
BEGIN:VEVENT
DTSTART;TZID=America/Los_Angeles:20250806T183000
DTEND;TZID=America/Los_Angeles:20250806T200000
DTSTAMP:20260421T185246
CREATED:20240612T180237Z
LAST-MODIFIED:20250805T172945Z
UID:10035441-1754505000-1754510400@mosaicbc.org
SUMMARY:Musical Theatre: "Seniors Take On Things We Never Talk About"
DESCRIPTION:Back by popular demand after an incredible 2024–2025 run that drew 1300+ audience members\, the musical theatre production “Seniors Take on Things We Never Talk About” returns this August to Main Stage at Surrey Arts Centre!  \nThrough a unique blend of humour\, music\, and heartfelt storytelling\, this production explores aging stereotypes\, elder abuse\, and the power of connection—challenging societal perceptions while celebrating the strength\, resilience\, and wisdom of seniors. \nPerformance Dates: \n\nAugust 06\, 2025: 6:30-8:00 PM\nAugust 07\, 2025: 2:00-3:30 PM & 6:30-8:00 PM\nAugust 08\, 2025: 2:00-3:30 PM & 6:30-8:00 PM\n📍 Venue: Main Stage at Surrey Arts Centre – 13750 88 Ave\, Surrey\, BC\, V3W 3L1. \n\nAdmission is FREE\, but seats are limited! Register now to secure your spot! \nThis captivating performance\, supported by generous community sponsors\, honours the diverse experiences of immigrant seniors. During an intense six-month period\, the cast of senior performers mastered an original script\, learned original songs\, perfected dance steps\, and navigated stage production challenges. Despite anxiety and language barriers\, their commitment has been inspiring. The 2024-2025 season received rave reviews\, with audiences finding it thought-provoking and emotionally resonant.  \nIn our musical theatre performance\, you are invited to consider:  \n\nHave you ever felt lonely or isolated from your loved ones?\nHow do you feel about being treated as if you’re incapable of understanding?\nWhat are your thoughts on seniors dating and finding love?\nHow do you cope with difficult realities?\n\nThese performances aim to amplify the voices\, experiences\, and wisdom of immigrant seniors. By addressing elder abuse\, ageing stereotypes\, and the importance of social connection\, we hope to spark meaningful conversations and foster a deeper understanding of the challenges faced by our senior community in their ongoing journeys toward self-awareness\, growth\, meaning\, and purpose.  \nStory Behind The Scenes Musical \nKnow more about the story behind the scenes of MOSAIC’s musical as seniors tackle taboo topics. \n \nA little bit more about our cast: \n\n\n\nRediscovering Life: Fery’s Journey from Uncertainty to the Stage\nFinding My Voice: Loretta’s Journey in the Seniors Musical\nOur Musical is In the Media! Read the article about a heartfelt reflection on the power of the production to challenge ageism\, uplift immigrant seniors’ voices\, and spark intergenerational dialogue.\n\n\n\n 
URL:https://mosaicbc.org/event/musical-theatre-surrey-seniors/2025-08-06/
LOCATION:Surrey Arts Centre Main Stage\, 13750 88 Ave\, Surrey\, British Columbia\, V3W 3L1\, Canada
CATEGORIES:Other Events
ATTACH;FMTTYPE=image/jpeg:https://mosaicbc.org/wp-content/uploads/2024/06/musical-theatre-scaled.jpg
ORGANIZER;CN="Seniors Club":MAILTO:seniors@mosaicbc.org
END:VEVENT
BEGIN:VEVENT
DTSTART;TZID=America/Los_Angeles:20250807T140000
DTEND;TZID=America/Los_Angeles:20250807T153000
DTSTAMP:20260421T185246
CREATED:20240612T180237Z
LAST-MODIFIED:20250805T172945Z
UID:10035442-1754575200-1754580600@mosaicbc.org
SUMMARY:Musical Theatre: "Seniors Take On Things We Never Talk About"
DESCRIPTION:Back by popular demand after an incredible 2024–2025 run that drew 1300+ audience members\, the musical theatre production “Seniors Take on Things We Never Talk About” returns this August to Main Stage at Surrey Arts Centre!  \nThrough a unique blend of humour\, music\, and heartfelt storytelling\, this production explores aging stereotypes\, elder abuse\, and the power of connection—challenging societal perceptions while celebrating the strength\, resilience\, and wisdom of seniors. \nPerformance Dates: \n\nAugust 06\, 2025: 6:30-8:00 PM\nAugust 07\, 2025: 2:00-3:30 PM & 6:30-8:00 PM\nAugust 08\, 2025: 2:00-3:30 PM & 6:30-8:00 PM\n📍 Venue: Main Stage at Surrey Arts Centre – 13750 88 Ave\, Surrey\, BC\, V3W 3L1. \n\nAdmission is FREE\, but seats are limited! Register now to secure your spot! \nThis captivating performance\, supported by generous community sponsors\, honours the diverse experiences of immigrant seniors. During an intense six-month period\, the cast of senior performers mastered an original script\, learned original songs\, perfected dance steps\, and navigated stage production challenges. Despite anxiety and language barriers\, their commitment has been inspiring. The 2024-2025 season received rave reviews\, with audiences finding it thought-provoking and emotionally resonant.  \nIn our musical theatre performance\, you are invited to consider:  \n\nHave you ever felt lonely or isolated from your loved ones?\nHow do you feel about being treated as if you’re incapable of understanding?\nWhat are your thoughts on seniors dating and finding love?\nHow do you cope with difficult realities?\n\nThese performances aim to amplify the voices\, experiences\, and wisdom of immigrant seniors. By addressing elder abuse\, ageing stereotypes\, and the importance of social connection\, we hope to spark meaningful conversations and foster a deeper understanding of the challenges faced by our senior community in their ongoing journeys toward self-awareness\, growth\, meaning\, and purpose.  \nStory Behind The Scenes Musical \nKnow more about the story behind the scenes of MOSAIC’s musical as seniors tackle taboo topics. \n \nA little bit more about our cast: \n\n\n\nRediscovering Life: Fery’s Journey from Uncertainty to the Stage\nFinding My Voice: Loretta’s Journey in the Seniors Musical\nOur Musical is In the Media! Read the article about a heartfelt reflection on the power of the production to challenge ageism\, uplift immigrant seniors’ voices\, and spark intergenerational dialogue.\n\n\n\n 
URL:https://mosaicbc.org/event/musical-theatre-surrey-seniors/2025-08-07/1/
LOCATION:Surrey Arts Centre Main Stage\, 13750 88 Ave\, Surrey\, British Columbia\, V3W 3L1\, Canada
CATEGORIES:Other Events
ATTACH;FMTTYPE=image/jpeg:https://mosaicbc.org/wp-content/uploads/2024/06/musical-theatre-scaled.jpg
ORGANIZER;CN="Seniors Club":MAILTO:seniors@mosaicbc.org
END:VEVENT
BEGIN:VEVENT
DTSTART;TZID=America/Los_Angeles:20250807T183000
DTEND;TZID=America/Los_Angeles:20250807T200000
DTSTAMP:20260421T185246
CREATED:20240612T180237Z
LAST-MODIFIED:20250805T172945Z
UID:10035443-1754591400-1754596800@mosaicbc.org
SUMMARY:Musical Theatre: "Seniors Take On Things We Never Talk About"
DESCRIPTION:Back by popular demand after an incredible 2024–2025 run that drew 1300+ audience members\, the musical theatre production “Seniors Take on Things We Never Talk About” returns this August to Main Stage at Surrey Arts Centre!  \nThrough a unique blend of humour\, music\, and heartfelt storytelling\, this production explores aging stereotypes\, elder abuse\, and the power of connection—challenging societal perceptions while celebrating the strength\, resilience\, and wisdom of seniors. \nPerformance Dates: \n\nAugust 06\, 2025: 6:30-8:00 PM\nAugust 07\, 2025: 2:00-3:30 PM & 6:30-8:00 PM\nAugust 08\, 2025: 2:00-3:30 PM & 6:30-8:00 PM\n📍 Venue: Main Stage at Surrey Arts Centre – 13750 88 Ave\, Surrey\, BC\, V3W 3L1. \n\nAdmission is FREE\, but seats are limited! Register now to secure your spot! \nThis captivating performance\, supported by generous community sponsors\, honours the diverse experiences of immigrant seniors. During an intense six-month period\, the cast of senior performers mastered an original script\, learned original songs\, perfected dance steps\, and navigated stage production challenges. Despite anxiety and language barriers\, their commitment has been inspiring. The 2024-2025 season received rave reviews\, with audiences finding it thought-provoking and emotionally resonant.  \nIn our musical theatre performance\, you are invited to consider:  \n\nHave you ever felt lonely or isolated from your loved ones?\nHow do you feel about being treated as if you’re incapable of understanding?\nWhat are your thoughts on seniors dating and finding love?\nHow do you cope with difficult realities?\n\nThese performances aim to amplify the voices\, experiences\, and wisdom of immigrant seniors. By addressing elder abuse\, ageing stereotypes\, and the importance of social connection\, we hope to spark meaningful conversations and foster a deeper understanding of the challenges faced by our senior community in their ongoing journeys toward self-awareness\, growth\, meaning\, and purpose.  \nStory Behind The Scenes Musical \nKnow more about the story behind the scenes of MOSAIC’s musical as seniors tackle taboo topics. \n \nA little bit more about our cast: \n\n\n\nRediscovering Life: Fery’s Journey from Uncertainty to the Stage\nFinding My Voice: Loretta’s Journey in the Seniors Musical\nOur Musical is In the Media! Read the article about a heartfelt reflection on the power of the production to challenge ageism\, uplift immigrant seniors’ voices\, and spark intergenerational dialogue.\n\n\n\n 
URL:https://mosaicbc.org/event/musical-theatre-surrey-seniors/2025-08-07/2/
LOCATION:Surrey Arts Centre Main Stage\, 13750 88 Ave\, Surrey\, British Columbia\, V3W 3L1\, Canada
CATEGORIES:Other Events
ATTACH;FMTTYPE=image/jpeg:https://mosaicbc.org/wp-content/uploads/2024/06/musical-theatre-scaled.jpg
ORGANIZER;CN="Seniors Club":MAILTO:seniors@mosaicbc.org
END:VEVENT
BEGIN:VEVENT
DTSTART;TZID=America/Los_Angeles:20250808T140000
DTEND;TZID=America/Los_Angeles:20250808T153000
DTSTAMP:20260421T185247
CREATED:20240612T180237Z
LAST-MODIFIED:20250805T172945Z
UID:10035444-1754661600-1754667000@mosaicbc.org
SUMMARY:Musical Theatre: "Seniors Take On Things We Never Talk About"
DESCRIPTION:Back by popular demand after an incredible 2024–2025 run that drew 1300+ audience members\, the musical theatre production “Seniors Take on Things We Never Talk About” returns this August to Main Stage at Surrey Arts Centre!  \nThrough a unique blend of humour\, music\, and heartfelt storytelling\, this production explores aging stereotypes\, elder abuse\, and the power of connection—challenging societal perceptions while celebrating the strength\, resilience\, and wisdom of seniors. \nPerformance Dates: \n\nAugust 06\, 2025: 6:30-8:00 PM\nAugust 07\, 2025: 2:00-3:30 PM & 6:30-8:00 PM\nAugust 08\, 2025: 2:00-3:30 PM & 6:30-8:00 PM\n📍 Venue: Main Stage at Surrey Arts Centre – 13750 88 Ave\, Surrey\, BC\, V3W 3L1. \n\nAdmission is FREE\, but seats are limited! Register now to secure your spot! \nThis captivating performance\, supported by generous community sponsors\, honours the diverse experiences of immigrant seniors. During an intense six-month period\, the cast of senior performers mastered an original script\, learned original songs\, perfected dance steps\, and navigated stage production challenges. Despite anxiety and language barriers\, their commitment has been inspiring. The 2024-2025 season received rave reviews\, with audiences finding it thought-provoking and emotionally resonant.  \nIn our musical theatre performance\, you are invited to consider:  \n\nHave you ever felt lonely or isolated from your loved ones?\nHow do you feel about being treated as if you’re incapable of understanding?\nWhat are your thoughts on seniors dating and finding love?\nHow do you cope with difficult realities?\n\nThese performances aim to amplify the voices\, experiences\, and wisdom of immigrant seniors. By addressing elder abuse\, ageing stereotypes\, and the importance of social connection\, we hope to spark meaningful conversations and foster a deeper understanding of the challenges faced by our senior community in their ongoing journeys toward self-awareness\, growth\, meaning\, and purpose.  \nStory Behind The Scenes Musical \nKnow more about the story behind the scenes of MOSAIC’s musical as seniors tackle taboo topics. \n \nA little bit more about our cast: \n\n\n\nRediscovering Life: Fery’s Journey from Uncertainty to the Stage\nFinding My Voice: Loretta’s Journey in the Seniors Musical\nOur Musical is In the Media! Read the article about a heartfelt reflection on the power of the production to challenge ageism\, uplift immigrant seniors’ voices\, and spark intergenerational dialogue.\n\n\n\n 
URL:https://mosaicbc.org/event/musical-theatre-surrey-seniors/2025-08-08/1/
LOCATION:Surrey Arts Centre Main Stage\, 13750 88 Ave\, Surrey\, British Columbia\, V3W 3L1\, Canada
CATEGORIES:Other Events
ATTACH;FMTTYPE=image/jpeg:https://mosaicbc.org/wp-content/uploads/2024/06/musical-theatre-scaled.jpg
ORGANIZER;CN="Seniors Club":MAILTO:seniors@mosaicbc.org
END:VEVENT
BEGIN:VEVENT
DTSTART;TZID=America/Los_Angeles:20250808T183000
DTEND;TZID=America/Los_Angeles:20250808T200000
DTSTAMP:20260421T185247
CREATED:20240612T180237Z
LAST-MODIFIED:20250805T172945Z
UID:10035445-1754677800-1754683200@mosaicbc.org
SUMMARY:Musical Theatre: "Seniors Take On Things We Never Talk About"
DESCRIPTION:Back by popular demand after an incredible 2024–2025 run that drew 1300+ audience members\, the musical theatre production “Seniors Take on Things We Never Talk About” returns this August to Main Stage at Surrey Arts Centre!  \nThrough a unique blend of humour\, music\, and heartfelt storytelling\, this production explores aging stereotypes\, elder abuse\, and the power of connection—challenging societal perceptions while celebrating the strength\, resilience\, and wisdom of seniors. \nPerformance Dates: \n\nAugust 06\, 2025: 6:30-8:00 PM\nAugust 07\, 2025: 2:00-3:30 PM & 6:30-8:00 PM\nAugust 08\, 2025: 2:00-3:30 PM & 6:30-8:00 PM\n📍 Venue: Main Stage at Surrey Arts Centre – 13750 88 Ave\, Surrey\, BC\, V3W 3L1. \n\nAdmission is FREE\, but seats are limited! Register now to secure your spot! \nThis captivating performance\, supported by generous community sponsors\, honours the diverse experiences of immigrant seniors. During an intense six-month period\, the cast of senior performers mastered an original script\, learned original songs\, perfected dance steps\, and navigated stage production challenges. Despite anxiety and language barriers\, their commitment has been inspiring. The 2024-2025 season received rave reviews\, with audiences finding it thought-provoking and emotionally resonant.  \nIn our musical theatre performance\, you are invited to consider:  \n\nHave you ever felt lonely or isolated from your loved ones?\nHow do you feel about being treated as if you’re incapable of understanding?\nWhat are your thoughts on seniors dating and finding love?\nHow do you cope with difficult realities?\n\nThese performances aim to amplify the voices\, experiences\, and wisdom of immigrant seniors. By addressing elder abuse\, ageing stereotypes\, and the importance of social connection\, we hope to spark meaningful conversations and foster a deeper understanding of the challenges faced by our senior community in their ongoing journeys toward self-awareness\, growth\, meaning\, and purpose.  \nStory Behind The Scenes Musical \nKnow more about the story behind the scenes of MOSAIC’s musical as seniors tackle taboo topics. \n \nA little bit more about our cast: \n\n\n\nRediscovering Life: Fery’s Journey from Uncertainty to the Stage\nFinding My Voice: Loretta’s Journey in the Seniors Musical\nOur Musical is In the Media! Read the article about a heartfelt reflection on the power of the production to challenge ageism\, uplift immigrant seniors’ voices\, and spark intergenerational dialogue.\n\n\n\n 
URL:https://mosaicbc.org/event/musical-theatre-surrey-seniors/2025-08-08/2/
LOCATION:Surrey Arts Centre Main Stage\, 13750 88 Ave\, Surrey\, British Columbia\, V3W 3L1\, Canada
CATEGORIES:Other Events
ATTACH;FMTTYPE=image/jpeg:https://mosaicbc.org/wp-content/uploads/2024/06/musical-theatre-scaled.jpg
ORGANIZER;CN="Seniors Club":MAILTO:seniors@mosaicbc.org
END:VEVENT
END:VCALENDAR