BEGIN:VCALENDAR
VERSION:2.0
PRODID:-//MOSAIC - ECPv6.15.20//NONSGML v1.0//EN
CALSCALE:GREGORIAN
METHOD:PUBLISH
X-ORIGINAL-URL:https://mosaicbc.org
X-WR-CALDESC:Events for MOSAIC
REFRESH-INTERVAL;VALUE=DURATION:PT1H
X-Robots-Tag:noindex
X-PUBLISHED-TTL:PT1H
BEGIN:VTIMEZONE
TZID:America/Vancouver
BEGIN:DAYLIGHT
TZOFFSETFROM:-0800
TZOFFSETTO:-0700
TZNAME:PDT
DTSTART:20240310T100000
END:DAYLIGHT
BEGIN:STANDARD
TZOFFSETFROM:-0700
TZOFFSETTO:-0800
TZNAME:PST
DTSTART:20241103T090000
END:STANDARD
BEGIN:DAYLIGHT
TZOFFSETFROM:-0800
TZOFFSETTO:-0700
TZNAME:PDT
DTSTART:20250309T100000
END:DAYLIGHT
BEGIN:STANDARD
TZOFFSETFROM:-0700
TZOFFSETTO:-0800
TZNAME:PST
DTSTART:20251102T090000
END:STANDARD
BEGIN:DAYLIGHT
TZOFFSETFROM:-0800
TZOFFSETTO:-0700
TZNAME:PDT
DTSTART:20260308T100000
END:DAYLIGHT
BEGIN:STANDARD
TZOFFSETFROM:-0700
TZOFFSETTO:-0800
TZNAME:PST
DTSTART:20261101T090000
END:STANDARD
END:VTIMEZONE
BEGIN:VEVENT
DTSTART;TZID=America/Vancouver:20250702T103000
DTEND;TZID=America/Vancouver:20250702T120000
DTSTAMP:20260423T225841
CREATED:20250422T231017Z
LAST-MODIFIED:20250501T000757Z
UID:10034044-1751452200-1751457600@mosaicbc.org
SUMMARY:English Conversation Circle: Improve Your English Skills and Connect with Others
DESCRIPTION:Are you looking to enhance your English communication skills and meet new people from diverse backgrounds? Join our English Conversation Circle\, a friendly and supportive environment where you can practice speaking English\, build your confidence\, and make meaningful connections. \nWhat is the English Conversation Circle?\nThe English Conversation Circle is a weekly gathering organized by MOSAIC’s Newcomers and Community Building Program (NCBP)\, designed to help you improve your English language skills in an informal and interactive setting. Whether you’re new to Canada or simply looking to practice your conversational English\, this circle is the perfect place to learn and grow together with others. \nWe will be providing coffee\, tea\, and snacks\, as well as any stationary we might need you to use. \nWhy Join?\n\nPractice Speaking English: Each session offers the opportunity to engage in conversations about everyday topics\, helping you to become more comfortable with the language.\nBuild Confidence: Gain the confidence you need to use English in daily life\, whether you’re at work\, school\, or social situations.\nMeet New People: Connect with people from various backgrounds who are also eager to improve their English\, fostering a sense of community and belonging.\n\nWho Can Participate?\nThis event is open to newcomers\, residents\, and citizens of all English proficiency levels\, Prioritizing permanent residents\, protected persons\, and CUAET holders. Everyone is welcome to join\, no matter your current skill level. The circle is designed to be inclusive and supportive\, making it easy for you to practice in a low-pressure environment. \nEnglish Conversation Circle Event Details\n\nDates: May 14 to July 30\, 2025\nTime: Every Wednesday from 10:30 AM to 12:00 PM\nLocation: 5575 Boundary Road\, Vancouver\, BC V5R 2P9\nRegistration: Bring your family and friends\, but don’t forget to register you and them. \nEvent Poster\n\nHow to Get Involved\nThis event is organized by the Newcomers and Community Building Program (NCBP). If you are looking for more support\, feel free to visit the program page to know more how can we help you. \nDon’t miss this chance to improve your English and meet others in a supportive and engaging setting!
URL:https://mosaicbc.org/event/english-conversation-circle-2-3/2025-07-02/
LOCATION:MOSAIC – Boundary\, 5575 Boundary Road\, Vancouver\, British Columbia\, V5R 2P9
CATEGORIES:Conversation Circles,Information Sessions
ATTACH;FMTTYPE=image/jpeg:https://mosaicbc.org/wp-content/uploads/2024/04/english-conversation-circle-scaled.jpg
ORGANIZER;CN="Newcomers and Community Building Program (NCBP)":MAILTO:settlement@mosaicbc.org
GEO:49.2336134;-123.0236146
X-APPLE-STRUCTURED-LOCATION;VALUE=URI;X-ADDRESS=MOSAIC – Boundary 5575 Boundary Road Vancouver British Columbia V5R 2P9;X-APPLE-RADIUS=500;X-TITLE=5575 Boundary Road:geo:-123.0236146,49.2336134
END:VEVENT
BEGIN:VEVENT
DTSTART;TZID=America/Vancouver:20250709T103000
DTEND;TZID=America/Vancouver:20250709T120000
DTSTAMP:20260423T225841
CREATED:20250422T231017Z
LAST-MODIFIED:20250501T000757Z
UID:10034045-1752057000-1752062400@mosaicbc.org
SUMMARY:English Conversation Circle: Improve Your English Skills and Connect with Others
DESCRIPTION:Are you looking to enhance your English communication skills and meet new people from diverse backgrounds? Join our English Conversation Circle\, a friendly and supportive environment where you can practice speaking English\, build your confidence\, and make meaningful connections. \nWhat is the English Conversation Circle?\nThe English Conversation Circle is a weekly gathering organized by MOSAIC’s Newcomers and Community Building Program (NCBP)\, designed to help you improve your English language skills in an informal and interactive setting. Whether you’re new to Canada or simply looking to practice your conversational English\, this circle is the perfect place to learn and grow together with others. \nWe will be providing coffee\, tea\, and snacks\, as well as any stationary we might need you to use. \nWhy Join?\n\nPractice Speaking English: Each session offers the opportunity to engage in conversations about everyday topics\, helping you to become more comfortable with the language.\nBuild Confidence: Gain the confidence you need to use English in daily life\, whether you’re at work\, school\, or social situations.\nMeet New People: Connect with people from various backgrounds who are also eager to improve their English\, fostering a sense of community and belonging.\n\nWho Can Participate?\nThis event is open to newcomers\, residents\, and citizens of all English proficiency levels\, Prioritizing permanent residents\, protected persons\, and CUAET holders. Everyone is welcome to join\, no matter your current skill level. The circle is designed to be inclusive and supportive\, making it easy for you to practice in a low-pressure environment. \nEnglish Conversation Circle Event Details\n\nDates: May 14 to July 30\, 2025\nTime: Every Wednesday from 10:30 AM to 12:00 PM\nLocation: 5575 Boundary Road\, Vancouver\, BC V5R 2P9\nRegistration: Bring your family and friends\, but don’t forget to register you and them. \nEvent Poster\n\nHow to Get Involved\nThis event is organized by the Newcomers and Community Building Program (NCBP). If you are looking for more support\, feel free to visit the program page to know more how can we help you. \nDon’t miss this chance to improve your English and meet others in a supportive and engaging setting!
URL:https://mosaicbc.org/event/english-conversation-circle-2-3/2025-07-09/
LOCATION:MOSAIC – Boundary\, 5575 Boundary Road\, Vancouver\, British Columbia\, V5R 2P9
CATEGORIES:Conversation Circles,Information Sessions
ATTACH;FMTTYPE=image/jpeg:https://mosaicbc.org/wp-content/uploads/2024/04/english-conversation-circle-scaled.jpg
ORGANIZER;CN="Newcomers and Community Building Program (NCBP)":MAILTO:settlement@mosaicbc.org
GEO:49.2336134;-123.0236146
X-APPLE-STRUCTURED-LOCATION;VALUE=URI;X-ADDRESS=MOSAIC – Boundary 5575 Boundary Road Vancouver British Columbia V5R 2P9;X-APPLE-RADIUS=500;X-TITLE=5575 Boundary Road:geo:-123.0236146,49.2336134
END:VEVENT
BEGIN:VEVENT
DTSTART;TZID=America/Vancouver:20250711T160000
DTEND;TZID=America/Vancouver:20250711T183000
DTSTAMP:20260423T225841
CREATED:20250429T170524Z
LAST-MODIFIED:20250624T181841Z
UID:10034142-1752249600-1752258600@mosaicbc.org
SUMMARY:Newcomer Youth Creative Space - 🎉 Welcome Studio
DESCRIPTION:Are you a newcomer youth looking to make friends\, express yourself\, and feel more connected in your new community? You’re invited to the Welcome Studio —a vibrant\, inclusive space where art meets belonging! \nThe Welcome Studio is a creative art program designed especially for newcomer youth in Vancouver. Whether you love painting\, sketching\, crafting\, or simply want a fun place to hang out after school\, this is your space to shine. No experience needed—just bring your imagination and come as you are! \nEvent Details:\n📍Location: CNH Annex\, 3690 Vanness Ave\, Vancouver\, BC V5R 5B6 \n🗓️ Dates:  June 13 & 27; July 11 & 25; August 8 & 22 \n⏰ Time: All sessions run from 4:00 PM – 6:30 PM \nRegister now to save your spot! \nRefreshments will be provided \nWhy should you join?\n✔️ Meet other newcomer youth who are also navigating a new city and culture.✔️ Express your creativity through guided hands-on activities like painting\, drawing\, and mixed media.✔️ Build confidence in a welcoming\, non-judgmental environment.✔️ Enjoy free food (yes\, there will be pizza!) and meaningful conversation. \nWe know that starting fresh in a new country can be both exciting and challenging. The Welcome Studio is here to support you with a fun\, safe\, and friendly place to be yourself\, make memories\, and feel at home in Vancouver. \nThis program is hosted by MOSAIC\, in collaboration with SWIS Vancouver and Collingwood Neighbourhood House.
URL:https://mosaicbc.org/event/newcomer-youth-creative-space/2025-07-11/
LOCATION:CNH Annex\, 5288 Joyce St\, Vancouver\, British Columbia\, V5R 6C9\, Canada
CATEGORIES:Other Events
ATTACH;FMTTYPE=image/jpeg:https://mosaicbc.org/wp-content/uploads/2025/04/financial-literacy-for-young-adults-scaled.jpg
ORGANIZER;CN="MOSAIC":MAILTO:info@mosaicbc.org
END:VEVENT
BEGIN:VEVENT
DTSTART;TZID=America/Vancouver:20250716T103000
DTEND;TZID=America/Vancouver:20250716T120000
DTSTAMP:20260423T225841
CREATED:20250422T231017Z
LAST-MODIFIED:20250501T000757Z
UID:10034046-1752661800-1752667200@mosaicbc.org
SUMMARY:English Conversation Circle: Improve Your English Skills and Connect with Others
DESCRIPTION:Are you looking to enhance your English communication skills and meet new people from diverse backgrounds? Join our English Conversation Circle\, a friendly and supportive environment where you can practice speaking English\, build your confidence\, and make meaningful connections. \nWhat is the English Conversation Circle?\nThe English Conversation Circle is a weekly gathering organized by MOSAIC’s Newcomers and Community Building Program (NCBP)\, designed to help you improve your English language skills in an informal and interactive setting. Whether you’re new to Canada or simply looking to practice your conversational English\, this circle is the perfect place to learn and grow together with others. \nWe will be providing coffee\, tea\, and snacks\, as well as any stationary we might need you to use. \nWhy Join?\n\nPractice Speaking English: Each session offers the opportunity to engage in conversations about everyday topics\, helping you to become more comfortable with the language.\nBuild Confidence: Gain the confidence you need to use English in daily life\, whether you’re at work\, school\, or social situations.\nMeet New People: Connect with people from various backgrounds who are also eager to improve their English\, fostering a sense of community and belonging.\n\nWho Can Participate?\nThis event is open to newcomers\, residents\, and citizens of all English proficiency levels\, Prioritizing permanent residents\, protected persons\, and CUAET holders. Everyone is welcome to join\, no matter your current skill level. The circle is designed to be inclusive and supportive\, making it easy for you to practice in a low-pressure environment. \nEnglish Conversation Circle Event Details\n\nDates: May 14 to July 30\, 2025\nTime: Every Wednesday from 10:30 AM to 12:00 PM\nLocation: 5575 Boundary Road\, Vancouver\, BC V5R 2P9\nRegistration: Bring your family and friends\, but don’t forget to register you and them. \nEvent Poster\n\nHow to Get Involved\nThis event is organized by the Newcomers and Community Building Program (NCBP). If you are looking for more support\, feel free to visit the program page to know more how can we help you. \nDon’t miss this chance to improve your English and meet others in a supportive and engaging setting!
URL:https://mosaicbc.org/event/english-conversation-circle-2-3/2025-07-16/
LOCATION:MOSAIC – Boundary\, 5575 Boundary Road\, Vancouver\, British Columbia\, V5R 2P9
CATEGORIES:Conversation Circles,Information Sessions
ATTACH;FMTTYPE=image/jpeg:https://mosaicbc.org/wp-content/uploads/2024/04/english-conversation-circle-scaled.jpg
ORGANIZER;CN="Newcomers and Community Building Program (NCBP)":MAILTO:settlement@mosaicbc.org
GEO:49.2336134;-123.0236146
X-APPLE-STRUCTURED-LOCATION;VALUE=URI;X-ADDRESS=MOSAIC – Boundary 5575 Boundary Road Vancouver British Columbia V5R 2P9;X-APPLE-RADIUS=500;X-TITLE=5575 Boundary Road:geo:-123.0236146,49.2336134
END:VEVENT
BEGIN:VEVENT
DTSTART;TZID=America/Vancouver:20250723T103000
DTEND;TZID=America/Vancouver:20250723T120000
DTSTAMP:20260423T225841
CREATED:20250422T231017Z
LAST-MODIFIED:20250501T000757Z
UID:10034047-1753266600-1753272000@mosaicbc.org
SUMMARY:English Conversation Circle: Improve Your English Skills and Connect with Others
DESCRIPTION:Are you looking to enhance your English communication skills and meet new people from diverse backgrounds? Join our English Conversation Circle\, a friendly and supportive environment where you can practice speaking English\, build your confidence\, and make meaningful connections. \nWhat is the English Conversation Circle?\nThe English Conversation Circle is a weekly gathering organized by MOSAIC’s Newcomers and Community Building Program (NCBP)\, designed to help you improve your English language skills in an informal and interactive setting. Whether you’re new to Canada or simply looking to practice your conversational English\, this circle is the perfect place to learn and grow together with others. \nWe will be providing coffee\, tea\, and snacks\, as well as any stationary we might need you to use. \nWhy Join?\n\nPractice Speaking English: Each session offers the opportunity to engage in conversations about everyday topics\, helping you to become more comfortable with the language.\nBuild Confidence: Gain the confidence you need to use English in daily life\, whether you’re at work\, school\, or social situations.\nMeet New People: Connect with people from various backgrounds who are also eager to improve their English\, fostering a sense of community and belonging.\n\nWho Can Participate?\nThis event is open to newcomers\, residents\, and citizens of all English proficiency levels\, Prioritizing permanent residents\, protected persons\, and CUAET holders. Everyone is welcome to join\, no matter your current skill level. The circle is designed to be inclusive and supportive\, making it easy for you to practice in a low-pressure environment. \nEnglish Conversation Circle Event Details\n\nDates: May 14 to July 30\, 2025\nTime: Every Wednesday from 10:30 AM to 12:00 PM\nLocation: 5575 Boundary Road\, Vancouver\, BC V5R 2P9\nRegistration: Bring your family and friends\, but don’t forget to register you and them. \nEvent Poster\n\nHow to Get Involved\nThis event is organized by the Newcomers and Community Building Program (NCBP). If you are looking for more support\, feel free to visit the program page to know more how can we help you. \nDon’t miss this chance to improve your English and meet others in a supportive and engaging setting!
URL:https://mosaicbc.org/event/english-conversation-circle-2-3/2025-07-23/
LOCATION:MOSAIC – Boundary\, 5575 Boundary Road\, Vancouver\, British Columbia\, V5R 2P9
CATEGORIES:Conversation Circles,Information Sessions
ATTACH;FMTTYPE=image/jpeg:https://mosaicbc.org/wp-content/uploads/2024/04/english-conversation-circle-scaled.jpg
ORGANIZER;CN="Newcomers and Community Building Program (NCBP)":MAILTO:settlement@mosaicbc.org
GEO:49.2336134;-123.0236146
X-APPLE-STRUCTURED-LOCATION;VALUE=URI;X-ADDRESS=MOSAIC – Boundary 5575 Boundary Road Vancouver British Columbia V5R 2P9;X-APPLE-RADIUS=500;X-TITLE=5575 Boundary Road:geo:-123.0236146,49.2336134
END:VEVENT
BEGIN:VEVENT
DTSTART;TZID=America/Vancouver:20250725T160000
DTEND;TZID=America/Vancouver:20250725T183000
DTSTAMP:20260423T225841
CREATED:20250429T170524Z
LAST-MODIFIED:20250624T181841Z
UID:10034143-1753459200-1753468200@mosaicbc.org
SUMMARY:Newcomer Youth Creative Space - 🎉 Welcome Studio
DESCRIPTION:Are you a newcomer youth looking to make friends\, express yourself\, and feel more connected in your new community? You’re invited to the Welcome Studio —a vibrant\, inclusive space where art meets belonging! \nThe Welcome Studio is a creative art program designed especially for newcomer youth in Vancouver. Whether you love painting\, sketching\, crafting\, or simply want a fun place to hang out after school\, this is your space to shine. No experience needed—just bring your imagination and come as you are! \nEvent Details:\n📍Location: CNH Annex\, 3690 Vanness Ave\, Vancouver\, BC V5R 5B6 \n🗓️ Dates:  June 13 & 27; July 11 & 25; August 8 & 22 \n⏰ Time: All sessions run from 4:00 PM – 6:30 PM \nRegister now to save your spot! \nRefreshments will be provided \nWhy should you join?\n✔️ Meet other newcomer youth who are also navigating a new city and culture.✔️ Express your creativity through guided hands-on activities like painting\, drawing\, and mixed media.✔️ Build confidence in a welcoming\, non-judgmental environment.✔️ Enjoy free food (yes\, there will be pizza!) and meaningful conversation. \nWe know that starting fresh in a new country can be both exciting and challenging. The Welcome Studio is here to support you with a fun\, safe\, and friendly place to be yourself\, make memories\, and feel at home in Vancouver. \nThis program is hosted by MOSAIC\, in collaboration with SWIS Vancouver and Collingwood Neighbourhood House.
URL:https://mosaicbc.org/event/newcomer-youth-creative-space/2025-07-25/
LOCATION:CNH Annex\, 5288 Joyce St\, Vancouver\, British Columbia\, V5R 6C9\, Canada
CATEGORIES:Other Events
ATTACH;FMTTYPE=image/jpeg:https://mosaicbc.org/wp-content/uploads/2025/04/financial-literacy-for-young-adults-scaled.jpg
ORGANIZER;CN="MOSAIC":MAILTO:info@mosaicbc.org
END:VEVENT
BEGIN:VEVENT
DTSTART;TZID=America/Vancouver:20250730T103000
DTEND;TZID=America/Vancouver:20250730T120000
DTSTAMP:20260423T225841
CREATED:20250422T231017Z
LAST-MODIFIED:20250501T000757Z
UID:10034048-1753871400-1753876800@mosaicbc.org
SUMMARY:English Conversation Circle: Improve Your English Skills and Connect with Others
DESCRIPTION:Are you looking to enhance your English communication skills and meet new people from diverse backgrounds? Join our English Conversation Circle\, a friendly and supportive environment where you can practice speaking English\, build your confidence\, and make meaningful connections. \nWhat is the English Conversation Circle?\nThe English Conversation Circle is a weekly gathering organized by MOSAIC’s Newcomers and Community Building Program (NCBP)\, designed to help you improve your English language skills in an informal and interactive setting. Whether you’re new to Canada or simply looking to practice your conversational English\, this circle is the perfect place to learn and grow together with others. \nWe will be providing coffee\, tea\, and snacks\, as well as any stationary we might need you to use. \nWhy Join?\n\nPractice Speaking English: Each session offers the opportunity to engage in conversations about everyday topics\, helping you to become more comfortable with the language.\nBuild Confidence: Gain the confidence you need to use English in daily life\, whether you’re at work\, school\, or social situations.\nMeet New People: Connect with people from various backgrounds who are also eager to improve their English\, fostering a sense of community and belonging.\n\nWho Can Participate?\nThis event is open to newcomers\, residents\, and citizens of all English proficiency levels\, Prioritizing permanent residents\, protected persons\, and CUAET holders. Everyone is welcome to join\, no matter your current skill level. The circle is designed to be inclusive and supportive\, making it easy for you to practice in a low-pressure environment. \nEnglish Conversation Circle Event Details\n\nDates: May 14 to July 30\, 2025\nTime: Every Wednesday from 10:30 AM to 12:00 PM\nLocation: 5575 Boundary Road\, Vancouver\, BC V5R 2P9\nRegistration: Bring your family and friends\, but don’t forget to register you and them. \nEvent Poster\n\nHow to Get Involved\nThis event is organized by the Newcomers and Community Building Program (NCBP). If you are looking for more support\, feel free to visit the program page to know more how can we help you. \nDon’t miss this chance to improve your English and meet others in a supportive and engaging setting!
URL:https://mosaicbc.org/event/english-conversation-circle-2-3/2025-07-30/
LOCATION:MOSAIC – Boundary\, 5575 Boundary Road\, Vancouver\, British Columbia\, V5R 2P9
CATEGORIES:Conversation Circles,Information Sessions
ATTACH;FMTTYPE=image/jpeg:https://mosaicbc.org/wp-content/uploads/2024/04/english-conversation-circle-scaled.jpg
ORGANIZER;CN="Newcomers and Community Building Program (NCBP)":MAILTO:settlement@mosaicbc.org
GEO:49.2336134;-123.0236146
X-APPLE-STRUCTURED-LOCATION;VALUE=URI;X-ADDRESS=MOSAIC – Boundary 5575 Boundary Road Vancouver British Columbia V5R 2P9;X-APPLE-RADIUS=500;X-TITLE=5575 Boundary Road:geo:-123.0236146,49.2336134
END:VEVENT
END:VCALENDAR