BEGIN:VCALENDAR
VERSION:2.0
PRODID:-//MOSAIC - ECPv6.15.20//NONSGML v1.0//EN
CALSCALE:GREGORIAN
METHOD:PUBLISH
X-WR-CALNAME:MOSAIC
X-ORIGINAL-URL:https://mosaicbc.org
X-WR-CALDESC:Events for MOSAIC
REFRESH-INTERVAL;VALUE=DURATION:PT1H
X-Robots-Tag:noindex
X-PUBLISHED-TTL:PT1H
BEGIN:VTIMEZONE
TZID:America/Los_Angeles
BEGIN:DAYLIGHT
TZOFFSETFROM:-0800
TZOFFSETTO:-0700
TZNAME:PDT
DTSTART:20230312T100000
END:DAYLIGHT
BEGIN:STANDARD
TZOFFSETFROM:-0700
TZOFFSETTO:-0800
TZNAME:PST
DTSTART:20231105T090000
END:STANDARD
BEGIN:DAYLIGHT
TZOFFSETFROM:-0800
TZOFFSETTO:-0700
TZNAME:PDT
DTSTART:20240310T100000
END:DAYLIGHT
BEGIN:STANDARD
TZOFFSETFROM:-0700
TZOFFSETTO:-0800
TZNAME:PST
DTSTART:20241103T090000
END:STANDARD
BEGIN:DAYLIGHT
TZOFFSETFROM:-0800
TZOFFSETTO:-0700
TZNAME:PDT
DTSTART:20250309T100000
END:DAYLIGHT
BEGIN:STANDARD
TZOFFSETFROM:-0700
TZOFFSETTO:-0800
TZNAME:PST
DTSTART:20251102T090000
END:STANDARD
END:VTIMEZONE
BEGIN:VEVENT
DTSTART;TZID=America/Los_Angeles:20240715T103000
DTEND;TZID=America/Los_Angeles:20240715T120000
DTSTAMP:20260419T081226
CREATED:20240703T182044Z
LAST-MODIFIED:20240719T180758Z
UID:10032952-1721039400-1721044800@mosaicbc.org
SUMMARY:The Blooming Hearts - Women Support Group
DESCRIPTION:Are you looking for a supportive community where you can find understanding and companionship? Join The Blooming Hearts\, a dedicated group for women who have experienced intimate partner violence. \nAt The Blooming Hearts\, we delve into a variety of important topics aimed at personal well-being and recovery. Our discussions and activities focus on fostering self-love\, encouraging personal growth\, and developing effective relaxation strategies. Register to join a safe\, non-judgmental space whether you are seeking emotional support or simply a place to connect with others who understand your journey. \nEvent details:  \n\nDate: July 15\, 22\, 29\, and August 6\nLocation: In-person at MOSAIC’s Boundary location (5575 Boundary Road\, Vancouver BC V5R 2P9)\nTime: 10:30 AM – 12:00 PM\nRegistration Form\nView the event flyer\nFor any questions please email kinoue@mosaicbc.org or call MOSAIC’s main office at 604-254-9626.\n\nWhat You Can Expect From The Blooming Hearts Event: \nThe Blooming Hearts will host collaborative and interactive activities across a range of self-healing and reflective topics. \nTopics include: \n\nRecognizing\, Regulating\, and Accepting our Emotions: Identify emotional triggers\, understand feelings\, and learn techniques to manage and express emotions.\nEmbracing our Imperfections: Explore the importance of self-acceptance to develop a more positive self-image and foster a deeper sense of self-worth.\nLoving and Appreciating Ourselves: Delve into the practices of self-love by recognizing your strengths\, setting healthy boundaries\, and celebrating your achievements.\n\nActivities include: \n\nEngaging Art-based Activities: We offer artistic activities to provide a therapeutic outlet for self-expression.\nRelaxation Exercises: We practice different relaxation techniques to help reduce stress and promote mental clarity.\nGroup Discussions: Our facilitated discussions provide a platform for sharing stories\, offering support\, and gaining insights from others who have faced similar challenges.\nFun Games: We incorporate enjoyable and interactive games to help build connections.\n\nAbout the Organizer: \nThis event is organized by Stopping the Violence Counselling for Women. This program provides free and confidential support for women experiencing or at risk of abuse or violence. To find out more information\, please visit the program page\, as well as other events for women.
URL:https://mosaicbc.org/event/the-blooming-hearts-women-support-group/2024-07-15/
LOCATION:MOSAIC – Boundary\, 5575 Boundary Road\, Vancouver\, British Columbia\, V5R 2P9
CATEGORIES:Other Events
ATTACH;FMTTYPE=image/jpeg:https://mosaicbc.org/wp-content/uploads/2024/07/The-Blooming-Hearts-1-scaled.jpg
ORGANIZER;CN="Stopping the Violence Counselling for Women":MAILTO:stvc@mosaicbc.org
GEO:49.2336134;-123.0236146
X-APPLE-STRUCTURED-LOCATION;VALUE=URI;X-ADDRESS=MOSAIC – Boundary 5575 Boundary Road Vancouver British Columbia V5R 2P9;X-APPLE-RADIUS=500;X-TITLE=5575 Boundary Road:geo:-123.0236146,49.2336134
END:VEVENT
BEGIN:VEVENT
DTSTART;TZID=America/Los_Angeles:20240722T103000
DTEND;TZID=America/Los_Angeles:20240722T120000
DTSTAMP:20260419T081226
CREATED:20240703T182044Z
LAST-MODIFIED:20240719T180758Z
UID:10032953-1721644200-1721649600@mosaicbc.org
SUMMARY:The Blooming Hearts - Women Support Group
DESCRIPTION:Are you looking for a supportive community where you can find understanding and companionship? Join The Blooming Hearts\, a dedicated group for women who have experienced intimate partner violence. \nAt The Blooming Hearts\, we delve into a variety of important topics aimed at personal well-being and recovery. Our discussions and activities focus on fostering self-love\, encouraging personal growth\, and developing effective relaxation strategies. Register to join a safe\, non-judgmental space whether you are seeking emotional support or simply a place to connect with others who understand your journey. \nEvent details:  \n\nDate: July 15\, 22\, 29\, and August 6\nLocation: In-person at MOSAIC’s Boundary location (5575 Boundary Road\, Vancouver BC V5R 2P9)\nTime: 10:30 AM – 12:00 PM\nRegistration Form\nView the event flyer\nFor any questions please email kinoue@mosaicbc.org or call MOSAIC’s main office at 604-254-9626.\n\nWhat You Can Expect From The Blooming Hearts Event: \nThe Blooming Hearts will host collaborative and interactive activities across a range of self-healing and reflective topics. \nTopics include: \n\nRecognizing\, Regulating\, and Accepting our Emotions: Identify emotional triggers\, understand feelings\, and learn techniques to manage and express emotions.\nEmbracing our Imperfections: Explore the importance of self-acceptance to develop a more positive self-image and foster a deeper sense of self-worth.\nLoving and Appreciating Ourselves: Delve into the practices of self-love by recognizing your strengths\, setting healthy boundaries\, and celebrating your achievements.\n\nActivities include: \n\nEngaging Art-based Activities: We offer artistic activities to provide a therapeutic outlet for self-expression.\nRelaxation Exercises: We practice different relaxation techniques to help reduce stress and promote mental clarity.\nGroup Discussions: Our facilitated discussions provide a platform for sharing stories\, offering support\, and gaining insights from others who have faced similar challenges.\nFun Games: We incorporate enjoyable and interactive games to help build connections.\n\nAbout the Organizer: \nThis event is organized by Stopping the Violence Counselling for Women. This program provides free and confidential support for women experiencing or at risk of abuse or violence. To find out more information\, please visit the program page\, as well as other events for women.
URL:https://mosaicbc.org/event/the-blooming-hearts-women-support-group/2024-07-22/
LOCATION:MOSAIC – Boundary\, 5575 Boundary Road\, Vancouver\, British Columbia\, V5R 2P9
CATEGORIES:Other Events
ATTACH;FMTTYPE=image/jpeg:https://mosaicbc.org/wp-content/uploads/2024/07/The-Blooming-Hearts-1-scaled.jpg
ORGANIZER;CN="Stopping the Violence Counselling for Women":MAILTO:stvc@mosaicbc.org
GEO:49.2336134;-123.0236146
X-APPLE-STRUCTURED-LOCATION;VALUE=URI;X-ADDRESS=MOSAIC – Boundary 5575 Boundary Road Vancouver British Columbia V5R 2P9;X-APPLE-RADIUS=500;X-TITLE=5575 Boundary Road:geo:-123.0236146,49.2336134
END:VEVENT
BEGIN:VEVENT
DTSTART;TZID=America/Los_Angeles:20240729T103000
DTEND;TZID=America/Los_Angeles:20240729T120000
DTSTAMP:20260419T081226
CREATED:20240703T182044Z
LAST-MODIFIED:20240719T180758Z
UID:10032954-1722249000-1722254400@mosaicbc.org
SUMMARY:The Blooming Hearts - Women Support Group
DESCRIPTION:Are you looking for a supportive community where you can find understanding and companionship? Join The Blooming Hearts\, a dedicated group for women who have experienced intimate partner violence. \nAt The Blooming Hearts\, we delve into a variety of important topics aimed at personal well-being and recovery. Our discussions and activities focus on fostering self-love\, encouraging personal growth\, and developing effective relaxation strategies. Register to join a safe\, non-judgmental space whether you are seeking emotional support or simply a place to connect with others who understand your journey. \nEvent details:  \n\nDate: July 15\, 22\, 29\, and August 6\nLocation: In-person at MOSAIC’s Boundary location (5575 Boundary Road\, Vancouver BC V5R 2P9)\nTime: 10:30 AM – 12:00 PM\nRegistration Form\nView the event flyer\nFor any questions please email kinoue@mosaicbc.org or call MOSAIC’s main office at 604-254-9626.\n\nWhat You Can Expect From The Blooming Hearts Event: \nThe Blooming Hearts will host collaborative and interactive activities across a range of self-healing and reflective topics. \nTopics include: \n\nRecognizing\, Regulating\, and Accepting our Emotions: Identify emotional triggers\, understand feelings\, and learn techniques to manage and express emotions.\nEmbracing our Imperfections: Explore the importance of self-acceptance to develop a more positive self-image and foster a deeper sense of self-worth.\nLoving and Appreciating Ourselves: Delve into the practices of self-love by recognizing your strengths\, setting healthy boundaries\, and celebrating your achievements.\n\nActivities include: \n\nEngaging Art-based Activities: We offer artistic activities to provide a therapeutic outlet for self-expression.\nRelaxation Exercises: We practice different relaxation techniques to help reduce stress and promote mental clarity.\nGroup Discussions: Our facilitated discussions provide a platform for sharing stories\, offering support\, and gaining insights from others who have faced similar challenges.\nFun Games: We incorporate enjoyable and interactive games to help build connections.\n\nAbout the Organizer: \nThis event is organized by Stopping the Violence Counselling for Women. This program provides free and confidential support for women experiencing or at risk of abuse or violence. To find out more information\, please visit the program page\, as well as other events for women.
URL:https://mosaicbc.org/event/the-blooming-hearts-women-support-group/2024-07-29/
LOCATION:MOSAIC – Boundary\, 5575 Boundary Road\, Vancouver\, British Columbia\, V5R 2P9
CATEGORIES:Other Events
ATTACH;FMTTYPE=image/jpeg:https://mosaicbc.org/wp-content/uploads/2024/07/The-Blooming-Hearts-1-scaled.jpg
ORGANIZER;CN="Stopping the Violence Counselling for Women":MAILTO:stvc@mosaicbc.org
GEO:49.2336134;-123.0236146
X-APPLE-STRUCTURED-LOCATION;VALUE=URI;X-ADDRESS=MOSAIC – Boundary 5575 Boundary Road Vancouver British Columbia V5R 2P9;X-APPLE-RADIUS=500;X-TITLE=5575 Boundary Road:geo:-123.0236146,49.2336134
END:VEVENT
BEGIN:VEVENT
DTSTART;TZID=America/Los_Angeles:20240806T103000
DTEND;TZID=America/Los_Angeles:20240806T120000
DTSTAMP:20260419T081226
CREATED:20240703T182044Z
LAST-MODIFIED:20240719T180758Z
UID:10032955-1722940200-1722945600@mosaicbc.org
SUMMARY:The Blooming Hearts - Women Support Group
DESCRIPTION:Are you looking for a supportive community where you can find understanding and companionship? Join The Blooming Hearts\, a dedicated group for women who have experienced intimate partner violence. \nAt The Blooming Hearts\, we delve into a variety of important topics aimed at personal well-being and recovery. Our discussions and activities focus on fostering self-love\, encouraging personal growth\, and developing effective relaxation strategies. Register to join a safe\, non-judgmental space whether you are seeking emotional support or simply a place to connect with others who understand your journey. \nEvent details:  \n\nDate: July 15\, 22\, 29\, and August 6\nLocation: In-person at MOSAIC’s Boundary location (5575 Boundary Road\, Vancouver BC V5R 2P9)\nTime: 10:30 AM – 12:00 PM\nRegistration Form\nView the event flyer\nFor any questions please email kinoue@mosaicbc.org or call MOSAIC’s main office at 604-254-9626.\n\nWhat You Can Expect From The Blooming Hearts Event: \nThe Blooming Hearts will host collaborative and interactive activities across a range of self-healing and reflective topics. \nTopics include: \n\nRecognizing\, Regulating\, and Accepting our Emotions: Identify emotional triggers\, understand feelings\, and learn techniques to manage and express emotions.\nEmbracing our Imperfections: Explore the importance of self-acceptance to develop a more positive self-image and foster a deeper sense of self-worth.\nLoving and Appreciating Ourselves: Delve into the practices of self-love by recognizing your strengths\, setting healthy boundaries\, and celebrating your achievements.\n\nActivities include: \n\nEngaging Art-based Activities: We offer artistic activities to provide a therapeutic outlet for self-expression.\nRelaxation Exercises: We practice different relaxation techniques to help reduce stress and promote mental clarity.\nGroup Discussions: Our facilitated discussions provide a platform for sharing stories\, offering support\, and gaining insights from others who have faced similar challenges.\nFun Games: We incorporate enjoyable and interactive games to help build connections.\n\nAbout the Organizer: \nThis event is organized by Stopping the Violence Counselling for Women. This program provides free and confidential support for women experiencing or at risk of abuse or violence. To find out more information\, please visit the program page\, as well as other events for women.
URL:https://mosaicbc.org/event/the-blooming-hearts-women-support-group/2024-08-06/
LOCATION:MOSAIC – Boundary\, 5575 Boundary Road\, Vancouver\, British Columbia\, V5R 2P9
CATEGORIES:Other Events
ATTACH;FMTTYPE=image/jpeg:https://mosaicbc.org/wp-content/uploads/2024/07/The-Blooming-Hearts-1-scaled.jpg
ORGANIZER;CN="Stopping the Violence Counselling for Women":MAILTO:stvc@mosaicbc.org
GEO:49.2336134;-123.0236146
X-APPLE-STRUCTURED-LOCATION;VALUE=URI;X-ADDRESS=MOSAIC – Boundary 5575 Boundary Road Vancouver British Columbia V5R 2P9;X-APPLE-RADIUS=500;X-TITLE=5575 Boundary Road:geo:-123.0236146,49.2336134
END:VEVENT
END:VCALENDAR