BEGIN:VCALENDAR
VERSION:2.0
PRODID:-//MOSAIC - ECPv6.15.20//NONSGML v1.0//EN
CALSCALE:GREGORIAN
METHOD:PUBLISH
X-ORIGINAL-URL:https://mosaicbc.org
X-WR-CALDESC:Events for MOSAIC
REFRESH-INTERVAL;VALUE=DURATION:PT1H
X-Robots-Tag:noindex
X-PUBLISHED-TTL:PT1H
BEGIN:VTIMEZONE
TZID:America/Vancouver
BEGIN:DAYLIGHT
TZOFFSETFROM:-0800
TZOFFSETTO:-0700
TZNAME:PDT
DTSTART:20250309T100000
END:DAYLIGHT
BEGIN:STANDARD
TZOFFSETFROM:-0700
TZOFFSETTO:-0800
TZNAME:PST
DTSTART:20251102T090000
END:STANDARD
BEGIN:DAYLIGHT
TZOFFSETFROM:-0800
TZOFFSETTO:-0700
TZNAME:PDT
DTSTART:20260308T100000
END:DAYLIGHT
BEGIN:STANDARD
TZOFFSETFROM:-0700
TZOFFSETTO:-0800
TZNAME:PST
DTSTART:20261101T090000
END:STANDARD
BEGIN:DAYLIGHT
TZOFFSETFROM:-0800
TZOFFSETTO:-0700
TZNAME:PDT
DTSTART:20270314T100000
END:DAYLIGHT
BEGIN:STANDARD
TZOFFSETFROM:-0700
TZOFFSETTO:-0800
TZNAME:PST
DTSTART:20271107T090000
END:STANDARD
END:VTIMEZONE
BEGIN:VEVENT
DTSTART;TZID=America/Vancouver:20260311T140000
DTEND;TZID=America/Vancouver:20260311T153000
DTSTAMP:20260423T101357
CREATED:20251202T201445Z
LAST-MODIFIED:20260302T220159Z
UID:10035588-1773237600-1773243000@mosaicbc.org
SUMMARY:Job Search Strategies Workshop
DESCRIPTION:Unlock New Ways to Search for Work: Join Our Job Search Strategies Workshop! \n📅 Date: Wednesday March 11\, 2026\n🕙 Time: 2:00PM- 3:30PM\n📍 Location: Online (the workshop link will be emailed the day before the workshop). \nRegister using this form. \nAre you ready to take the next step in your career journey? Whether you’re new to Canada or exploring fresh employment possibilities\, this interactive workshop will empower you with practical tools and knowledge to navigate the Canadian job market with confidence.\nIn this dynamic session\, you will: \n• Discover different ways people look for jobs and how employers search for talent\n• Explore five job search strategies\, complete with helpful tips and up-to-date resources\n• Learn how to craft a clear and compelling introduction that gets noticed\n• Review which strategies may work best for you \nThis is your chance to build a more focused\, strategic approach to your job search and connect with others who are on a similar path. \nWho Should Attend\nThis workshop is available to open work permit holders\, study permit holders\, refugee claimants\, and naturalized citizens eager to build a strong foundation for their job search in Canada. \nPlease note: the session will be delivered in English.\nSpaces are limited\, so don’t miss out—register today and take a step toward your future! \nMore Support for Newcomers\nThis workshop is offered through our BC Newcomer Services Program (BCNSP). If you need more help adjusting to life in Canada\, exploring employment\, or accessing community resources\, visit the program page to learn more.
URL:https://mosaicbc.org/event/job-search-strategies-workshop-vancouver-2/
LOCATION:Online
CATEGORIES:Online,Workshops
ATTACH;FMTTYPE=image/jpeg:https://mosaicbc.org/wp-content/uploads/2025/12/Job-Search-Strategies-Workshop-scaled.jpg
ORGANIZER;CN="BC Newcomer Services Program (BCNSP)":MAILTO:bcsis@mosaicbc.org
END:VEVENT
END:VCALENDAR