BEGIN:VCALENDAR
VERSION:2.0
PRODID:-//MOSAIC - ECPv6.15.20//NONSGML v1.0//EN
CALSCALE:GREGORIAN
METHOD:PUBLISH
X-ORIGINAL-URL:https://mosaicbc.org
X-WR-CALDESC:Events for MOSAIC
REFRESH-INTERVAL;VALUE=DURATION:PT1H
X-Robots-Tag:noindex
X-PUBLISHED-TTL:PT1H
BEGIN:VTIMEZONE
TZID:America/Vancouver
BEGIN:DAYLIGHT
TZOFFSETFROM:-0800
TZOFFSETTO:-0700
TZNAME:PDT
DTSTART:20240310T100000
END:DAYLIGHT
BEGIN:STANDARD
TZOFFSETFROM:-0700
TZOFFSETTO:-0800
TZNAME:PST
DTSTART:20241103T090000
END:STANDARD
BEGIN:DAYLIGHT
TZOFFSETFROM:-0800
TZOFFSETTO:-0700
TZNAME:PDT
DTSTART:20250309T100000
END:DAYLIGHT
BEGIN:STANDARD
TZOFFSETFROM:-0700
TZOFFSETTO:-0800
TZNAME:PST
DTSTART:20251102T090000
END:STANDARD
BEGIN:DAYLIGHT
TZOFFSETFROM:-0800
TZOFFSETTO:-0700
TZNAME:PDT
DTSTART:20260308T100000
END:DAYLIGHT
BEGIN:STANDARD
TZOFFSETFROM:-0700
TZOFFSETTO:-0800
TZNAME:PST
DTSTART:20261101T090000
END:STANDARD
END:VTIMEZONE
BEGIN:VTIMEZONE
TZID:America/Los_Angeles
BEGIN:DAYLIGHT
TZOFFSETFROM:-0800
TZOFFSETTO:-0700
TZNAME:PDT
DTSTART:20240310T100000
END:DAYLIGHT
BEGIN:STANDARD
TZOFFSETFROM:-0700
TZOFFSETTO:-0800
TZNAME:PST
DTSTART:20241103T090000
END:STANDARD
BEGIN:DAYLIGHT
TZOFFSETFROM:-0800
TZOFFSETTO:-0700
TZNAME:PDT
DTSTART:20250309T100000
END:DAYLIGHT
BEGIN:STANDARD
TZOFFSETFROM:-0700
TZOFFSETTO:-0800
TZNAME:PST
DTSTART:20251102T090000
END:STANDARD
BEGIN:DAYLIGHT
TZOFFSETFROM:-0800
TZOFFSETTO:-0700
TZNAME:PDT
DTSTART:20260308T100000
END:DAYLIGHT
BEGIN:STANDARD
TZOFFSETFROM:-0700
TZOFFSETTO:-0800
TZNAME:PST
DTSTART:20261101T090000
END:STANDARD
END:VTIMEZONE
BEGIN:VEVENT
DTSTART;TZID=America/Vancouver:20250114T100000
DTEND;TZID=America/Vancouver:20250114T113000
DTSTAMP:20260424T070649
CREATED:20241211T192747Z
LAST-MODIFIED:20250109T185121Z
UID:10033580-1736848800-1736854200@mosaicbc.org
SUMMARY:Crime Stoppers Metro Vancouver: Learn to Prevent Crime and Stay Safe
DESCRIPTION:Calling all seniors across Metro Vancouver! Join us for the Crime Stoppers Metro Vancouver workshop\, where we’ll learn practical ways to prevent crime and make our communities safer. This workshop is a safe\, inclusive space where everyone can share their experiences and learn together. No matter your background\, you’re not alone—let’s all be on the same page as we work towards safety and awareness. \nCrime Stoppers Metro Vancouver Workshop Details\n\nDates: December 18\, 2024\, and January 14\, 2025\nTime: 10:00 AM – 11:30 AM\nLocation: In-person and online options available\n\nWe encourage seniors to join us in person to fully experience this interactive session. However\, for those who cannot attend at the location\, an online option is also available. \nWhat You’ll Learn\nLed by Margarett Lange\, the Outreach and Events Manager for Metro Vancouver Crime Stoppers\, this workshop is designed to empower seniors with valuable crime prevention knowledge. Margarett has extensive experience managing community and volunteer programs and is passionate about creating safer environments through education and outreach. \nDuring the session\, Margarett will cover: \n\nSimple and effective crime prevention tips tailored for seniors.\nHow to report suspicious activities anonymously to protect yourself and others.\nStrategies to enhance safety in your neighbourhood.\n\nThis workshop is not just about learning; it’s about empowering individuals to take proactive steps in making their communities safer. \nWho Should Attend?\nThis event is perfect for anyone interested in crime prevention\, safety education\, or supporting their local community. You’ll gain valuable tools to promote a secure environment. \nWhy It Matters\nCrime prevention starts with awareness and action. By attending\, you’ll become a vital part of creating a safer Metro Vancouver. Together\, we can work towards reducing crime and fostering a sense of security in our neighbourhoods. \nDrop In – No Registration Required\nThis workshop is free\, and there’s no need to register—just drop in! \nOrganized by MOSAIC Seniors Club\nThis event is brought to you by the MOSAIC Seniors Club\, a program dedicated to supporting seniors with valuable resources and connections. \nDon’t miss this opportunity to learn\, connect\, and make a difference in Metro Vancouver.
URL:https://mosaicbc.org/event/crime-stoppers-metro-vancouver-workshop/2025-01-14/
LOCATION:MOSAIC – Boundary\, 5575 Boundary Road\, Vancouver\, British Columbia\, V5R 2P9
CATEGORIES:Online,Workshops
ATTACH;FMTTYPE=image/png:https://mosaicbc.org/wp-content/uploads/2024/12/Crime-Stoppers-2.png
ORGANIZER;CN="Seniors Club":MAILTO:seniors@mosaicbc.org
GEO:49.2336134;-123.0236146
X-APPLE-STRUCTURED-LOCATION;VALUE=URI;X-ADDRESS=MOSAIC – Boundary 5575 Boundary Road Vancouver British Columbia V5R 2P9;X-APPLE-RADIUS=500;X-TITLE=5575 Boundary Road:geo:-123.0236146,49.2336134
END:VEVENT
BEGIN:VEVENT
DTSTART;TZID=America/Los_Angeles:20250123T123000
DTEND;TZID=America/Los_Angeles:20250123T143000
DTSTAMP:20260424T070649
CREATED:20241219T230236Z
LAST-MODIFIED:20241219T230504Z
UID:10033460-1737635400-1737642600@mosaicbc.org
SUMMARY:Wellness Together Canada: Join Us for Wellness\, Art\, and Connection
DESCRIPTION:Discover the transformative power of mindfulness\, art\, and connection at our “Wellness Together Canada” event. This gathering offers a welcoming environment for newcomers to share their stories\, express themselves through simple art-making\, and build resilience. Join us to connect with others\, reduce stress\, and nurture your mental well-being in a supportive community setting. \nIf you’re feeling like your mood drops with the temperature\, you’re not the only one. Join us to learn how to improve or maintain your mood this winter \nWellness Together Canada Event Details\n\nWhere: MOSAIC Boundary Office\, 5575 Boundary Road\, Vancouver\, BC\, V5R 2P9\nWho Should Attend: Newcomers to Canada looking for a supportive community and a space to express themselves.\nIf you have any questions\, feel free to email myu@mosaicbc.org\nRegistration Form\nAll sessions will be led by a registered clinical counsellor. Topics we are going to explore:\n\nCulture shock\nStress\nAnxiety and depression\nFeeling overwhelmed (lots of feelings)\nSelf-care \n\n\n\nWhat is the Wellness Together Canada Event?\nAre you a newcomer looking to foster resilience and connect with others in a supportive environment? Our “Wellness Together Canada” event offers a unique opportunity to engage in mindfulness and creative expression. Through simple art-making activities and story-sharing\, you can build connections\, share experiences\, and find community support. \nWhy Attend?\n\nMindfulness: Learn techniques to stay present and reduce stress.\nArt-Making: Engage in simple\, therapeutic art activities that promote relaxation and self-expression.\nConnection: Share stories and connect with others who understand the challenges of being a newcomer.\nChildminding Available: To reduce barriers for parents\, childminding services will be available on-site\, so you can fully engage in the event.\nLanguage Support: Language should not be a barrier to participation. We offer language support to ensure everyone can be included and feel comfortable.\n\nWho is Eligible?\nThis event is open to refugee claimants\, study permit holders\, work permit holders\, naturalized citizens\, and asylum seekers. We are committed to providing a safe and inclusive space for all eligible participants. \nLearn More About\nThis event aims to support mental health and well-being. Organized by MOSAIC\, our goal is to provide newcomers with the resources and connections they need to thrive in their new environment. \nFor more information on how we can support you\, visit our BC Settlement and Integration Services (BCSIS) program page.
URL:https://mosaicbc.org/event/wellness-together-canada-wellness-art-connection-event-2/2025-01-23/
LOCATION:MOSAIC – Boundary\, 5575 Boundary Road\, Vancouver\, British Columbia\, V5R 2P9
ATTACH;FMTTYPE=image/jpeg:https://mosaicbc.org/wp-content/uploads/2024/08/wellness-together-canada-arts.jpg
ORGANIZER;CN="BC Settlement and Integration Services (BCSIS)":MAILTO:bcsis@mosaicbc.org
GEO:49.2336134;-123.0236146
X-APPLE-STRUCTURED-LOCATION;VALUE=URI;X-ADDRESS=MOSAIC – Boundary 5575 Boundary Road Vancouver British Columbia V5R 2P9;X-APPLE-RADIUS=500;X-TITLE=5575 Boundary Road:geo:-123.0236146,49.2336134
END:VEVENT
BEGIN:VEVENT
DTSTART;TZID=America/Los_Angeles:20250127T110000
DTEND;TZID=America/Los_Angeles:20250127T120000
DTSTAMP:20260424T070649
CREATED:20250113T183134Z
LAST-MODIFIED:20250113T183322Z
UID:10032202-1737975600-1737979200@mosaicbc.org
SUMMARY:Free Online English Conversation Circle for PR Women
DESCRIPTION:Are you a permanent resident woman eager to enhance your English language skills and cultivate new friendships in a supportive\, engaging environment? Join our Free Online English Conversation Circle\, exclusively designed for women at the upper beginner level. \nEvent Details: \nWho Can Attend:  This event is exclusively for women with Permanent Resident\, Protected Persons\, and CUAET status \nLevel: Upper Beginners \nWhen: \n\nMondays\, Wednesdays & Fridays: 11:00 AM – 12:00 PM\n\nWhere: Zoom (Online) \nRegistration: Please email Eon Joung Lee at ejlee@mosaicbc.org. \nOur Free Online English Conversation Circle for women is the perfect opportunity to refine your English language skills and connect with a diverse community of like-minded women. Throughout the event\, our focus is on daily practice and fostering new friendships\, all while speaking in English. This immersive experience offers you the chance to boost your confidence\, engage in meaningful conversations\, and build connections that can last a lifetime. \nFor any questions or additional information\, please reach out to Eon Joung Lee at ejlee@mosaicbc.org. Join us today and embark on a path to language fluency and meaningful connections! \nThis event is organized by the Newcomers and Community Building Program (NCBP). This program provides newcomer one-on-one and group support to aid in your transition to Canadian life. We create a welcoming environment for all to get the help and resources you need to settle in Canada.
URL:https://mosaicbc.org/event/free-online-english-conversation-circle-pr-women-2/2025-01-27/
LOCATION:Online
CATEGORIES:Conversation Circles,Information Sessions,Online
ATTACH;FMTTYPE=image/jpeg:https://mosaicbc.org/wp-content/uploads/2022/07/event.jpg
ORGANIZER;CN="Newcomers and Community Building Program (NCBP)":MAILTO:settlement@mosaicbc.org
END:VEVENT
BEGIN:VEVENT
DTSTART;TZID=America/Los_Angeles:20250129T110000
DTEND;TZID=America/Los_Angeles:20250129T120000
DTSTAMP:20260424T070649
CREATED:20250113T183134Z
LAST-MODIFIED:20250113T183322Z
UID:10033585-1738148400-1738152000@mosaicbc.org
SUMMARY:Free Online English Conversation Circle for PR Women
DESCRIPTION:Are you a permanent resident woman eager to enhance your English language skills and cultivate new friendships in a supportive\, engaging environment? Join our Free Online English Conversation Circle\, exclusively designed for women at the upper beginner level. \nEvent Details: \nWho Can Attend:  This event is exclusively for women with Permanent Resident\, Protected Persons\, and CUAET status \nLevel: Upper Beginners \nWhen: \n\nMondays\, Wednesdays & Fridays: 11:00 AM – 12:00 PM\n\nWhere: Zoom (Online) \nRegistration: Please email Eon Joung Lee at ejlee@mosaicbc.org. \nOur Free Online English Conversation Circle for women is the perfect opportunity to refine your English language skills and connect with a diverse community of like-minded women. Throughout the event\, our focus is on daily practice and fostering new friendships\, all while speaking in English. This immersive experience offers you the chance to boost your confidence\, engage in meaningful conversations\, and build connections that can last a lifetime. \nFor any questions or additional information\, please reach out to Eon Joung Lee at ejlee@mosaicbc.org. Join us today and embark on a path to language fluency and meaningful connections! \nThis event is organized by the Newcomers and Community Building Program (NCBP). This program provides newcomer one-on-one and group support to aid in your transition to Canadian life. We create a welcoming environment for all to get the help and resources you need to settle in Canada.
URL:https://mosaicbc.org/event/free-online-english-conversation-circle-pr-women-2/2025-01-29/
LOCATION:Online
CATEGORIES:Conversation Circles,Information Sessions,Online
ATTACH;FMTTYPE=image/jpeg:https://mosaicbc.org/wp-content/uploads/2022/07/event.jpg
ORGANIZER;CN="Newcomers and Community Building Program (NCBP)":MAILTO:settlement@mosaicbc.org
END:VEVENT
BEGIN:VEVENT
DTSTART;TZID=America/Los_Angeles:20250130T123000
DTEND;TZID=America/Los_Angeles:20250130T143000
DTSTAMP:20260424T070649
CREATED:20241219T230236Z
LAST-MODIFIED:20241219T230504Z
UID:10033581-1738240200-1738247400@mosaicbc.org
SUMMARY:Wellness Together Canada: Join Us for Wellness\, Art\, and Connection
DESCRIPTION:Discover the transformative power of mindfulness\, art\, and connection at our “Wellness Together Canada” event. This gathering offers a welcoming environment for newcomers to share their stories\, express themselves through simple art-making\, and build resilience. Join us to connect with others\, reduce stress\, and nurture your mental well-being in a supportive community setting. \nIf you’re feeling like your mood drops with the temperature\, you’re not the only one. Join us to learn how to improve or maintain your mood this winter \nWellness Together Canada Event Details\n\nWhere: MOSAIC Boundary Office\, 5575 Boundary Road\, Vancouver\, BC\, V5R 2P9\nWho Should Attend: Newcomers to Canada looking for a supportive community and a space to express themselves.\nIf you have any questions\, feel free to email myu@mosaicbc.org\nRegistration Form\nAll sessions will be led by a registered clinical counsellor. Topics we are going to explore:\n\nCulture shock\nStress\nAnxiety and depression\nFeeling overwhelmed (lots of feelings)\nSelf-care \n\n\n\nWhat is the Wellness Together Canada Event?\nAre you a newcomer looking to foster resilience and connect with others in a supportive environment? Our “Wellness Together Canada” event offers a unique opportunity to engage in mindfulness and creative expression. Through simple art-making activities and story-sharing\, you can build connections\, share experiences\, and find community support. \nWhy Attend?\n\nMindfulness: Learn techniques to stay present and reduce stress.\nArt-Making: Engage in simple\, therapeutic art activities that promote relaxation and self-expression.\nConnection: Share stories and connect with others who understand the challenges of being a newcomer.\nChildminding Available: To reduce barriers for parents\, childminding services will be available on-site\, so you can fully engage in the event.\nLanguage Support: Language should not be a barrier to participation. We offer language support to ensure everyone can be included and feel comfortable.\n\nWho is Eligible?\nThis event is open to refugee claimants\, study permit holders\, work permit holders\, naturalized citizens\, and asylum seekers. We are committed to providing a safe and inclusive space for all eligible participants. \nLearn More About\nThis event aims to support mental health and well-being. Organized by MOSAIC\, our goal is to provide newcomers with the resources and connections they need to thrive in their new environment. \nFor more information on how we can support you\, visit our BC Settlement and Integration Services (BCSIS) program page.
URL:https://mosaicbc.org/event/wellness-together-canada-wellness-art-connection-event-2/2025-01-30/
LOCATION:MOSAIC – Boundary\, 5575 Boundary Road\, Vancouver\, British Columbia\, V5R 2P9
ATTACH;FMTTYPE=image/jpeg:https://mosaicbc.org/wp-content/uploads/2024/08/wellness-together-canada-arts.jpg
ORGANIZER;CN="BC Settlement and Integration Services (BCSIS)":MAILTO:bcsis@mosaicbc.org
GEO:49.2336134;-123.0236146
X-APPLE-STRUCTURED-LOCATION;VALUE=URI;X-ADDRESS=MOSAIC – Boundary 5575 Boundary Road Vancouver British Columbia V5R 2P9;X-APPLE-RADIUS=500;X-TITLE=5575 Boundary Road:geo:-123.0236146,49.2336134
END:VEVENT
BEGIN:VEVENT
DTSTART;TZID=America/Los_Angeles:20250131T110000
DTEND;TZID=America/Los_Angeles:20250131T120000
DTSTAMP:20260424T070649
CREATED:20250113T183134Z
LAST-MODIFIED:20250113T183322Z
UID:10033586-1738321200-1738324800@mosaicbc.org
SUMMARY:Free Online English Conversation Circle for PR Women
DESCRIPTION:Are you a permanent resident woman eager to enhance your English language skills and cultivate new friendships in a supportive\, engaging environment? Join our Free Online English Conversation Circle\, exclusively designed for women at the upper beginner level. \nEvent Details: \nWho Can Attend:  This event is exclusively for women with Permanent Resident\, Protected Persons\, and CUAET status \nLevel: Upper Beginners \nWhen: \n\nMondays\, Wednesdays & Fridays: 11:00 AM – 12:00 PM\n\nWhere: Zoom (Online) \nRegistration: Please email Eon Joung Lee at ejlee@mosaicbc.org. \nOur Free Online English Conversation Circle for women is the perfect opportunity to refine your English language skills and connect with a diverse community of like-minded women. Throughout the event\, our focus is on daily practice and fostering new friendships\, all while speaking in English. This immersive experience offers you the chance to boost your confidence\, engage in meaningful conversations\, and build connections that can last a lifetime. \nFor any questions or additional information\, please reach out to Eon Joung Lee at ejlee@mosaicbc.org. Join us today and embark on a path to language fluency and meaningful connections! \nThis event is organized by the Newcomers and Community Building Program (NCBP). This program provides newcomer one-on-one and group support to aid in your transition to Canadian life. We create a welcoming environment for all to get the help and resources you need to settle in Canada.
URL:https://mosaicbc.org/event/free-online-english-conversation-circle-pr-women-2/2025-01-31/
LOCATION:Online
CATEGORIES:Conversation Circles,Information Sessions,Online
ATTACH;FMTTYPE=image/jpeg:https://mosaicbc.org/wp-content/uploads/2022/07/event.jpg
ORGANIZER;CN="Newcomers and Community Building Program (NCBP)":MAILTO:settlement@mosaicbc.org
END:VEVENT
END:VCALENDAR