BEGIN:VCALENDAR
VERSION:2.0
PRODID:-//MOSAIC - ECPv6.15.20//NONSGML v1.0//EN
CALSCALE:GREGORIAN
METHOD:PUBLISH
X-ORIGINAL-URL:https://mosaicbc.org
X-WR-CALDESC:Events for MOSAIC
REFRESH-INTERVAL;VALUE=DURATION:PT1H
X-Robots-Tag:noindex
X-PUBLISHED-TTL:PT1H
BEGIN:VTIMEZONE
TZID:America/Vancouver
BEGIN:DAYLIGHT
TZOFFSETFROM:-0800
TZOFFSETTO:-0700
TZNAME:PDT
DTSTART:20230312T100000
END:DAYLIGHT
BEGIN:STANDARD
TZOFFSETFROM:-0700
TZOFFSETTO:-0800
TZNAME:PST
DTSTART:20231105T090000
END:STANDARD
BEGIN:DAYLIGHT
TZOFFSETFROM:-0800
TZOFFSETTO:-0700
TZNAME:PDT
DTSTART:20240310T100000
END:DAYLIGHT
BEGIN:STANDARD
TZOFFSETFROM:-0700
TZOFFSETTO:-0800
TZNAME:PST
DTSTART:20241103T090000
END:STANDARD
BEGIN:DAYLIGHT
TZOFFSETFROM:-0800
TZOFFSETTO:-0700
TZNAME:PDT
DTSTART:20250309T100000
END:DAYLIGHT
BEGIN:STANDARD
TZOFFSETFROM:-0700
TZOFFSETTO:-0800
TZNAME:PST
DTSTART:20251102T090000
END:STANDARD
END:VTIMEZONE
BEGIN:VEVENT
DTSTART;TZID=America/Vancouver:20241218T100000
DTEND;TZID=America/Vancouver:20241218T113000
DTSTAMP:20260424T082859
CREATED:20241211T192747Z
LAST-MODIFIED:20250109T185121Z
UID:10033579-1734516000-1734521400@mosaicbc.org
SUMMARY:Crime Stoppers Metro Vancouver: Learn to Prevent Crime and Stay Safe
DESCRIPTION:Calling all seniors across Metro Vancouver! Join us for the Crime Stoppers Metro Vancouver workshop\, where we’ll learn practical ways to prevent crime and make our communities safer. This workshop is a safe\, inclusive space where everyone can share their experiences and learn together. No matter your background\, you’re not alone—let’s all be on the same page as we work towards safety and awareness. \nCrime Stoppers Metro Vancouver Workshop Details\n\nDates: December 18\, 2024\, and January 14\, 2025\nTime: 10:00 AM – 11:30 AM\nLocation: In-person and online options available\n\nWe encourage seniors to join us in person to fully experience this interactive session. However\, for those who cannot attend at the location\, an online option is also available. \nWhat You’ll Learn\nLed by Margarett Lange\, the Outreach and Events Manager for Metro Vancouver Crime Stoppers\, this workshop is designed to empower seniors with valuable crime prevention knowledge. Margarett has extensive experience managing community and volunteer programs and is passionate about creating safer environments through education and outreach. \nDuring the session\, Margarett will cover: \n\nSimple and effective crime prevention tips tailored for seniors.\nHow to report suspicious activities anonymously to protect yourself and others.\nStrategies to enhance safety in your neighbourhood.\n\nThis workshop is not just about learning; it’s about empowering individuals to take proactive steps in making their communities safer. \nWho Should Attend?\nThis event is perfect for anyone interested in crime prevention\, safety education\, or supporting their local community. You’ll gain valuable tools to promote a secure environment. \nWhy It Matters\nCrime prevention starts with awareness and action. By attending\, you’ll become a vital part of creating a safer Metro Vancouver. Together\, we can work towards reducing crime and fostering a sense of security in our neighbourhoods. \nDrop In – No Registration Required\nThis workshop is free\, and there’s no need to register—just drop in! \nOrganized by MOSAIC Seniors Club\nThis event is brought to you by the MOSAIC Seniors Club\, a program dedicated to supporting seniors with valuable resources and connections. \nDon’t miss this opportunity to learn\, connect\, and make a difference in Metro Vancouver.
URL:https://mosaicbc.org/event/crime-stoppers-metro-vancouver-workshop/2024-12-18/
LOCATION:MOSAIC – Boundary\, 5575 Boundary Road\, Vancouver\, British Columbia\, V5R 2P9
CATEGORIES:Online,Workshops
ATTACH;FMTTYPE=image/png:https://mosaicbc.org/wp-content/uploads/2024/12/Crime-Stoppers-2.png
ORGANIZER;CN="Seniors Club":MAILTO:seniors@mosaicbc.org
GEO:49.2336134;-123.0236146
X-APPLE-STRUCTURED-LOCATION;VALUE=URI;X-ADDRESS=MOSAIC – Boundary 5575 Boundary Road Vancouver British Columbia V5R 2P9;X-APPLE-RADIUS=500;X-TITLE=5575 Boundary Road:geo:-123.0236146,49.2336134
END:VEVENT
END:VCALENDAR