BEGIN:VCALENDAR
VERSION:2.0
PRODID:-//MOSAIC - ECPv6.15.20//NONSGML v1.0//EN
CALSCALE:GREGORIAN
METHOD:PUBLISH
X-WR-CALNAME:MOSAIC
X-ORIGINAL-URL:https://mosaicbc.org
X-WR-CALDESC:Events for MOSAIC
REFRESH-INTERVAL;VALUE=DURATION:PT1H
X-Robots-Tag:noindex
X-PUBLISHED-TTL:PT1H
BEGIN:VTIMEZONE
TZID:America/Los_Angeles
BEGIN:DAYLIGHT
TZOFFSETFROM:-0800
TZOFFSETTO:-0700
TZNAME:PDT
DTSTART:20240310T100000
END:DAYLIGHT
BEGIN:STANDARD
TZOFFSETFROM:-0700
TZOFFSETTO:-0800
TZNAME:PST
DTSTART:20241103T090000
END:STANDARD
BEGIN:DAYLIGHT
TZOFFSETFROM:-0800
TZOFFSETTO:-0700
TZNAME:PDT
DTSTART:20250309T100000
END:DAYLIGHT
BEGIN:STANDARD
TZOFFSETFROM:-0700
TZOFFSETTO:-0800
TZNAME:PST
DTSTART:20251102T090000
END:STANDARD
BEGIN:DAYLIGHT
TZOFFSETFROM:-0800
TZOFFSETTO:-0700
TZNAME:PDT
DTSTART:20260308T100000
END:DAYLIGHT
BEGIN:STANDARD
TZOFFSETFROM:-0700
TZOFFSETTO:-0800
TZNAME:PST
DTSTART:20261101T090000
END:STANDARD
END:VTIMEZONE
BEGIN:VEVENT
DTSTART;TZID=America/Los_Angeles:20250804T100000
DTEND;TZID=America/Los_Angeles:20250804T120000
DTSTAMP:20260423T210326
CREATED:20250619T180553Z
LAST-MODIFIED:20250619T182141Z
UID:10035418-1754301600-1754308800@mosaicbc.org
SUMMARY:Canadian Citizenship Workshop (In Korean)
DESCRIPTION:Are you a Korean-speaking permanent resident of Canada aspiring to become a Canadian citizen?Join our Canadian Citizenship Workshop in Korean to build your knowledge of Canadian history\, government\, regions\, and more — all in your own language. This interactive\, informative\, and supportive online event is designed to help you feel confident and prepared on your path to Canadian citizenship. \nEvent Details: \n\nDate: July 21 – August 25\, 2025 (Mondays)\nTime: 10:00 AM – 12:00 PM\nOnline: The link will be provided upon registration\nRegistration Information: Hurry\, as space is limited\, and it’s on a first-come\, first-served basis! To secure your spot\, please fill out the Registration Form.\nContact ejlee@mosaicbc.org / 604‐657‐7569 for more details.\n\nCanadian Citizenship Workshop Highlights:\nIn this six-session workshop conducted in Korean\, you’ll explore key topics such as Canadian history\, government\, symbols\, and regions. Led by experienced instructors\, the sessions are interactive and supportive\, offering valuable insights to help you prepare for the citizenship test and better understand your new home. You’ll also have opportunities to connect with others in the Korean-speaking newcomer community\, ask questions\, and receive personalized guidance. \nRegister today for the Canadian Citizenship Workshop in Korean and take a confident step toward becoming a Canadian citizen! \nAbout the Organizer: This event is organized by the Newcomers and Community Building Program (NCBP). NCBP is dedicated to providing newcomers with one-on-one and group support\, helping ease your transition into Canadian life. Our team of multicultural professionals is committed to offering guidance and resources to assist you in every step of your journey toward integration and citizenship. If you are interested in receiving more support\, feel free to visit the program page to know more.
URL:https://mosaicbc.org/event/canadian-citizenship-workshop-korean/2025-08-04/
LOCATION:Online
CATEGORIES:Information Sessions,Online,Workshops
ATTACH;FMTTYPE=image/jpeg:https://mosaicbc.org/wp-content/uploads/2023/10/Canadian-Citizenship-scaled.jpg
ORGANIZER;CN="Newcomers and Community Building Program (NCBP)":MAILTO:settlement@mosaicbc.org
END:VEVENT
BEGIN:VEVENT
DTSTART;TZID=America/Los_Angeles:20250811T100000
DTEND;TZID=America/Los_Angeles:20250811T120000
DTSTAMP:20260423T210326
CREATED:20250619T180553Z
LAST-MODIFIED:20250619T182141Z
UID:10035419-1754906400-1754913600@mosaicbc.org
SUMMARY:Canadian Citizenship Workshop (In Korean)
DESCRIPTION:Are you a Korean-speaking permanent resident of Canada aspiring to become a Canadian citizen?Join our Canadian Citizenship Workshop in Korean to build your knowledge of Canadian history\, government\, regions\, and more — all in your own language. This interactive\, informative\, and supportive online event is designed to help you feel confident and prepared on your path to Canadian citizenship. \nEvent Details: \n\nDate: July 21 – August 25\, 2025 (Mondays)\nTime: 10:00 AM – 12:00 PM\nOnline: The link will be provided upon registration\nRegistration Information: Hurry\, as space is limited\, and it’s on a first-come\, first-served basis! To secure your spot\, please fill out the Registration Form.\nContact ejlee@mosaicbc.org / 604‐657‐7569 for more details.\n\nCanadian Citizenship Workshop Highlights:\nIn this six-session workshop conducted in Korean\, you’ll explore key topics such as Canadian history\, government\, symbols\, and regions. Led by experienced instructors\, the sessions are interactive and supportive\, offering valuable insights to help you prepare for the citizenship test and better understand your new home. You’ll also have opportunities to connect with others in the Korean-speaking newcomer community\, ask questions\, and receive personalized guidance. \nRegister today for the Canadian Citizenship Workshop in Korean and take a confident step toward becoming a Canadian citizen! \nAbout the Organizer: This event is organized by the Newcomers and Community Building Program (NCBP). NCBP is dedicated to providing newcomers with one-on-one and group support\, helping ease your transition into Canadian life. Our team of multicultural professionals is committed to offering guidance and resources to assist you in every step of your journey toward integration and citizenship. If you are interested in receiving more support\, feel free to visit the program page to know more.
URL:https://mosaicbc.org/event/canadian-citizenship-workshop-korean/2025-08-11/
LOCATION:Online
CATEGORIES:Information Sessions,Online,Workshops
ATTACH;FMTTYPE=image/jpeg:https://mosaicbc.org/wp-content/uploads/2023/10/Canadian-Citizenship-scaled.jpg
ORGANIZER;CN="Newcomers and Community Building Program (NCBP)":MAILTO:settlement@mosaicbc.org
END:VEVENT
BEGIN:VEVENT
DTSTART;TZID=America/Los_Angeles:20250818T100000
DTEND;TZID=America/Los_Angeles:20250818T120000
DTSTAMP:20260423T210326
CREATED:20250619T180553Z
LAST-MODIFIED:20250619T182141Z
UID:10035420-1755511200-1755518400@mosaicbc.org
SUMMARY:Canadian Citizenship Workshop (In Korean)
DESCRIPTION:Are you a Korean-speaking permanent resident of Canada aspiring to become a Canadian citizen?Join our Canadian Citizenship Workshop in Korean to build your knowledge of Canadian history\, government\, regions\, and more — all in your own language. This interactive\, informative\, and supportive online event is designed to help you feel confident and prepared on your path to Canadian citizenship. \nEvent Details: \n\nDate: July 21 – August 25\, 2025 (Mondays)\nTime: 10:00 AM – 12:00 PM\nOnline: The link will be provided upon registration\nRegistration Information: Hurry\, as space is limited\, and it’s on a first-come\, first-served basis! To secure your spot\, please fill out the Registration Form.\nContact ejlee@mosaicbc.org / 604‐657‐7569 for more details.\n\nCanadian Citizenship Workshop Highlights:\nIn this six-session workshop conducted in Korean\, you’ll explore key topics such as Canadian history\, government\, symbols\, and regions. Led by experienced instructors\, the sessions are interactive and supportive\, offering valuable insights to help you prepare for the citizenship test and better understand your new home. You’ll also have opportunities to connect with others in the Korean-speaking newcomer community\, ask questions\, and receive personalized guidance. \nRegister today for the Canadian Citizenship Workshop in Korean and take a confident step toward becoming a Canadian citizen! \nAbout the Organizer: This event is organized by the Newcomers and Community Building Program (NCBP). NCBP is dedicated to providing newcomers with one-on-one and group support\, helping ease your transition into Canadian life. Our team of multicultural professionals is committed to offering guidance and resources to assist you in every step of your journey toward integration and citizenship. If you are interested in receiving more support\, feel free to visit the program page to know more.
URL:https://mosaicbc.org/event/canadian-citizenship-workshop-korean/2025-08-18/
LOCATION:Online
CATEGORIES:Information Sessions,Online,Workshops
ATTACH;FMTTYPE=image/jpeg:https://mosaicbc.org/wp-content/uploads/2023/10/Canadian-Citizenship-scaled.jpg
ORGANIZER;CN="Newcomers and Community Building Program (NCBP)":MAILTO:settlement@mosaicbc.org
END:VEVENT
BEGIN:VEVENT
DTSTART;TZID=America/Los_Angeles:20250825T100000
DTEND;TZID=America/Los_Angeles:20250825T120000
DTSTAMP:20260423T210326
CREATED:20250619T180553Z
LAST-MODIFIED:20250619T182141Z
UID:10035421-1756116000-1756123200@mosaicbc.org
SUMMARY:Canadian Citizenship Workshop (In Korean)
DESCRIPTION:Are you a Korean-speaking permanent resident of Canada aspiring to become a Canadian citizen?Join our Canadian Citizenship Workshop in Korean to build your knowledge of Canadian history\, government\, regions\, and more — all in your own language. This interactive\, informative\, and supportive online event is designed to help you feel confident and prepared on your path to Canadian citizenship. \nEvent Details: \n\nDate: July 21 – August 25\, 2025 (Mondays)\nTime: 10:00 AM – 12:00 PM\nOnline: The link will be provided upon registration\nRegistration Information: Hurry\, as space is limited\, and it’s on a first-come\, first-served basis! To secure your spot\, please fill out the Registration Form.\nContact ejlee@mosaicbc.org / 604‐657‐7569 for more details.\n\nCanadian Citizenship Workshop Highlights:\nIn this six-session workshop conducted in Korean\, you’ll explore key topics such as Canadian history\, government\, symbols\, and regions. Led by experienced instructors\, the sessions are interactive and supportive\, offering valuable insights to help you prepare for the citizenship test and better understand your new home. You’ll also have opportunities to connect with others in the Korean-speaking newcomer community\, ask questions\, and receive personalized guidance. \nRegister today for the Canadian Citizenship Workshop in Korean and take a confident step toward becoming a Canadian citizen! \nAbout the Organizer: This event is organized by the Newcomers and Community Building Program (NCBP). NCBP is dedicated to providing newcomers with one-on-one and group support\, helping ease your transition into Canadian life. Our team of multicultural professionals is committed to offering guidance and resources to assist you in every step of your journey toward integration and citizenship. If you are interested in receiving more support\, feel free to visit the program page to know more.
URL:https://mosaicbc.org/event/canadian-citizenship-workshop-korean/2025-08-25/
LOCATION:Online
CATEGORIES:Information Sessions,Online,Workshops
ATTACH;FMTTYPE=image/jpeg:https://mosaicbc.org/wp-content/uploads/2023/10/Canadian-Citizenship-scaled.jpg
ORGANIZER;CN="Newcomers and Community Building Program (NCBP)":MAILTO:settlement@mosaicbc.org
END:VEVENT
END:VCALENDAR