BEGIN:VCALENDAR
VERSION:2.0
PRODID:-//MOSAIC - ECPv6.15.20//NONSGML v1.0//EN
CALSCALE:GREGORIAN
METHOD:PUBLISH
X-WR-CALNAME:MOSAIC
X-ORIGINAL-URL:https://mosaicbc.org
X-WR-CALDESC:Events for MOSAIC
REFRESH-INTERVAL;VALUE=DURATION:PT1H
X-Robots-Tag:noindex
X-PUBLISHED-TTL:PT1H
BEGIN:VTIMEZONE
TZID:America/Los_Angeles
BEGIN:DAYLIGHT
TZOFFSETFROM:-0800
TZOFFSETTO:-0700
TZNAME:PDT
DTSTART:20250309T100000
END:DAYLIGHT
BEGIN:STANDARD
TZOFFSETFROM:-0700
TZOFFSETTO:-0800
TZNAME:PST
DTSTART:20251102T090000
END:STANDARD
BEGIN:DAYLIGHT
TZOFFSETFROM:-0800
TZOFFSETTO:-0700
TZNAME:PDT
DTSTART:20260308T100000
END:DAYLIGHT
BEGIN:STANDARD
TZOFFSETFROM:-0700
TZOFFSETTO:-0800
TZNAME:PST
DTSTART:20261101T090000
END:STANDARD
BEGIN:DAYLIGHT
TZOFFSETFROM:-0800
TZOFFSETTO:-0700
TZNAME:PDT
DTSTART:20270314T100000
END:DAYLIGHT
BEGIN:STANDARD
TZOFFSETFROM:-0700
TZOFFSETTO:-0800
TZNAME:PST
DTSTART:20271107T090000
END:STANDARD
END:VTIMEZONE
BEGIN:VEVENT
DTSTART;TZID=America/Los_Angeles:20260512T093000
DTEND;TZID=America/Los_Angeles:20260512T160000
DTSTAMP:20260423T112059
CREATED:20260204T181214Z
LAST-MODIFIED:20260422T230656Z
UID:10036199-1778578200-1778601600@mosaicbc.org
SUMMARY:Job Fair: MOSAIC's 14th Annual Employment Event
DESCRIPTION:Over the past 13 years\, we’ve connected 25\,000+ job seekers with 700+ employers and this year\, it’s your turn! Join MOSAIC’s 14th Annual Job Fair\, where employers are actively seeking diverse\, talented candidates. Whether you’re starting your career or making a change\, this is your opportunity to connect\, explore roles\, and take the next step forward. \nWhy Attend?\n\nMeet hiring employers face-to-face\nExplore current job openings\nNetwork with recruiters and industry professionals\nLearn what employers are looking for\nMove your job search forward in one day\n\nEvent Details:\nDate: May 12\, 2026 | 9:30 AM – 4:00 PM\nLocation: Anvil Centre\, 777 Columbia St\, New Westminster\, BC V3M 1B6\n \nRegister today here\nQuestions? Email us at jobfair@mosaicbc.org \nIf you want more support on finding jobs\, feel free to visit our Employment Services.
URL:https://mosaicbc.org/event/job-fair-mosaics-14th-annual-employment-event/
LOCATION:Anvil Centre\, 777 Columbia St\, New Westminster\, British Columbia\, V3M 1B6\, Canada
CATEGORIES:Employment related events
ATTACH;FMTTYPE=image/png:https://mosaicbc.org/wp-content/uploads/2026/02/JF-Exhibitors-event.png
ORGANIZER;CN="MOSAIC":MAILTO:info@mosaicbc.org
END:VEVENT
END:VCALENDAR