BEGIN:VCALENDAR
VERSION:2.0
PRODID:-//MOSAIC - ECPv6.15.20//NONSGML v1.0//EN
CALSCALE:GREGORIAN
METHOD:PUBLISH
X-ORIGINAL-URL:https://mosaicbc.org
X-WR-CALDESC:Events for MOSAIC
REFRESH-INTERVAL;VALUE=DURATION:PT1H
X-Robots-Tag:noindex
X-PUBLISHED-TTL:PT1H
BEGIN:VTIMEZONE
TZID:America/Los_Angeles
BEGIN:DAYLIGHT
TZOFFSETFROM:-0800
TZOFFSETTO:-0700
TZNAME:PDT
DTSTART:20240310T100000
END:DAYLIGHT
BEGIN:STANDARD
TZOFFSETFROM:-0700
TZOFFSETTO:-0800
TZNAME:PST
DTSTART:20241103T090000
END:STANDARD
BEGIN:DAYLIGHT
TZOFFSETFROM:-0800
TZOFFSETTO:-0700
TZNAME:PDT
DTSTART:20250309T100000
END:DAYLIGHT
BEGIN:STANDARD
TZOFFSETFROM:-0700
TZOFFSETTO:-0800
TZNAME:PST
DTSTART:20251102T090000
END:STANDARD
BEGIN:DAYLIGHT
TZOFFSETFROM:-0800
TZOFFSETTO:-0700
TZNAME:PDT
DTSTART:20260308T100000
END:DAYLIGHT
BEGIN:STANDARD
TZOFFSETFROM:-0700
TZOFFSETTO:-0800
TZNAME:PST
DTSTART:20261101T090000
END:STANDARD
END:VTIMEZONE
BEGIN:VEVENT
DTSTART;TZID=America/Los_Angeles:20250203T110000
DTEND;TZID=America/Los_Angeles:20250203T120000
DTSTAMP:20260424T072900
CREATED:20250113T183134Z
LAST-MODIFIED:20250113T183322Z
UID:10033587-1738580400-1738584000@mosaicbc.org
SUMMARY:Free Online English Conversation Circle for PR Women
DESCRIPTION:Are you a permanent resident woman eager to enhance your English language skills and cultivate new friendships in a supportive\, engaging environment? Join our Free Online English Conversation Circle\, exclusively designed for women at the upper beginner level. \nEvent Details: \nWho Can Attend:  This event is exclusively for women with Permanent Resident\, Protected Persons\, and CUAET status \nLevel: Upper Beginners \nWhen: \n\nMondays\, Wednesdays & Fridays: 11:00 AM – 12:00 PM\n\nWhere: Zoom (Online) \nRegistration: Please email Eon Joung Lee at ejlee@mosaicbc.org. \nOur Free Online English Conversation Circle for women is the perfect opportunity to refine your English language skills and connect with a diverse community of like-minded women. Throughout the event\, our focus is on daily practice and fostering new friendships\, all while speaking in English. This immersive experience offers you the chance to boost your confidence\, engage in meaningful conversations\, and build connections that can last a lifetime. \nFor any questions or additional information\, please reach out to Eon Joung Lee at ejlee@mosaicbc.org. Join us today and embark on a path to language fluency and meaningful connections! \nThis event is organized by the Newcomers and Community Building Program (NCBP). This program provides newcomer one-on-one and group support to aid in your transition to Canadian life. We create a welcoming environment for all to get the help and resources you need to settle in Canada.
URL:https://mosaicbc.org/event/free-online-english-conversation-circle-pr-women-2/2025-02-03/
LOCATION:Online
CATEGORIES:Conversation Circles,Information Sessions,Online
ATTACH;FMTTYPE=image/jpeg:https://mosaicbc.org/wp-content/uploads/2022/07/event.jpg
ORGANIZER;CN="Newcomers and Community Building Program (NCBP)":MAILTO:settlement@mosaicbc.org
END:VEVENT
BEGIN:VEVENT
DTSTART;TZID=America/Los_Angeles:20250205T110000
DTEND;TZID=America/Los_Angeles:20250205T120000
DTSTAMP:20260424T072900
CREATED:20250113T183134Z
LAST-MODIFIED:20250113T183322Z
UID:10033588-1738753200-1738756800@mosaicbc.org
SUMMARY:Free Online English Conversation Circle for PR Women
DESCRIPTION:Are you a permanent resident woman eager to enhance your English language skills and cultivate new friendships in a supportive\, engaging environment? Join our Free Online English Conversation Circle\, exclusively designed for women at the upper beginner level. \nEvent Details: \nWho Can Attend:  This event is exclusively for women with Permanent Resident\, Protected Persons\, and CUAET status \nLevel: Upper Beginners \nWhen: \n\nMondays\, Wednesdays & Fridays: 11:00 AM – 12:00 PM\n\nWhere: Zoom (Online) \nRegistration: Please email Eon Joung Lee at ejlee@mosaicbc.org. \nOur Free Online English Conversation Circle for women is the perfect opportunity to refine your English language skills and connect with a diverse community of like-minded women. Throughout the event\, our focus is on daily practice and fostering new friendships\, all while speaking in English. This immersive experience offers you the chance to boost your confidence\, engage in meaningful conversations\, and build connections that can last a lifetime. \nFor any questions or additional information\, please reach out to Eon Joung Lee at ejlee@mosaicbc.org. Join us today and embark on a path to language fluency and meaningful connections! \nThis event is organized by the Newcomers and Community Building Program (NCBP). This program provides newcomer one-on-one and group support to aid in your transition to Canadian life. We create a welcoming environment for all to get the help and resources you need to settle in Canada.
URL:https://mosaicbc.org/event/free-online-english-conversation-circle-pr-women-2/2025-02-05/
LOCATION:Online
CATEGORIES:Conversation Circles,Information Sessions,Online
ATTACH;FMTTYPE=image/jpeg:https://mosaicbc.org/wp-content/uploads/2022/07/event.jpg
ORGANIZER;CN="Newcomers and Community Building Program (NCBP)":MAILTO:settlement@mosaicbc.org
END:VEVENT
BEGIN:VEVENT
DTSTART;TZID=America/Los_Angeles:20250207T110000
DTEND;TZID=America/Los_Angeles:20250207T120000
DTSTAMP:20260424T072900
CREATED:20250113T183134Z
LAST-MODIFIED:20250113T183322Z
UID:10033589-1738926000-1738929600@mosaicbc.org
SUMMARY:Free Online English Conversation Circle for PR Women
DESCRIPTION:Are you a permanent resident woman eager to enhance your English language skills and cultivate new friendships in a supportive\, engaging environment? Join our Free Online English Conversation Circle\, exclusively designed for women at the upper beginner level. \nEvent Details: \nWho Can Attend:  This event is exclusively for women with Permanent Resident\, Protected Persons\, and CUAET status \nLevel: Upper Beginners \nWhen: \n\nMondays\, Wednesdays & Fridays: 11:00 AM – 12:00 PM\n\nWhere: Zoom (Online) \nRegistration: Please email Eon Joung Lee at ejlee@mosaicbc.org. \nOur Free Online English Conversation Circle for women is the perfect opportunity to refine your English language skills and connect with a diverse community of like-minded women. Throughout the event\, our focus is on daily practice and fostering new friendships\, all while speaking in English. This immersive experience offers you the chance to boost your confidence\, engage in meaningful conversations\, and build connections that can last a lifetime. \nFor any questions or additional information\, please reach out to Eon Joung Lee at ejlee@mosaicbc.org. Join us today and embark on a path to language fluency and meaningful connections! \nThis event is organized by the Newcomers and Community Building Program (NCBP). This program provides newcomer one-on-one and group support to aid in your transition to Canadian life. We create a welcoming environment for all to get the help and resources you need to settle in Canada.
URL:https://mosaicbc.org/event/free-online-english-conversation-circle-pr-women-2/2025-02-07/
LOCATION:Online
CATEGORIES:Conversation Circles,Information Sessions,Online
ATTACH;FMTTYPE=image/jpeg:https://mosaicbc.org/wp-content/uploads/2022/07/event.jpg
ORGANIZER;CN="Newcomers and Community Building Program (NCBP)":MAILTO:settlement@mosaicbc.org
END:VEVENT
BEGIN:VEVENT
DTSTART;TZID=America/Los_Angeles:20250210T110000
DTEND;TZID=America/Los_Angeles:20250210T120000
DTSTAMP:20260424T072900
CREATED:20250113T183134Z
LAST-MODIFIED:20250113T183322Z
UID:10033590-1739185200-1739188800@mosaicbc.org
SUMMARY:Free Online English Conversation Circle for PR Women
DESCRIPTION:Are you a permanent resident woman eager to enhance your English language skills and cultivate new friendships in a supportive\, engaging environment? Join our Free Online English Conversation Circle\, exclusively designed for women at the upper beginner level. \nEvent Details: \nWho Can Attend:  This event is exclusively for women with Permanent Resident\, Protected Persons\, and CUAET status \nLevel: Upper Beginners \nWhen: \n\nMondays\, Wednesdays & Fridays: 11:00 AM – 12:00 PM\n\nWhere: Zoom (Online) \nRegistration: Please email Eon Joung Lee at ejlee@mosaicbc.org. \nOur Free Online English Conversation Circle for women is the perfect opportunity to refine your English language skills and connect with a diverse community of like-minded women. Throughout the event\, our focus is on daily practice and fostering new friendships\, all while speaking in English. This immersive experience offers you the chance to boost your confidence\, engage in meaningful conversations\, and build connections that can last a lifetime. \nFor any questions or additional information\, please reach out to Eon Joung Lee at ejlee@mosaicbc.org. Join us today and embark on a path to language fluency and meaningful connections! \nThis event is organized by the Newcomers and Community Building Program (NCBP). This program provides newcomer one-on-one and group support to aid in your transition to Canadian life. We create a welcoming environment for all to get the help and resources you need to settle in Canada.
URL:https://mosaicbc.org/event/free-online-english-conversation-circle-pr-women-2/2025-02-10/
LOCATION:Online
CATEGORIES:Conversation Circles,Information Sessions,Online
ATTACH;FMTTYPE=image/jpeg:https://mosaicbc.org/wp-content/uploads/2022/07/event.jpg
ORGANIZER;CN="Newcomers and Community Building Program (NCBP)":MAILTO:settlement@mosaicbc.org
END:VEVENT
BEGIN:VEVENT
DTSTART;TZID=America/Los_Angeles:20250212T110000
DTEND;TZID=America/Los_Angeles:20250212T120000
DTSTAMP:20260424T072900
CREATED:20250113T183134Z
LAST-MODIFIED:20250113T183322Z
UID:10033591-1739358000-1739361600@mosaicbc.org
SUMMARY:Free Online English Conversation Circle for PR Women
DESCRIPTION:Are you a permanent resident woman eager to enhance your English language skills and cultivate new friendships in a supportive\, engaging environment? Join our Free Online English Conversation Circle\, exclusively designed for women at the upper beginner level. \nEvent Details: \nWho Can Attend:  This event is exclusively for women with Permanent Resident\, Protected Persons\, and CUAET status \nLevel: Upper Beginners \nWhen: \n\nMondays\, Wednesdays & Fridays: 11:00 AM – 12:00 PM\n\nWhere: Zoom (Online) \nRegistration: Please email Eon Joung Lee at ejlee@mosaicbc.org. \nOur Free Online English Conversation Circle for women is the perfect opportunity to refine your English language skills and connect with a diverse community of like-minded women. Throughout the event\, our focus is on daily practice and fostering new friendships\, all while speaking in English. This immersive experience offers you the chance to boost your confidence\, engage in meaningful conversations\, and build connections that can last a lifetime. \nFor any questions or additional information\, please reach out to Eon Joung Lee at ejlee@mosaicbc.org. Join us today and embark on a path to language fluency and meaningful connections! \nThis event is organized by the Newcomers and Community Building Program (NCBP). This program provides newcomer one-on-one and group support to aid in your transition to Canadian life. We create a welcoming environment for all to get the help and resources you need to settle in Canada.
URL:https://mosaicbc.org/event/free-online-english-conversation-circle-pr-women-2/2025-02-12/
LOCATION:Online
CATEGORIES:Conversation Circles,Information Sessions,Online
ATTACH;FMTTYPE=image/jpeg:https://mosaicbc.org/wp-content/uploads/2022/07/event.jpg
ORGANIZER;CN="Newcomers and Community Building Program (NCBP)":MAILTO:settlement@mosaicbc.org
END:VEVENT
BEGIN:VEVENT
DTSTART;TZID=America/Los_Angeles:20250214T110000
DTEND;TZID=America/Los_Angeles:20250214T120000
DTSTAMP:20260424T072900
CREATED:20250113T183134Z
LAST-MODIFIED:20250113T183322Z
UID:10033592-1739530800-1739534400@mosaicbc.org
SUMMARY:Free Online English Conversation Circle for PR Women
DESCRIPTION:Are you a permanent resident woman eager to enhance your English language skills and cultivate new friendships in a supportive\, engaging environment? Join our Free Online English Conversation Circle\, exclusively designed for women at the upper beginner level. \nEvent Details: \nWho Can Attend:  This event is exclusively for women with Permanent Resident\, Protected Persons\, and CUAET status \nLevel: Upper Beginners \nWhen: \n\nMondays\, Wednesdays & Fridays: 11:00 AM – 12:00 PM\n\nWhere: Zoom (Online) \nRegistration: Please email Eon Joung Lee at ejlee@mosaicbc.org. \nOur Free Online English Conversation Circle for women is the perfect opportunity to refine your English language skills and connect with a diverse community of like-minded women. Throughout the event\, our focus is on daily practice and fostering new friendships\, all while speaking in English. This immersive experience offers you the chance to boost your confidence\, engage in meaningful conversations\, and build connections that can last a lifetime. \nFor any questions or additional information\, please reach out to Eon Joung Lee at ejlee@mosaicbc.org. Join us today and embark on a path to language fluency and meaningful connections! \nThis event is organized by the Newcomers and Community Building Program (NCBP). This program provides newcomer one-on-one and group support to aid in your transition to Canadian life. We create a welcoming environment for all to get the help and resources you need to settle in Canada.
URL:https://mosaicbc.org/event/free-online-english-conversation-circle-pr-women-2/2025-02-14/
LOCATION:Online
CATEGORIES:Conversation Circles,Information Sessions,Online
ATTACH;FMTTYPE=image/jpeg:https://mosaicbc.org/wp-content/uploads/2022/07/event.jpg
ORGANIZER;CN="Newcomers and Community Building Program (NCBP)":MAILTO:settlement@mosaicbc.org
END:VEVENT
BEGIN:VEVENT
DTSTART;TZID=America/Los_Angeles:20250217T110000
DTEND;TZID=America/Los_Angeles:20250217T120000
DTSTAMP:20260424T072900
CREATED:20250113T183134Z
LAST-MODIFIED:20250113T183322Z
UID:10033593-1739790000-1739793600@mosaicbc.org
SUMMARY:Free Online English Conversation Circle for PR Women
DESCRIPTION:Are you a permanent resident woman eager to enhance your English language skills and cultivate new friendships in a supportive\, engaging environment? Join our Free Online English Conversation Circle\, exclusively designed for women at the upper beginner level. \nEvent Details: \nWho Can Attend:  This event is exclusively for women with Permanent Resident\, Protected Persons\, and CUAET status \nLevel: Upper Beginners \nWhen: \n\nMondays\, Wednesdays & Fridays: 11:00 AM – 12:00 PM\n\nWhere: Zoom (Online) \nRegistration: Please email Eon Joung Lee at ejlee@mosaicbc.org. \nOur Free Online English Conversation Circle for women is the perfect opportunity to refine your English language skills and connect with a diverse community of like-minded women. Throughout the event\, our focus is on daily practice and fostering new friendships\, all while speaking in English. This immersive experience offers you the chance to boost your confidence\, engage in meaningful conversations\, and build connections that can last a lifetime. \nFor any questions or additional information\, please reach out to Eon Joung Lee at ejlee@mosaicbc.org. Join us today and embark on a path to language fluency and meaningful connections! \nThis event is organized by the Newcomers and Community Building Program (NCBP). This program provides newcomer one-on-one and group support to aid in your transition to Canadian life. We create a welcoming environment for all to get the help and resources you need to settle in Canada.
URL:https://mosaicbc.org/event/free-online-english-conversation-circle-pr-women-2/2025-02-17/
LOCATION:Online
CATEGORIES:Conversation Circles,Information Sessions,Online
ATTACH;FMTTYPE=image/jpeg:https://mosaicbc.org/wp-content/uploads/2022/07/event.jpg
ORGANIZER;CN="Newcomers and Community Building Program (NCBP)":MAILTO:settlement@mosaicbc.org
END:VEVENT
BEGIN:VEVENT
DTSTART;TZID=America/Los_Angeles:20250219T110000
DTEND;TZID=America/Los_Angeles:20250219T120000
DTSTAMP:20260424T072900
CREATED:20250113T183134Z
LAST-MODIFIED:20250113T183322Z
UID:10033594-1739962800-1739966400@mosaicbc.org
SUMMARY:Free Online English Conversation Circle for PR Women
DESCRIPTION:Are you a permanent resident woman eager to enhance your English language skills and cultivate new friendships in a supportive\, engaging environment? Join our Free Online English Conversation Circle\, exclusively designed for women at the upper beginner level. \nEvent Details: \nWho Can Attend:  This event is exclusively for women with Permanent Resident\, Protected Persons\, and CUAET status \nLevel: Upper Beginners \nWhen: \n\nMondays\, Wednesdays & Fridays: 11:00 AM – 12:00 PM\n\nWhere: Zoom (Online) \nRegistration: Please email Eon Joung Lee at ejlee@mosaicbc.org. \nOur Free Online English Conversation Circle for women is the perfect opportunity to refine your English language skills and connect with a diverse community of like-minded women. Throughout the event\, our focus is on daily practice and fostering new friendships\, all while speaking in English. This immersive experience offers you the chance to boost your confidence\, engage in meaningful conversations\, and build connections that can last a lifetime. \nFor any questions or additional information\, please reach out to Eon Joung Lee at ejlee@mosaicbc.org. Join us today and embark on a path to language fluency and meaningful connections! \nThis event is organized by the Newcomers and Community Building Program (NCBP). This program provides newcomer one-on-one and group support to aid in your transition to Canadian life. We create a welcoming environment for all to get the help and resources you need to settle in Canada.
URL:https://mosaicbc.org/event/free-online-english-conversation-circle-pr-women-2/2025-02-19/
LOCATION:Online
CATEGORIES:Conversation Circles,Information Sessions,Online
ATTACH;FMTTYPE=image/jpeg:https://mosaicbc.org/wp-content/uploads/2022/07/event.jpg
ORGANIZER;CN="Newcomers and Community Building Program (NCBP)":MAILTO:settlement@mosaicbc.org
END:VEVENT
BEGIN:VEVENT
DTSTART;TZID=America/Los_Angeles:20250221T110000
DTEND;TZID=America/Los_Angeles:20250221T120000
DTSTAMP:20260424T072900
CREATED:20250113T183134Z
LAST-MODIFIED:20250113T183322Z
UID:10033595-1740135600-1740139200@mosaicbc.org
SUMMARY:Free Online English Conversation Circle for PR Women
DESCRIPTION:Are you a permanent resident woman eager to enhance your English language skills and cultivate new friendships in a supportive\, engaging environment? Join our Free Online English Conversation Circle\, exclusively designed for women at the upper beginner level. \nEvent Details: \nWho Can Attend:  This event is exclusively for women with Permanent Resident\, Protected Persons\, and CUAET status \nLevel: Upper Beginners \nWhen: \n\nMondays\, Wednesdays & Fridays: 11:00 AM – 12:00 PM\n\nWhere: Zoom (Online) \nRegistration: Please email Eon Joung Lee at ejlee@mosaicbc.org. \nOur Free Online English Conversation Circle for women is the perfect opportunity to refine your English language skills and connect with a diverse community of like-minded women. Throughout the event\, our focus is on daily practice and fostering new friendships\, all while speaking in English. This immersive experience offers you the chance to boost your confidence\, engage in meaningful conversations\, and build connections that can last a lifetime. \nFor any questions or additional information\, please reach out to Eon Joung Lee at ejlee@mosaicbc.org. Join us today and embark on a path to language fluency and meaningful connections! \nThis event is organized by the Newcomers and Community Building Program (NCBP). This program provides newcomer one-on-one and group support to aid in your transition to Canadian life. We create a welcoming environment for all to get the help and resources you need to settle in Canada.
URL:https://mosaicbc.org/event/free-online-english-conversation-circle-pr-women-2/2025-02-21/
LOCATION:Online
CATEGORIES:Conversation Circles,Information Sessions,Online
ATTACH;FMTTYPE=image/jpeg:https://mosaicbc.org/wp-content/uploads/2022/07/event.jpg
ORGANIZER;CN="Newcomers and Community Building Program (NCBP)":MAILTO:settlement@mosaicbc.org
END:VEVENT
BEGIN:VEVENT
DTSTART;TZID=America/Los_Angeles:20250224T110000
DTEND;TZID=America/Los_Angeles:20250224T120000
DTSTAMP:20260424T072900
CREATED:20250113T183134Z
LAST-MODIFIED:20250113T183322Z
UID:10033596-1740394800-1740398400@mosaicbc.org
SUMMARY:Free Online English Conversation Circle for PR Women
DESCRIPTION:Are you a permanent resident woman eager to enhance your English language skills and cultivate new friendships in a supportive\, engaging environment? Join our Free Online English Conversation Circle\, exclusively designed for women at the upper beginner level. \nEvent Details: \nWho Can Attend:  This event is exclusively for women with Permanent Resident\, Protected Persons\, and CUAET status \nLevel: Upper Beginners \nWhen: \n\nMondays\, Wednesdays & Fridays: 11:00 AM – 12:00 PM\n\nWhere: Zoom (Online) \nRegistration: Please email Eon Joung Lee at ejlee@mosaicbc.org. \nOur Free Online English Conversation Circle for women is the perfect opportunity to refine your English language skills and connect with a diverse community of like-minded women. Throughout the event\, our focus is on daily practice and fostering new friendships\, all while speaking in English. This immersive experience offers you the chance to boost your confidence\, engage in meaningful conversations\, and build connections that can last a lifetime. \nFor any questions or additional information\, please reach out to Eon Joung Lee at ejlee@mosaicbc.org. Join us today and embark on a path to language fluency and meaningful connections! \nThis event is organized by the Newcomers and Community Building Program (NCBP). This program provides newcomer one-on-one and group support to aid in your transition to Canadian life. We create a welcoming environment for all to get the help and resources you need to settle in Canada.
URL:https://mosaicbc.org/event/free-online-english-conversation-circle-pr-women-2/2025-02-24/
LOCATION:Online
CATEGORIES:Conversation Circles,Information Sessions,Online
ATTACH;FMTTYPE=image/jpeg:https://mosaicbc.org/wp-content/uploads/2022/07/event.jpg
ORGANIZER;CN="Newcomers and Community Building Program (NCBP)":MAILTO:settlement@mosaicbc.org
END:VEVENT
BEGIN:VEVENT
DTSTART;TZID=America/Los_Angeles:20250226T110000
DTEND;TZID=America/Los_Angeles:20250226T120000
DTSTAMP:20260424T072900
CREATED:20250113T183134Z
LAST-MODIFIED:20250113T183322Z
UID:10033597-1740567600-1740571200@mosaicbc.org
SUMMARY:Free Online English Conversation Circle for PR Women
DESCRIPTION:Are you a permanent resident woman eager to enhance your English language skills and cultivate new friendships in a supportive\, engaging environment? Join our Free Online English Conversation Circle\, exclusively designed for women at the upper beginner level. \nEvent Details: \nWho Can Attend:  This event is exclusively for women with Permanent Resident\, Protected Persons\, and CUAET status \nLevel: Upper Beginners \nWhen: \n\nMondays\, Wednesdays & Fridays: 11:00 AM – 12:00 PM\n\nWhere: Zoom (Online) \nRegistration: Please email Eon Joung Lee at ejlee@mosaicbc.org. \nOur Free Online English Conversation Circle for women is the perfect opportunity to refine your English language skills and connect with a diverse community of like-minded women. Throughout the event\, our focus is on daily practice and fostering new friendships\, all while speaking in English. This immersive experience offers you the chance to boost your confidence\, engage in meaningful conversations\, and build connections that can last a lifetime. \nFor any questions or additional information\, please reach out to Eon Joung Lee at ejlee@mosaicbc.org. Join us today and embark on a path to language fluency and meaningful connections! \nThis event is organized by the Newcomers and Community Building Program (NCBP). This program provides newcomer one-on-one and group support to aid in your transition to Canadian life. We create a welcoming environment for all to get the help and resources you need to settle in Canada.
URL:https://mosaicbc.org/event/free-online-english-conversation-circle-pr-women-2/2025-02-26/
LOCATION:Online
CATEGORIES:Conversation Circles,Information Sessions,Online
ATTACH;FMTTYPE=image/jpeg:https://mosaicbc.org/wp-content/uploads/2022/07/event.jpg
ORGANIZER;CN="Newcomers and Community Building Program (NCBP)":MAILTO:settlement@mosaicbc.org
END:VEVENT
BEGIN:VEVENT
DTSTART;TZID=America/Los_Angeles:20250228T110000
DTEND;TZID=America/Los_Angeles:20250228T120000
DTSTAMP:20260424T072900
CREATED:20250113T183134Z
LAST-MODIFIED:20250113T183322Z
UID:10033598-1740740400-1740744000@mosaicbc.org
SUMMARY:Free Online English Conversation Circle for PR Women
DESCRIPTION:Are you a permanent resident woman eager to enhance your English language skills and cultivate new friendships in a supportive\, engaging environment? Join our Free Online English Conversation Circle\, exclusively designed for women at the upper beginner level. \nEvent Details: \nWho Can Attend:  This event is exclusively for women with Permanent Resident\, Protected Persons\, and CUAET status \nLevel: Upper Beginners \nWhen: \n\nMondays\, Wednesdays & Fridays: 11:00 AM – 12:00 PM\n\nWhere: Zoom (Online) \nRegistration: Please email Eon Joung Lee at ejlee@mosaicbc.org. \nOur Free Online English Conversation Circle for women is the perfect opportunity to refine your English language skills and connect with a diverse community of like-minded women. Throughout the event\, our focus is on daily practice and fostering new friendships\, all while speaking in English. This immersive experience offers you the chance to boost your confidence\, engage in meaningful conversations\, and build connections that can last a lifetime. \nFor any questions or additional information\, please reach out to Eon Joung Lee at ejlee@mosaicbc.org. Join us today and embark on a path to language fluency and meaningful connections! \nThis event is organized by the Newcomers and Community Building Program (NCBP). This program provides newcomer one-on-one and group support to aid in your transition to Canadian life. We create a welcoming environment for all to get the help and resources you need to settle in Canada.
URL:https://mosaicbc.org/event/free-online-english-conversation-circle-pr-women-2/2025-02-28/
LOCATION:Online
CATEGORIES:Conversation Circles,Information Sessions,Online
ATTACH;FMTTYPE=image/jpeg:https://mosaicbc.org/wp-content/uploads/2022/07/event.jpg
ORGANIZER;CN="Newcomers and Community Building Program (NCBP)":MAILTO:settlement@mosaicbc.org
END:VEVENT
END:VCALENDAR