BEGIN:VCALENDAR
VERSION:2.0
PRODID:-//MOSAIC - ECPv6.15.20//NONSGML v1.0//EN
CALSCALE:GREGORIAN
METHOD:PUBLISH
X-ORIGINAL-URL:https://mosaicbc.org
X-WR-CALDESC:Events for MOSAIC
REFRESH-INTERVAL;VALUE=DURATION:PT1H
X-Robots-Tag:noindex
X-PUBLISHED-TTL:PT1H
BEGIN:VTIMEZONE
TZID:America/Vancouver
BEGIN:DAYLIGHT
TZOFFSETFROM:-0800
TZOFFSETTO:-0700
TZNAME:PDT
DTSTART:20240310T100000
END:DAYLIGHT
BEGIN:STANDARD
TZOFFSETFROM:-0700
TZOFFSETTO:-0800
TZNAME:PST
DTSTART:20241103T090000
END:STANDARD
BEGIN:DAYLIGHT
TZOFFSETFROM:-0800
TZOFFSETTO:-0700
TZNAME:PDT
DTSTART:20250309T100000
END:DAYLIGHT
BEGIN:STANDARD
TZOFFSETFROM:-0700
TZOFFSETTO:-0800
TZNAME:PST
DTSTART:20251102T090000
END:STANDARD
BEGIN:DAYLIGHT
TZOFFSETFROM:-0800
TZOFFSETTO:-0700
TZNAME:PDT
DTSTART:20260308T100000
END:DAYLIGHT
BEGIN:STANDARD
TZOFFSETFROM:-0700
TZOFFSETTO:-0800
TZNAME:PST
DTSTART:20261101T090000
END:STANDARD
END:VTIMEZONE
BEGIN:VEVENT
DTSTART;TZID=America/Vancouver:20250606T103000
DTEND;TZID=America/Vancouver:20250606T123000
DTSTAMP:20260419T093725
CREATED:20250529T220117Z
LAST-MODIFIED:20250529T233014Z
UID:10034138-1749205800-1749213000@mosaicbc.org
SUMMARY:Co-op Housing Workshop
DESCRIPTION:Are you a newcomer to Canada looking for more affordable and stable housing options? Join us for a free in-person Co-op Housing Workshop designed to help you understand the benefits and pathways of cooperative living. \n📅 Date: Friday\, June 6\, 2025⏰ Time: 10:30 a.m. – 12:30 p.m.📍 Location: 5575 Boundary Road\, Vancouver\, BC V5R 2P9👥 Open to: Permanent Residents and Protected Persons only🔗 Registration Form \nThis engaging and informative session will be led by a guest speaker from the Co-operative Housing Federation of BC\, the leading voice for non-profit housing co-ops across the province. \nWhy Co-op Housing is a good option?\nYou’ll learn what co-op housing is\, how it differs from traditional rental housing\, and the steps to apply. Co-op housing offers not only lower housing costs but also a strong sense of community\, shared decision-making\, and long-term stability—an ideal option for newcomers building a new life in Canada. \n✔️ Learn from housing experts✔️ Enjoy free snacks\, coffee\, and tea✔️ Connect with other newcomers✔️ Get step-by-step guidance on applying \nThis workshop is organized by our Newcomers and Community Building Program and is a great opportunity to get trusted information\, ask questions directly\, and connect with others who are navigating similar housing challenges. \nSpots are limited\, and registration is required—sign up today to secure your place! \nWe look forward to welcoming you and supporting your journey toward stable\, affordable housing in Canada.
URL:https://mosaicbc.org/event/co-op-housing-workshop/
LOCATION:MOSAIC – Boundary\, 5575 Boundary Road\, Vancouver\, British Columbia\, V5R 2P9
CATEGORIES:Information Sessions,Other Events,Workshops
ATTACH;FMTTYPE=image/jpeg:https://mosaicbc.org/wp-content/uploads/2025/05/Coop-Housing-1-scaled.jpg
ORGANIZER;CN="Newcomers and Community Building Program (NCBP)":MAILTO:settlement@mosaicbc.org
GEO:49.2336134;-123.0236146
X-APPLE-STRUCTURED-LOCATION;VALUE=URI;X-ADDRESS=MOSAIC – Boundary 5575 Boundary Road Vancouver British Columbia V5R 2P9;X-APPLE-RADIUS=500;X-TITLE=5575 Boundary Road:geo:-123.0236146,49.2336134
END:VEVENT
BEGIN:VEVENT
DTSTART;TZID=America/Vancouver:20250613T100000
DTEND;TZID=America/Vancouver:20250613T120000
DTSTAMP:20260419T093725
CREATED:20250604T213158Z
LAST-MODIFIED:20250604T213217Z
UID:10034139-1749808800-1749816000@mosaicbc.org
SUMMARY:Job Search Strategies Workshop in Vancouver
DESCRIPTION:Learn Effective Ways to Find a Job in Canada\nAre you new to Canada and looking for your next job opportunity? Join us for the Job Search Strategies Workshop\, a free and in-person event designed to help newcomers understand the Canadian job market and develop effective strategies to succeed in their job search. \n📅 Date: Friday\, June 13\, 2025 \n🕙 Time: 10:00 a.m. – 12:00 p.m. \n📍 Location: MOSAIC Head Office – 5575 Boundary Rd.\, Vancouver \n🔗 Registration Form: Save your spot! \nWhat You’ll Learn\nThis workshop will help you gain the confidence and skills to navigate your job search in Canada. Whether you’re just starting your journey or looking to change careers\, this session will cover: \n\n\nDifferent ways people find jobs in Canada and how employers recruit \n\n\nFive job search strategies with tips\, tools\, and resources for each \n\n\nHow to make your job search message clear and targeted \n\n\nBest practices for following up after contacting employers or submitting applications \n\n\nThis is a great opportunity to connect with others\, ask questions\, and walk away with practical knowledge that you can apply immediately. \nWho Can Join\nThis free job workshop is open to: \n\n\nRefugee claimants \n\n\nOpen work permit holders \n\n\nStudy permit holders \n\n\nNaturalized citizens \n\n\nPlease note: the session will be delivered in English. \nMore Support for Newcomers\nThis workshop is offered through our BC Newcomer Services Program (BCNSP). If you need more help adjusting to life in Canada\, exploring employment\, or accessing community resources\, visit the program page to learn more. \n\nLet me know if you’d like a French translation or a simplified version for audiences with lower English proficiency.
URL:https://mosaicbc.org/event/job-search-strategies-workshop-vancouver/
LOCATION:MOSAIC – Boundary\, 5575 Boundary Road\, Vancouver\, British Columbia\, V5R 2P9
CATEGORIES:Employment related events,Workshops
ATTACH;FMTTYPE=image/jpeg:https://mosaicbc.org/wp-content/uploads/2025/06/Job-Search-1-scaled.jpg
ORGANIZER;CN="BC Newcomer Services Program (BCNSP)":MAILTO:bcsis@mosaicbc.org
GEO:49.2336134;-123.0236146
X-APPLE-STRUCTURED-LOCATION;VALUE=URI;X-ADDRESS=MOSAIC – Boundary 5575 Boundary Road Vancouver British Columbia V5R 2P9;X-APPLE-RADIUS=500;X-TITLE=5575 Boundary Road:geo:-123.0236146,49.2336134
END:VEVENT
END:VCALENDAR