BEGIN:VCALENDAR
VERSION:2.0
PRODID:-//MOSAIC - ECPv6.15.20//NONSGML v1.0//EN
CALSCALE:GREGORIAN
METHOD:PUBLISH
X-WR-CALNAME:MOSAIC
X-ORIGINAL-URL:https://mosaicbc.org
X-WR-CALDESC:Events for MOSAIC
REFRESH-INTERVAL;VALUE=DURATION:PT1H
X-Robots-Tag:noindex
X-PUBLISHED-TTL:PT1H
BEGIN:VTIMEZONE
TZID:America/Los_Angeles
BEGIN:DAYLIGHT
TZOFFSETFROM:-0800
TZOFFSETTO:-0700
TZNAME:PDT
DTSTART:20240310T100000
END:DAYLIGHT
BEGIN:STANDARD
TZOFFSETFROM:-0700
TZOFFSETTO:-0800
TZNAME:PST
DTSTART:20241103T090000
END:STANDARD
BEGIN:DAYLIGHT
TZOFFSETFROM:-0800
TZOFFSETTO:-0700
TZNAME:PDT
DTSTART:20250309T100000
END:DAYLIGHT
BEGIN:STANDARD
TZOFFSETFROM:-0700
TZOFFSETTO:-0800
TZNAME:PST
DTSTART:20251102T090000
END:STANDARD
BEGIN:DAYLIGHT
TZOFFSETFROM:-0800
TZOFFSETTO:-0700
TZNAME:PDT
DTSTART:20260308T100000
END:DAYLIGHT
BEGIN:STANDARD
TZOFFSETFROM:-0700
TZOFFSETTO:-0800
TZNAME:PST
DTSTART:20261101T090000
END:STANDARD
END:VTIMEZONE
BEGIN:VTIMEZONE
TZID:America/Vancouver
BEGIN:DAYLIGHT
TZOFFSETFROM:-0800
TZOFFSETTO:-0700
TZNAME:PDT
DTSTART:20240310T100000
END:DAYLIGHT
BEGIN:STANDARD
TZOFFSETFROM:-0700
TZOFFSETTO:-0800
TZNAME:PST
DTSTART:20241103T090000
END:STANDARD
BEGIN:DAYLIGHT
TZOFFSETFROM:-0800
TZOFFSETTO:-0700
TZNAME:PDT
DTSTART:20250309T100000
END:DAYLIGHT
BEGIN:STANDARD
TZOFFSETFROM:-0700
TZOFFSETTO:-0800
TZNAME:PST
DTSTART:20251102T090000
END:STANDARD
BEGIN:DAYLIGHT
TZOFFSETFROM:-0800
TZOFFSETTO:-0700
TZNAME:PDT
DTSTART:20260308T100000
END:DAYLIGHT
BEGIN:STANDARD
TZOFFSETFROM:-0700
TZOFFSETTO:-0800
TZNAME:PST
DTSTART:20261101T090000
END:STANDARD
END:VTIMEZONE
BEGIN:VEVENT
DTSTART;TZID=America/Los_Angeles:20250211T170000
DTEND;TZID=America/Los_Angeles:20250211T190000
DTSTAMP:20260419T155354
CREATED:20241224T194216Z
LAST-MODIFIED:20241224T194252Z
UID:10033454-1739293200-1739300400@mosaicbc.org
SUMMARY:Canadian Citizenship Workshop
DESCRIPTION:Are you a permanent resident of Canada aspiring to become a Canadian citizen? Look no further! Join our comprehensive and engaging Canadian Citizenship Workshop to enhance your understanding of Canadian history\, government\, regions\, and more. This interactive\, informative\, and supportive online event is designed to support you on your path to Canadian citizenship. \nEvent Details: \n\nDate: February 11 – February 14\, 2025 (4 days event)\nTime: 5:00 PM – 7:00 PM\nOnline: The link will be provided upon registration\nRegistration Information: Hurry\, as space is limited\, and it’s on a first-come\, first-served basis! To secure your spot\, please fill out the Registration Form.\n\nCanadian Citizenship Workshop Highlights:\n\nSession 1: Delve into Canada’s History – Part 1\nSession 2: Explore Canada’s History – Part 2\nSession 3: Understand Canada’s Government System\nSession 4: Discover Canadian Symbols & Regions\, plus learn how to Access the Online Citizenship Test\n\nIn these interactive sessions led by experienced instructors\, you’ll gain valuable insights into Canada’s rich history\, diverse regions\, and governmental structure. Whether you’re preparing for the citizenship test or simply want to deepen your knowledge of your adopted country\, this workshop is tailored to meet your needs. Additionally\, you’ll have the opportunity to connect with fellow participants\, fostering a sense of community and support. Engage in stimulating discussions\, ask questions\, and receive personalized guidance from our knowledgeable instructors. \nSecure your place now in our Canadian Citizenship Workshop and take a step forward to making Canada your home! \nEvent Poster for Download \nAbout the Organizer: This event is organized by the Newcomers and Community Building Program (NCBP). NCBP is dedicated to providing newcomers with one-on-one and group support\, helping ease your transition into Canadian life. Our team of multicultural professionals is committed to offering guidance and resources to assist you in every step of your journey toward integration and citizenship. If you are interested in receiving more support\, feel free to visit the program page to know more.
URL:https://mosaicbc.org/event/canadian-citizenship-workshop-2-2/2025-02-11/
LOCATION:Online
CATEGORIES:Information Sessions,Online,Workshops
ATTACH;FMTTYPE=image/jpeg:https://mosaicbc.org/wp-content/uploads/2023/10/Canadian-Citizenship-scaled.jpg
ORGANIZER;CN="Newcomers and Community Building Program (NCBP)":MAILTO:settlement@mosaicbc.org
END:VEVENT
BEGIN:VEVENT
DTSTART;TZID=America/Los_Angeles:20250212T170000
DTEND;TZID=America/Los_Angeles:20250212T190000
DTSTAMP:20260419T155354
CREATED:20241224T194216Z
LAST-MODIFIED:20241224T194252Z
UID:10033582-1739379600-1739386800@mosaicbc.org
SUMMARY:Canadian Citizenship Workshop
DESCRIPTION:Are you a permanent resident of Canada aspiring to become a Canadian citizen? Look no further! Join our comprehensive and engaging Canadian Citizenship Workshop to enhance your understanding of Canadian history\, government\, regions\, and more. This interactive\, informative\, and supportive online event is designed to support you on your path to Canadian citizenship. \nEvent Details: \n\nDate: February 11 – February 14\, 2025 (4 days event)\nTime: 5:00 PM – 7:00 PM\nOnline: The link will be provided upon registration\nRegistration Information: Hurry\, as space is limited\, and it’s on a first-come\, first-served basis! To secure your spot\, please fill out the Registration Form.\n\nCanadian Citizenship Workshop Highlights:\n\nSession 1: Delve into Canada’s History – Part 1\nSession 2: Explore Canada’s History – Part 2\nSession 3: Understand Canada’s Government System\nSession 4: Discover Canadian Symbols & Regions\, plus learn how to Access the Online Citizenship Test\n\nIn these interactive sessions led by experienced instructors\, you’ll gain valuable insights into Canada’s rich history\, diverse regions\, and governmental structure. Whether you’re preparing for the citizenship test or simply want to deepen your knowledge of your adopted country\, this workshop is tailored to meet your needs. Additionally\, you’ll have the opportunity to connect with fellow participants\, fostering a sense of community and support. Engage in stimulating discussions\, ask questions\, and receive personalized guidance from our knowledgeable instructors. \nSecure your place now in our Canadian Citizenship Workshop and take a step forward to making Canada your home! \nEvent Poster for Download \nAbout the Organizer: This event is organized by the Newcomers and Community Building Program (NCBP). NCBP is dedicated to providing newcomers with one-on-one and group support\, helping ease your transition into Canadian life. Our team of multicultural professionals is committed to offering guidance and resources to assist you in every step of your journey toward integration and citizenship. If you are interested in receiving more support\, feel free to visit the program page to know more.
URL:https://mosaicbc.org/event/canadian-citizenship-workshop-2-2/2025-02-12/
LOCATION:Online
CATEGORIES:Information Sessions,Online,Workshops
ATTACH;FMTTYPE=image/jpeg:https://mosaicbc.org/wp-content/uploads/2023/10/Canadian-Citizenship-scaled.jpg
ORGANIZER;CN="Newcomers and Community Building Program (NCBP)":MAILTO:settlement@mosaicbc.org
END:VEVENT
BEGIN:VEVENT
DTSTART;TZID=America/Los_Angeles:20250213T170000
DTEND;TZID=America/Los_Angeles:20250213T190000
DTSTAMP:20260419T155354
CREATED:20241224T194216Z
LAST-MODIFIED:20241224T194252Z
UID:10033583-1739466000-1739473200@mosaicbc.org
SUMMARY:Canadian Citizenship Workshop
DESCRIPTION:Are you a permanent resident of Canada aspiring to become a Canadian citizen? Look no further! Join our comprehensive and engaging Canadian Citizenship Workshop to enhance your understanding of Canadian history\, government\, regions\, and more. This interactive\, informative\, and supportive online event is designed to support you on your path to Canadian citizenship. \nEvent Details: \n\nDate: February 11 – February 14\, 2025 (4 days event)\nTime: 5:00 PM – 7:00 PM\nOnline: The link will be provided upon registration\nRegistration Information: Hurry\, as space is limited\, and it’s on a first-come\, first-served basis! To secure your spot\, please fill out the Registration Form.\n\nCanadian Citizenship Workshop Highlights:\n\nSession 1: Delve into Canada’s History – Part 1\nSession 2: Explore Canada’s History – Part 2\nSession 3: Understand Canada’s Government System\nSession 4: Discover Canadian Symbols & Regions\, plus learn how to Access the Online Citizenship Test\n\nIn these interactive sessions led by experienced instructors\, you’ll gain valuable insights into Canada’s rich history\, diverse regions\, and governmental structure. Whether you’re preparing for the citizenship test or simply want to deepen your knowledge of your adopted country\, this workshop is tailored to meet your needs. Additionally\, you’ll have the opportunity to connect with fellow participants\, fostering a sense of community and support. Engage in stimulating discussions\, ask questions\, and receive personalized guidance from our knowledgeable instructors. \nSecure your place now in our Canadian Citizenship Workshop and take a step forward to making Canada your home! \nEvent Poster for Download \nAbout the Organizer: This event is organized by the Newcomers and Community Building Program (NCBP). NCBP is dedicated to providing newcomers with one-on-one and group support\, helping ease your transition into Canadian life. Our team of multicultural professionals is committed to offering guidance and resources to assist you in every step of your journey toward integration and citizenship. If you are interested in receiving more support\, feel free to visit the program page to know more.
URL:https://mosaicbc.org/event/canadian-citizenship-workshop-2-2/2025-02-13/
LOCATION:Online
CATEGORIES:Information Sessions,Online,Workshops
ATTACH;FMTTYPE=image/jpeg:https://mosaicbc.org/wp-content/uploads/2023/10/Canadian-Citizenship-scaled.jpg
ORGANIZER;CN="Newcomers and Community Building Program (NCBP)":MAILTO:settlement@mosaicbc.org
END:VEVENT
BEGIN:VEVENT
DTSTART;TZID=America/Vancouver:20250224T113000
DTEND;TZID=America/Vancouver:20250224T130000
DTSTAMP:20260419T155354
CREATED:20250123T173845Z
LAST-MODIFIED:20251211T195546Z
UID:10033657-1740396600-1740402000@mosaicbc.org
SUMMARY:Scam Awareness and Prevention Workshop
DESCRIPTION:Scams and frauds are becoming more sophisticated\, especially with the rise of artificial intelligence (AI) in fraudulent activities. Anyone can be a target. By attending this workshop\, you’ll gain the knowledge and tools to recognize and prevent potential threats. Our interactive sessions encourage sharing experiences and practicing prevention methods in a supportive environment. Whether you’re new to this topic or looking to deepen your understanding\, this workshop is designed for you. \nDates: February 24\, 2025\, and February 27\, 2025 (the two dates are not a part 1 and part 2 sessions\, so you attend one\, you don’t have to attend the other) \nTime: 11:30 AM – 1:00 PM (Subject to change) \nLocation: Online \nFacilitator: Kriti \nRegistration: Please register on our Eventbrite Page \nWhat You’ll Learn\n\nUnderstanding Scams vs. Frauds: Learn the key differences and how each can impact you.\nTop 10 Common Scams: Identify prevalent scams targeting individuals today.\nAI Scam Awareness: Explore how scammers are using artificial intelligence to create convincing fake identities\, manipulate social media\, and generate realistic fake images and videos (also known as “deepfakes”).\ntruitycu.org\n\nMethods Used by Scammers: Discover the three primary techniques scammers employ and how to recognize them.\nProtection and Prevention Tips: Equip yourself with strategies to protect your data and personal information.\nResources for Victims: Access support and resources if you’ve been affected by scams or frauds.\n\nAbout the Organizer \nThis event is organized by MOSAIC’s Violence Prevention and Support Services\, dedicated to providing multicultural support\, counselling\, and guidance for individuals at risk of or experiencing violence or abuse. For more information about our services\, feel free to visit the program page.
URL:https://mosaicbc.org/event/scam-and-fraud-prevention-workshop/2025-02-24/
LOCATION:Online
CATEGORIES:Workshops
ATTACH;FMTTYPE=image/jpeg:https://mosaicbc.org/wp-content/uploads/2025/01/scam-scaled.jpg
END:VEVENT
BEGIN:VEVENT
DTSTART;TZID=America/Vancouver:20250227T113000
DTEND;TZID=America/Vancouver:20250227T130000
DTSTAMP:20260419T155354
CREATED:20250123T173845Z
LAST-MODIFIED:20251211T195546Z
UID:10033961-1740655800-1740661200@mosaicbc.org
SUMMARY:Scam Awareness and Prevention Workshop
DESCRIPTION:Scams and frauds are becoming more sophisticated\, especially with the rise of artificial intelligence (AI) in fraudulent activities. Anyone can be a target. By attending this workshop\, you’ll gain the knowledge and tools to recognize and prevent potential threats. Our interactive sessions encourage sharing experiences and practicing prevention methods in a supportive environment. Whether you’re new to this topic or looking to deepen your understanding\, this workshop is designed for you. \nDates: February 24\, 2025\, and February 27\, 2025 (the two dates are not a part 1 and part 2 sessions\, so you attend one\, you don’t have to attend the other) \nTime: 11:30 AM – 1:00 PM (Subject to change) \nLocation: Online \nFacilitator: Kriti \nRegistration: Please register on our Eventbrite Page \nWhat You’ll Learn\n\nUnderstanding Scams vs. Frauds: Learn the key differences and how each can impact you.\nTop 10 Common Scams: Identify prevalent scams targeting individuals today.\nAI Scam Awareness: Explore how scammers are using artificial intelligence to create convincing fake identities\, manipulate social media\, and generate realistic fake images and videos (also known as “deepfakes”).\ntruitycu.org\n\nMethods Used by Scammers: Discover the three primary techniques scammers employ and how to recognize them.\nProtection and Prevention Tips: Equip yourself with strategies to protect your data and personal information.\nResources for Victims: Access support and resources if you’ve been affected by scams or frauds.\n\nAbout the Organizer \nThis event is organized by MOSAIC’s Violence Prevention and Support Services\, dedicated to providing multicultural support\, counselling\, and guidance for individuals at risk of or experiencing violence or abuse. For more information about our services\, feel free to visit the program page.
URL:https://mosaicbc.org/event/scam-and-fraud-prevention-workshop/2025-02-27/
LOCATION:Online
CATEGORIES:Workshops
ATTACH;FMTTYPE=image/jpeg:https://mosaicbc.org/wp-content/uploads/2025/01/scam-scaled.jpg
END:VEVENT
END:VCALENDAR