BEGIN:VCALENDAR
VERSION:2.0
PRODID:-//MOSAIC - ECPv6.15.20//NONSGML v1.0//EN
CALSCALE:GREGORIAN
METHOD:PUBLISH
X-ORIGINAL-URL:https://mosaicbc.org
X-WR-CALDESC:Events for MOSAIC
REFRESH-INTERVAL;VALUE=DURATION:PT1H
X-Robots-Tag:noindex
X-PUBLISHED-TTL:PT1H
BEGIN:VTIMEZONE
TZID:America/Vancouver
BEGIN:DAYLIGHT
TZOFFSETFROM:-0800
TZOFFSETTO:-0700
TZNAME:PDT
DTSTART:20240310T100000
END:DAYLIGHT
BEGIN:STANDARD
TZOFFSETFROM:-0700
TZOFFSETTO:-0800
TZNAME:PST
DTSTART:20241103T090000
END:STANDARD
BEGIN:DAYLIGHT
TZOFFSETFROM:-0800
TZOFFSETTO:-0700
TZNAME:PDT
DTSTART:20250309T100000
END:DAYLIGHT
BEGIN:STANDARD
TZOFFSETFROM:-0700
TZOFFSETTO:-0800
TZNAME:PST
DTSTART:20251102T090000
END:STANDARD
BEGIN:DAYLIGHT
TZOFFSETFROM:-0800
TZOFFSETTO:-0700
TZNAME:PDT
DTSTART:20260308T100000
END:DAYLIGHT
BEGIN:STANDARD
TZOFFSETFROM:-0700
TZOFFSETTO:-0800
TZNAME:PST
DTSTART:20261101T090000
END:STANDARD
END:VTIMEZONE
BEGIN:VEVENT
DTSTART;TZID=America/Vancouver:20250103T103000
DTEND;TZID=America/Vancouver:20250103T120000
DTSTAMP:20260419T172516
CREATED:20241104T184947Z
LAST-MODIFIED:20250115T190500Z
UID:10033467-1735900200-1735905600@mosaicbc.org
SUMMARY:Technology for Seniors
DESCRIPTION:Join us for our Technology for Seniors workshop series\, designed specifically to help seniors feel comfortable and confident with digital tools. Our Modern Technology for Everyday Use sessions introduce seniors to essential apps and online services that can simplify daily tasks\, enhance communication\, and support independence. Whether you’re new to technology or want to deepen your skills\, this series provides easy-to-follow guidance and hands-on practice. \nWhat You’ll Learn\nEach week\, our instructors cover new topics in simple\, easy-to-follow steps that encourage seniors to use technology confidently. Here’s an overview of our upcoming sessions: \nUsing Google Translate\nOn December 6\, seniors will learn how to use Google Translate on smartphones\, including how to set default languages in the browser. Whether you’re traveling\, reading\, or needing a quick translation\, this tool will make communication easier and more accessible. \nNavigating with Google Maps & Transit\nOn December 13\, seniors will explore Google Maps and the Transit app to make getting around Surrey and beyond simpler. This session will cover trip planning\, transit schedules\, and using GPS for easy navigation. \nProblem Solving with ChatGPT\nOn December 20\, discover how ChatGPT can help solve daily problems\, answer questions\, and provide quick solutions. This session is an exciting introduction to AI\, tailored to meet the needs of seniors. \nSetting Up Gmail & CRA Accounts\nOn January 3\, seniors will receive guidance on creating a personal Gmail account and setting up their CRA (Canada Revenue Agency) account. This workshop ensures safe and secure management of email and government services online. \nHealth Resources & Apps\nOn January 10\, we’ll explore helpful websites and apps for health information. This includes reliable resources for wellness\, medical news\, and health tracking tools designed to support seniors’ well-being. \nTechnology for Seniors – Event Details\nTime: 10:30 am – 12:00 pm\nLocation: This event will be both online and in person for your convenience: \n– Surrey\nDates: Every Friday – December 6\, 13\, 20\, and January 3\, 10\nLocation: 7134 King George Blvd\, Suite 200\, Surrey\, BC V3W 5A3\n\n– Burnaby\nDates: Every Friday – Jan 17\, 24\, 31\, and Feb 7\, 14\nLocation: MOSAIC Boundary Office\, 5575 Boundary Road\, Vancouver\, BC\, V5R 2P9\n  \nTo Register: Call 604-671-7281 or email fling@mosaicbc.org \nAbout the Organizers\nThis event is hosted by the MOSAIC Seniors Club. The MOSAIC Seniors Club is committed to empowering seniors by providing access to technology\, resources\, and support tailored to their needs. If you or your loved one would like to learn more\, please visit our program page for additional information. \nJoin us in bridging the technology gap—empowering seniors to feel confident\, connected\, and informed!
URL:https://mosaicbc.org/event/technology-for-seniors/2025-01-03/
LOCATION:MOSAIC – Boundary\, 5575 Boundary Road\, Vancouver\, British Columbia\, V5R 2P9
CATEGORIES:Information Sessions,Workshops
ATTACH;FMTTYPE=image/jpeg:https://mosaicbc.org/wp-content/uploads/2024/11/techonology-for-seniors-scaled.jpg
ORGANIZER;CN="Seniors Club":MAILTO:seniors@mosaicbc.org
GEO:49.2336134;-123.0236146
X-APPLE-STRUCTURED-LOCATION;VALUE=URI;X-ADDRESS=MOSAIC – Boundary 5575 Boundary Road Vancouver British Columbia V5R 2P9;X-APPLE-RADIUS=500;X-TITLE=5575 Boundary Road:geo:-123.0236146,49.2336134
END:VEVENT
BEGIN:VEVENT
DTSTART;TZID=America/Vancouver:20250110T103000
DTEND;TZID=America/Vancouver:20250110T120000
DTSTAMP:20260419T172516
CREATED:20241104T184947Z
LAST-MODIFIED:20250115T190500Z
UID:10033468-1736505000-1736510400@mosaicbc.org
SUMMARY:Technology for Seniors
DESCRIPTION:Join us for our Technology for Seniors workshop series\, designed specifically to help seniors feel comfortable and confident with digital tools. Our Modern Technology for Everyday Use sessions introduce seniors to essential apps and online services that can simplify daily tasks\, enhance communication\, and support independence. Whether you’re new to technology or want to deepen your skills\, this series provides easy-to-follow guidance and hands-on practice. \nWhat You’ll Learn\nEach week\, our instructors cover new topics in simple\, easy-to-follow steps that encourage seniors to use technology confidently. Here’s an overview of our upcoming sessions: \nUsing Google Translate\nOn December 6\, seniors will learn how to use Google Translate on smartphones\, including how to set default languages in the browser. Whether you’re traveling\, reading\, or needing a quick translation\, this tool will make communication easier and more accessible. \nNavigating with Google Maps & Transit\nOn December 13\, seniors will explore Google Maps and the Transit app to make getting around Surrey and beyond simpler. This session will cover trip planning\, transit schedules\, and using GPS for easy navigation. \nProblem Solving with ChatGPT\nOn December 20\, discover how ChatGPT can help solve daily problems\, answer questions\, and provide quick solutions. This session is an exciting introduction to AI\, tailored to meet the needs of seniors. \nSetting Up Gmail & CRA Accounts\nOn January 3\, seniors will receive guidance on creating a personal Gmail account and setting up their CRA (Canada Revenue Agency) account. This workshop ensures safe and secure management of email and government services online. \nHealth Resources & Apps\nOn January 10\, we’ll explore helpful websites and apps for health information. This includes reliable resources for wellness\, medical news\, and health tracking tools designed to support seniors’ well-being. \nTechnology for Seniors – Event Details\nTime: 10:30 am – 12:00 pm\nLocation: This event will be both online and in person for your convenience: \n– Surrey\nDates: Every Friday – December 6\, 13\, 20\, and January 3\, 10\nLocation: 7134 King George Blvd\, Suite 200\, Surrey\, BC V3W 5A3\n\n– Burnaby\nDates: Every Friday – Jan 17\, 24\, 31\, and Feb 7\, 14\nLocation: MOSAIC Boundary Office\, 5575 Boundary Road\, Vancouver\, BC\, V5R 2P9\n  \nTo Register: Call 604-671-7281 or email fling@mosaicbc.org \nAbout the Organizers\nThis event is hosted by the MOSAIC Seniors Club. The MOSAIC Seniors Club is committed to empowering seniors by providing access to technology\, resources\, and support tailored to their needs. If you or your loved one would like to learn more\, please visit our program page for additional information. \nJoin us in bridging the technology gap—empowering seniors to feel confident\, connected\, and informed!
URL:https://mosaicbc.org/event/technology-for-seniors/2025-01-10/
LOCATION:MOSAIC – Boundary\, 5575 Boundary Road\, Vancouver\, British Columbia\, V5R 2P9
CATEGORIES:Information Sessions,Workshops
ATTACH;FMTTYPE=image/jpeg:https://mosaicbc.org/wp-content/uploads/2024/11/techonology-for-seniors-scaled.jpg
ORGANIZER;CN="Seniors Club":MAILTO:seniors@mosaicbc.org
GEO:49.2336134;-123.0236146
X-APPLE-STRUCTURED-LOCATION;VALUE=URI;X-ADDRESS=MOSAIC – Boundary 5575 Boundary Road Vancouver British Columbia V5R 2P9;X-APPLE-RADIUS=500;X-TITLE=5575 Boundary Road:geo:-123.0236146,49.2336134
END:VEVENT
BEGIN:VEVENT
DTSTART;TZID=America/Vancouver:20250114T100000
DTEND;TZID=America/Vancouver:20250114T113000
DTSTAMP:20260419T172516
CREATED:20241211T192747Z
LAST-MODIFIED:20250109T185121Z
UID:10033580-1736848800-1736854200@mosaicbc.org
SUMMARY:Crime Stoppers Metro Vancouver: Learn to Prevent Crime and Stay Safe
DESCRIPTION:Calling all seniors across Metro Vancouver! Join us for the Crime Stoppers Metro Vancouver workshop\, where we’ll learn practical ways to prevent crime and make our communities safer. This workshop is a safe\, inclusive space where everyone can share their experiences and learn together. No matter your background\, you’re not alone—let’s all be on the same page as we work towards safety and awareness. \nCrime Stoppers Metro Vancouver Workshop Details\n\nDates: December 18\, 2024\, and January 14\, 2025\nTime: 10:00 AM – 11:30 AM\nLocation: In-person and online options available\n\nWe encourage seniors to join us in person to fully experience this interactive session. However\, for those who cannot attend at the location\, an online option is also available. \nWhat You’ll Learn\nLed by Margarett Lange\, the Outreach and Events Manager for Metro Vancouver Crime Stoppers\, this workshop is designed to empower seniors with valuable crime prevention knowledge. Margarett has extensive experience managing community and volunteer programs and is passionate about creating safer environments through education and outreach. \nDuring the session\, Margarett will cover: \n\nSimple and effective crime prevention tips tailored for seniors.\nHow to report suspicious activities anonymously to protect yourself and others.\nStrategies to enhance safety in your neighbourhood.\n\nThis workshop is not just about learning; it’s about empowering individuals to take proactive steps in making their communities safer. \nWho Should Attend?\nThis event is perfect for anyone interested in crime prevention\, safety education\, or supporting their local community. You’ll gain valuable tools to promote a secure environment. \nWhy It Matters\nCrime prevention starts with awareness and action. By attending\, you’ll become a vital part of creating a safer Metro Vancouver. Together\, we can work towards reducing crime and fostering a sense of security in our neighbourhoods. \nDrop In – No Registration Required\nThis workshop is free\, and there’s no need to register—just drop in! \nOrganized by MOSAIC Seniors Club\nThis event is brought to you by the MOSAIC Seniors Club\, a program dedicated to supporting seniors with valuable resources and connections. \nDon’t miss this opportunity to learn\, connect\, and make a difference in Metro Vancouver.
URL:https://mosaicbc.org/event/crime-stoppers-metro-vancouver-workshop/2025-01-14/
LOCATION:MOSAIC – Boundary\, 5575 Boundary Road\, Vancouver\, British Columbia\, V5R 2P9
CATEGORIES:Online,Workshops
ATTACH;FMTTYPE=image/png:https://mosaicbc.org/wp-content/uploads/2024/12/Crime-Stoppers-2.png
ORGANIZER;CN="Seniors Club":MAILTO:seniors@mosaicbc.org
GEO:49.2336134;-123.0236146
X-APPLE-STRUCTURED-LOCATION;VALUE=URI;X-ADDRESS=MOSAIC – Boundary 5575 Boundary Road Vancouver British Columbia V5R 2P9;X-APPLE-RADIUS=500;X-TITLE=5575 Boundary Road:geo:-123.0236146,49.2336134
END:VEVENT
END:VCALENDAR