BEGIN:VCALENDAR
VERSION:2.0
PRODID:-//MOSAIC - ECPv6.15.20//NONSGML v1.0//EN
CALSCALE:GREGORIAN
METHOD:PUBLISH
X-WR-CALNAME:MOSAIC
X-ORIGINAL-URL:https://mosaicbc.org
X-WR-CALDESC:Events for MOSAIC
REFRESH-INTERVAL;VALUE=DURATION:PT1H
X-Robots-Tag:noindex
X-PUBLISHED-TTL:PT1H
BEGIN:VTIMEZONE
TZID:America/Los_Angeles
BEGIN:DAYLIGHT
TZOFFSETFROM:-0800
TZOFFSETTO:-0700
TZNAME:PDT
DTSTART:20250309T100000
END:DAYLIGHT
BEGIN:STANDARD
TZOFFSETFROM:-0700
TZOFFSETTO:-0800
TZNAME:PST
DTSTART:20251102T090000
END:STANDARD
BEGIN:DAYLIGHT
TZOFFSETFROM:-0800
TZOFFSETTO:-0700
TZNAME:PDT
DTSTART:20260308T100000
END:DAYLIGHT
BEGIN:STANDARD
TZOFFSETFROM:-0700
TZOFFSETTO:-0800
TZNAME:PST
DTSTART:20261101T090000
END:STANDARD
BEGIN:DAYLIGHT
TZOFFSETFROM:-0800
TZOFFSETTO:-0700
TZNAME:PDT
DTSTART:20270314T100000
END:DAYLIGHT
BEGIN:STANDARD
TZOFFSETFROM:-0700
TZOFFSETTO:-0800
TZNAME:PST
DTSTART:20271107T090000
END:STANDARD
END:VTIMEZONE
BEGIN:VTIMEZONE
TZID:America/Vancouver
BEGIN:DAYLIGHT
TZOFFSETFROM:-0800
TZOFFSETTO:-0700
TZNAME:PDT
DTSTART:20250309T100000
END:DAYLIGHT
BEGIN:STANDARD
TZOFFSETFROM:-0700
TZOFFSETTO:-0800
TZNAME:PST
DTSTART:20251102T090000
END:STANDARD
BEGIN:DAYLIGHT
TZOFFSETFROM:-0800
TZOFFSETTO:-0700
TZNAME:PDT
DTSTART:20260308T100000
END:DAYLIGHT
BEGIN:STANDARD
TZOFFSETFROM:-0700
TZOFFSETTO:-0800
TZNAME:PST
DTSTART:20261101T090000
END:STANDARD
BEGIN:DAYLIGHT
TZOFFSETFROM:-0800
TZOFFSETTO:-0700
TZNAME:PDT
DTSTART:20270314T100000
END:DAYLIGHT
BEGIN:STANDARD
TZOFFSETFROM:-0700
TZOFFSETTO:-0800
TZNAME:PST
DTSTART:20271107T090000
END:STANDARD
END:VTIMEZONE
BEGIN:VEVENT
DTSTART;TZID=America/Los_Angeles:20260418T100000
DTEND;TZID=America/Los_Angeles:20260418T150000
DTSTAMP:20260422T145047
CREATED:20260218T233516Z
LAST-MODIFIED:20260220T224222Z
UID:10036615-1776506400-1776524400@mosaicbc.org
SUMMARY:Free Income Tax Clinic
DESCRIPTION:Event Details:\n\nWhen: March 7\, 2026 – April 25\, 2026 | Fridays from 10:00AM – 5:00PM\, Saturdays from 10:00AM – 3:00PM\, Except April 3 & 4 (Long weekend)\nLocation: 5575 Boundary Rd\, Vancouver BC\, V5R 2P9\nRegistration Form\n\n\n\n\n\n\nAt MOSAIC Tax Clinic\, we understand the importance of accurate tax filing\, especially for individuals with limited income. Here’s what you need to know to take advantage of our services: \nWho Can Benefit:\nTo be eligible for our filing services: \n\nYour Status: Permanent Resident or Protected Person\nTotal Family Income must be below:\n\n1 person: $45\,000/year\n2 people: $60\,000/year\n+ $ 10\,000 for each additional household member under 18.\n\n\n\nWe Cannot Assist If You Have:\n\nBusiness/rental income or expenses\nCapital gains/losses\nFiled for bankruptcy\nSelf-employed with expense deductions\nFiling for a deceased person\n\n18 Languages Available (Including Farsi\, Spanish\, Tigrinya\, Chinese\, Korean\, Arabic) \nIf you have any additional questions\, please email us at taxclinic@mosaicbc.org \nThe MOSAIC Tax Clinic is organized by the Newcomers and Community Building Program (NCBP)\, underscoring our commitment to serving the community and promoting inclusion. For more information about the program and how you can get more support\, please visit the program page on our website. \nDon’t let tax season overwhelm you – seize this opportunity to secure your financial future! Join us at the MOSAIC Tax Clinic and take the first step toward financial support. \n 
URL:https://mosaicbc.org/event/free-income-tax-clinic-info-session-english/2026-04-18/
LOCATION:MOSAIC – Boundary\, 5575 Boundary Road\, Vancouver\, British Columbia\, V5R 2P9
CATEGORIES:Information Sessions,Other Events
ATTACH;FMTTYPE=image/jpeg:https://mosaicbc.org/wp-content/uploads/2026/02/Tax-clinic-2026-scaled.jpg
ORGANIZER;CN="Newcomers and Community Building Program (NCBP)":MAILTO:settlement@mosaicbc.org
GEO:49.2336134;-123.0236146
X-APPLE-STRUCTURED-LOCATION;VALUE=URI;X-ADDRESS=MOSAIC – Boundary 5575 Boundary Road Vancouver British Columbia V5R 2P9;X-APPLE-RADIUS=500;X-TITLE=5575 Boundary Road:geo:-123.0236146,49.2336134
END:VEVENT
BEGIN:VEVENT
DTSTART;TZID=America/Los_Angeles:20260424T100000
DTEND;TZID=America/Los_Angeles:20260424T170000
DTSTAMP:20260422T145047
CREATED:20260218T233516Z
LAST-MODIFIED:20260220T224222Z
UID:10036616-1777024800-1777050000@mosaicbc.org
SUMMARY:Free Income Tax Clinic
DESCRIPTION:Event Details:\n\nWhen: March 7\, 2026 – April 25\, 2026 | Fridays from 10:00AM – 5:00PM\, Saturdays from 10:00AM – 3:00PM\, Except April 3 & 4 (Long weekend)\nLocation: 5575 Boundary Rd\, Vancouver BC\, V5R 2P9\nRegistration Form\n\n\n\n\n\n\nAt MOSAIC Tax Clinic\, we understand the importance of accurate tax filing\, especially for individuals with limited income. Here’s what you need to know to take advantage of our services: \nWho Can Benefit:\nTo be eligible for our filing services: \n\nYour Status: Permanent Resident or Protected Person\nTotal Family Income must be below:\n\n1 person: $45\,000/year\n2 people: $60\,000/year\n+ $ 10\,000 for each additional household member under 18.\n\n\n\nWe Cannot Assist If You Have:\n\nBusiness/rental income or expenses\nCapital gains/losses\nFiled for bankruptcy\nSelf-employed with expense deductions\nFiling for a deceased person\n\n18 Languages Available (Including Farsi\, Spanish\, Tigrinya\, Chinese\, Korean\, Arabic) \nIf you have any additional questions\, please email us at taxclinic@mosaicbc.org \nThe MOSAIC Tax Clinic is organized by the Newcomers and Community Building Program (NCBP)\, underscoring our commitment to serving the community and promoting inclusion. For more information about the program and how you can get more support\, please visit the program page on our website. \nDon’t let tax season overwhelm you – seize this opportunity to secure your financial future! Join us at the MOSAIC Tax Clinic and take the first step toward financial support. \n 
URL:https://mosaicbc.org/event/free-income-tax-clinic-info-session-english/2026-04-24/
LOCATION:MOSAIC – Boundary\, 5575 Boundary Road\, Vancouver\, British Columbia\, V5R 2P9
CATEGORIES:Information Sessions,Other Events
ATTACH;FMTTYPE=image/jpeg:https://mosaicbc.org/wp-content/uploads/2026/02/Tax-clinic-2026-scaled.jpg
ORGANIZER;CN="Newcomers and Community Building Program (NCBP)":MAILTO:settlement@mosaicbc.org
GEO:49.2336134;-123.0236146
X-APPLE-STRUCTURED-LOCATION;VALUE=URI;X-ADDRESS=MOSAIC – Boundary 5575 Boundary Road Vancouver British Columbia V5R 2P9;X-APPLE-RADIUS=500;X-TITLE=5575 Boundary Road:geo:-123.0236146,49.2336134
END:VEVENT
BEGIN:VEVENT
DTSTART;TZID=America/Los_Angeles:20260425T100000
DTEND;TZID=America/Los_Angeles:20260425T150000
DTSTAMP:20260422T145047
CREATED:20260218T233516Z
LAST-MODIFIED:20260220T224222Z
UID:10036617-1777111200-1777129200@mosaicbc.org
SUMMARY:Free Income Tax Clinic
DESCRIPTION:Event Details:\n\nWhen: March 7\, 2026 – April 25\, 2026 | Fridays from 10:00AM – 5:00PM\, Saturdays from 10:00AM – 3:00PM\, Except April 3 & 4 (Long weekend)\nLocation: 5575 Boundary Rd\, Vancouver BC\, V5R 2P9\nRegistration Form\n\n\n\n\n\n\nAt MOSAIC Tax Clinic\, we understand the importance of accurate tax filing\, especially for individuals with limited income. Here’s what you need to know to take advantage of our services: \nWho Can Benefit:\nTo be eligible for our filing services: \n\nYour Status: Permanent Resident or Protected Person\nTotal Family Income must be below:\n\n1 person: $45\,000/year\n2 people: $60\,000/year\n+ $ 10\,000 for each additional household member under 18.\n\n\n\nWe Cannot Assist If You Have:\n\nBusiness/rental income or expenses\nCapital gains/losses\nFiled for bankruptcy\nSelf-employed with expense deductions\nFiling for a deceased person\n\n18 Languages Available (Including Farsi\, Spanish\, Tigrinya\, Chinese\, Korean\, Arabic) \nIf you have any additional questions\, please email us at taxclinic@mosaicbc.org \nThe MOSAIC Tax Clinic is organized by the Newcomers and Community Building Program (NCBP)\, underscoring our commitment to serving the community and promoting inclusion. For more information about the program and how you can get more support\, please visit the program page on our website. \nDon’t let tax season overwhelm you – seize this opportunity to secure your financial future! Join us at the MOSAIC Tax Clinic and take the first step toward financial support. \n 
URL:https://mosaicbc.org/event/free-income-tax-clinic-info-session-english/2026-04-25/
LOCATION:MOSAIC – Boundary\, 5575 Boundary Road\, Vancouver\, British Columbia\, V5R 2P9
CATEGORIES:Information Sessions,Other Events
ATTACH;FMTTYPE=image/jpeg:https://mosaicbc.org/wp-content/uploads/2026/02/Tax-clinic-2026-scaled.jpg
ORGANIZER;CN="Newcomers and Community Building Program (NCBP)":MAILTO:settlement@mosaicbc.org
GEO:49.2336134;-123.0236146
X-APPLE-STRUCTURED-LOCATION;VALUE=URI;X-ADDRESS=MOSAIC – Boundary 5575 Boundary Road Vancouver British Columbia V5R 2P9;X-APPLE-RADIUS=500;X-TITLE=5575 Boundary Road:geo:-123.0236146,49.2336134
END:VEVENT
BEGIN:VEVENT
DTSTART;TZID=America/Vancouver:20260506T100000
DTEND;TZID=America/Vancouver:20260506T130000
DTSTAMP:20260422T145047
CREATED:20260224T001902Z
LAST-MODIFIED:20260421T212604Z
UID:10036711-1778061600-1778072400@mosaicbc.org
SUMMARY:Citizenship Preparation Workshop (In Person)
DESCRIPTION:Are you currently a Permanent Resident studying to become a Canadian Citizen? Our free Citizenship Preparation Workshop will help improve your knowledge so that you feel better prepared for your exam. Register and join to feel supported in your learning! \nEvent details:\n\nDate & Time: May 6 & 7\, 2026 | 10:00 AM – 1:00 PM\nLocation: 5575 Boundary Rd\, Vancouver\, BC V5R 2P9\nSign-up with the Registration Form\n\n** Space is limited and will be granted on a first-come first-serve basis. For any questions\, please contact us at tchow@mosaicbc.org \nWhat You Can Expect From The Citizenship Preparation Workshop\nPrepare for the Citizenship Test with our free workshop sessions consisting of activities across a range of topics about Canada. Learn about Canada’s history\, government\, geography\, and the rights and responsibilities of a citizen. MOSAIC staff will lead the sessions\, which will feature interactive segments on the Discover Canada booklet and practice tests to evaluate and enhance your understanding. Join one or more sessions at your convenience. \n\nSession 1: Canadian History pt. 1\nSession 2: Canadian History pt. 2\nSession 3: Canada’s Government System\nSession 4: Canadian Symbols & Regions and How to Access the Online Citizenship Test\nHow to access online citizenship test\n\nAbout the Organizer \nThis event is organized by Newcomers and Community Building Program (NCBP). This program provides newcomer one-on-one and group support to aid in your transition to Canadian life through educational workshops and community connection activities. To find out more information\, please visit the program page\, as well as other events hosted by MOSAIC.
URL:https://mosaicbc.org/event/citizenship-preparation-workshop-in-person-march/2026-05-06/
LOCATION:MOSAIC – Boundary\, 5575 Boundary Road\, Vancouver\, British Columbia\, V5R 2P9
CATEGORIES:Other Events,Workshops
ATTACH;FMTTYPE=image/jpeg:https://mosaicbc.org/wp-content/uploads/2026/02/Citizenship-Event-WP-scaled.jpg
ORGANIZER;CN="Newcomers and Community Building Program (NCBP)":MAILTO:settlement@mosaicbc.org
GEO:49.2336134;-123.0236146
X-APPLE-STRUCTURED-LOCATION;VALUE=URI;X-ADDRESS=MOSAIC – Boundary 5575 Boundary Road Vancouver British Columbia V5R 2P9;X-APPLE-RADIUS=500;X-TITLE=5575 Boundary Road:geo:-123.0236146,49.2336134
END:VEVENT
BEGIN:VEVENT
DTSTART;TZID=America/Vancouver:20260507T100000
DTEND;TZID=America/Vancouver:20260507T130000
DTSTAMP:20260422T145047
CREATED:20260224T001902Z
LAST-MODIFIED:20260421T212604Z
UID:10036712-1778148000-1778158800@mosaicbc.org
SUMMARY:Citizenship Preparation Workshop (In Person)
DESCRIPTION:Are you currently a Permanent Resident studying to become a Canadian Citizen? Our free Citizenship Preparation Workshop will help improve your knowledge so that you feel better prepared for your exam. Register and join to feel supported in your learning! \nEvent details:\n\nDate & Time: May 6 & 7\, 2026 | 10:00 AM – 1:00 PM\nLocation: 5575 Boundary Rd\, Vancouver\, BC V5R 2P9\nSign-up with the Registration Form\n\n** Space is limited and will be granted on a first-come first-serve basis. For any questions\, please contact us at tchow@mosaicbc.org \nWhat You Can Expect From The Citizenship Preparation Workshop\nPrepare for the Citizenship Test with our free workshop sessions consisting of activities across a range of topics about Canada. Learn about Canada’s history\, government\, geography\, and the rights and responsibilities of a citizen. MOSAIC staff will lead the sessions\, which will feature interactive segments on the Discover Canada booklet and practice tests to evaluate and enhance your understanding. Join one or more sessions at your convenience. \n\nSession 1: Canadian History pt. 1\nSession 2: Canadian History pt. 2\nSession 3: Canada’s Government System\nSession 4: Canadian Symbols & Regions and How to Access the Online Citizenship Test\nHow to access online citizenship test\n\nAbout the Organizer \nThis event is organized by Newcomers and Community Building Program (NCBP). This program provides newcomer one-on-one and group support to aid in your transition to Canadian life through educational workshops and community connection activities. To find out more information\, please visit the program page\, as well as other events hosted by MOSAIC.
URL:https://mosaicbc.org/event/citizenship-preparation-workshop-in-person-march/2026-05-07/
LOCATION:MOSAIC – Boundary\, 5575 Boundary Road\, Vancouver\, British Columbia\, V5R 2P9
CATEGORIES:Other Events,Workshops
ATTACH;FMTTYPE=image/jpeg:https://mosaicbc.org/wp-content/uploads/2026/02/Citizenship-Event-WP-scaled.jpg
ORGANIZER;CN="Newcomers and Community Building Program (NCBP)":MAILTO:settlement@mosaicbc.org
GEO:49.2336134;-123.0236146
X-APPLE-STRUCTURED-LOCATION;VALUE=URI;X-ADDRESS=MOSAIC – Boundary 5575 Boundary Road Vancouver British Columbia V5R 2P9;X-APPLE-RADIUS=500;X-TITLE=5575 Boundary Road:geo:-123.0236146,49.2336134
END:VEVENT
BEGIN:VEVENT
DTSTART;TZID=America/Los_Angeles:20260511T160000
DTEND;TZID=America/Los_Angeles:20260511T170000
DTSTAMP:20260422T145047
CREATED:20260421T212117Z
LAST-MODIFIED:20260421T213010Z
UID:10036238-1778515200-1778518800@mosaicbc.org
SUMMARY:Citizenship Preparation Workshop (Online)
DESCRIPTION:Are you currently a Permanent Resident studying to become a Canadian Citizen? Our free Citizenship Preparation Workshop will help improve your knowledge so that you feel better prepared for your exam. Register and join to feel supported in your learning! \nEvent details: \n\nDate: May 11\, 12\, 13 and 14.\nLocation: Online- Zoom\, with link provided upon registration\nTime: 4:00 PM – 5:00 PM\nSign-up with the Registration Form\nFor any questions please email jlee@mosaicbc.org or call MOSAIC’s main office at 604-254-9626.\n\n** Space is limited and will be granted on a first-come first-serve basis. \nWhat You Can Expect From The Citizenship Preparation Workshop\nPrepare for the Citizenship Test with our free four-session virtual workshop consisting of activities across a range of topics about Canada. Learn about Canada’s history\, government\, geography\, and the rights and responsibilities of a citizen. MOSAIC staff will lead the sessions\, which will feature interactive segments on the Discover Canada booklet and practice tests to evaluate and enhance your understanding. Join one or more sessions at your convenience. \n\nSession 1: Canada’s History (Part 1) \nSession 2: Canada’s History (Part 2) \nSession 3: Canada’s Government System\nSession 4: Canadian Symbols & Regions and How to Access the Online Citizenship Test\n\nAbout the Organizer \nThis event is organized by Newcomers and Community Building Program (NCBP). This program provides newcomer one-on-one and group support to aid in your transition to Canadian life through educational workshops and community connection activities. To find out more information\, please visit the program page\, as well as other events hosted by MOSAIC.
URL:https://mosaicbc.org/event/citizenship-preparation-workshop-online-2-2/2026-05-11/
LOCATION:Online
CATEGORIES:Information Sessions,Online,Other Events,Workshops
ATTACH;FMTTYPE=image/jpeg:https://mosaicbc.org/wp-content/uploads/2026/02/Citizenship-Prep-Online-scaled.jpg
ORGANIZER;CN="Newcomers and Community Building Program (NCBP)":MAILTO:settlement@mosaicbc.org
END:VEVENT
BEGIN:VEVENT
DTSTART;TZID=America/Los_Angeles:20260512T160000
DTEND;TZID=America/Los_Angeles:20260512T170000
DTSTAMP:20260422T145047
CREATED:20260421T212117Z
LAST-MODIFIED:20260421T213010Z
UID:10036713-1778601600-1778605200@mosaicbc.org
SUMMARY:Citizenship Preparation Workshop (Online)
DESCRIPTION:Are you currently a Permanent Resident studying to become a Canadian Citizen? Our free Citizenship Preparation Workshop will help improve your knowledge so that you feel better prepared for your exam. Register and join to feel supported in your learning! \nEvent details: \n\nDate: May 11\, 12\, 13 and 14.\nLocation: Online- Zoom\, with link provided upon registration\nTime: 4:00 PM – 5:00 PM\nSign-up with the Registration Form\nFor any questions please email jlee@mosaicbc.org or call MOSAIC’s main office at 604-254-9626.\n\n** Space is limited and will be granted on a first-come first-serve basis. \nWhat You Can Expect From The Citizenship Preparation Workshop\nPrepare for the Citizenship Test with our free four-session virtual workshop consisting of activities across a range of topics about Canada. Learn about Canada’s history\, government\, geography\, and the rights and responsibilities of a citizen. MOSAIC staff will lead the sessions\, which will feature interactive segments on the Discover Canada booklet and practice tests to evaluate and enhance your understanding. Join one or more sessions at your convenience. \n\nSession 1: Canada’s History (Part 1) \nSession 2: Canada’s History (Part 2) \nSession 3: Canada’s Government System\nSession 4: Canadian Symbols & Regions and How to Access the Online Citizenship Test\n\nAbout the Organizer \nThis event is organized by Newcomers and Community Building Program (NCBP). This program provides newcomer one-on-one and group support to aid in your transition to Canadian life through educational workshops and community connection activities. To find out more information\, please visit the program page\, as well as other events hosted by MOSAIC.
URL:https://mosaicbc.org/event/citizenship-preparation-workshop-online-2-2/2026-05-12/
LOCATION:Online
CATEGORIES:Information Sessions,Online,Other Events,Workshops
ATTACH;FMTTYPE=image/jpeg:https://mosaicbc.org/wp-content/uploads/2026/02/Citizenship-Prep-Online-scaled.jpg
ORGANIZER;CN="Newcomers and Community Building Program (NCBP)":MAILTO:settlement@mosaicbc.org
END:VEVENT
BEGIN:VEVENT
DTSTART;TZID=America/Los_Angeles:20260513T160000
DTEND;TZID=America/Los_Angeles:20260513T170000
DTSTAMP:20260422T145047
CREATED:20260421T212117Z
LAST-MODIFIED:20260421T213010Z
UID:10036714-1778688000-1778691600@mosaicbc.org
SUMMARY:Citizenship Preparation Workshop (Online)
DESCRIPTION:Are you currently a Permanent Resident studying to become a Canadian Citizen? Our free Citizenship Preparation Workshop will help improve your knowledge so that you feel better prepared for your exam. Register and join to feel supported in your learning! \nEvent details: \n\nDate: May 11\, 12\, 13 and 14.\nLocation: Online- Zoom\, with link provided upon registration\nTime: 4:00 PM – 5:00 PM\nSign-up with the Registration Form\nFor any questions please email jlee@mosaicbc.org or call MOSAIC’s main office at 604-254-9626.\n\n** Space is limited and will be granted on a first-come first-serve basis. \nWhat You Can Expect From The Citizenship Preparation Workshop\nPrepare for the Citizenship Test with our free four-session virtual workshop consisting of activities across a range of topics about Canada. Learn about Canada’s history\, government\, geography\, and the rights and responsibilities of a citizen. MOSAIC staff will lead the sessions\, which will feature interactive segments on the Discover Canada booklet and practice tests to evaluate and enhance your understanding. Join one or more sessions at your convenience. \n\nSession 1: Canada’s History (Part 1) \nSession 2: Canada’s History (Part 2) \nSession 3: Canada’s Government System\nSession 4: Canadian Symbols & Regions and How to Access the Online Citizenship Test\n\nAbout the Organizer \nThis event is organized by Newcomers and Community Building Program (NCBP). This program provides newcomer one-on-one and group support to aid in your transition to Canadian life through educational workshops and community connection activities. To find out more information\, please visit the program page\, as well as other events hosted by MOSAIC.
URL:https://mosaicbc.org/event/citizenship-preparation-workshop-online-2-2/2026-05-13/
LOCATION:Online
CATEGORIES:Information Sessions,Online,Other Events,Workshops
ATTACH;FMTTYPE=image/jpeg:https://mosaicbc.org/wp-content/uploads/2026/02/Citizenship-Prep-Online-scaled.jpg
ORGANIZER;CN="Newcomers and Community Building Program (NCBP)":MAILTO:settlement@mosaicbc.org
END:VEVENT
BEGIN:VEVENT
DTSTART;TZID=America/Los_Angeles:20260514T160000
DTEND;TZID=America/Los_Angeles:20260514T170000
DTSTAMP:20260422T145047
CREATED:20260421T212117Z
LAST-MODIFIED:20260421T213010Z
UID:10036715-1778774400-1778778000@mosaicbc.org
SUMMARY:Citizenship Preparation Workshop (Online)
DESCRIPTION:Are you currently a Permanent Resident studying to become a Canadian Citizen? Our free Citizenship Preparation Workshop will help improve your knowledge so that you feel better prepared for your exam. Register and join to feel supported in your learning! \nEvent details: \n\nDate: May 11\, 12\, 13 and 14.\nLocation: Online- Zoom\, with link provided upon registration\nTime: 4:00 PM – 5:00 PM\nSign-up with the Registration Form\nFor any questions please email jlee@mosaicbc.org or call MOSAIC’s main office at 604-254-9626.\n\n** Space is limited and will be granted on a first-come first-serve basis. \nWhat You Can Expect From The Citizenship Preparation Workshop\nPrepare for the Citizenship Test with our free four-session virtual workshop consisting of activities across a range of topics about Canada. Learn about Canada’s history\, government\, geography\, and the rights and responsibilities of a citizen. MOSAIC staff will lead the sessions\, which will feature interactive segments on the Discover Canada booklet and practice tests to evaluate and enhance your understanding. Join one or more sessions at your convenience. \n\nSession 1: Canada’s History (Part 1) \nSession 2: Canada’s History (Part 2) \nSession 3: Canada’s Government System\nSession 4: Canadian Symbols & Regions and How to Access the Online Citizenship Test\n\nAbout the Organizer \nThis event is organized by Newcomers and Community Building Program (NCBP). This program provides newcomer one-on-one and group support to aid in your transition to Canadian life through educational workshops and community connection activities. To find out more information\, please visit the program page\, as well as other events hosted by MOSAIC.
URL:https://mosaicbc.org/event/citizenship-preparation-workshop-online-2-2/2026-05-14/
LOCATION:Online
CATEGORIES:Information Sessions,Online,Other Events,Workshops
ATTACH;FMTTYPE=image/jpeg:https://mosaicbc.org/wp-content/uploads/2026/02/Citizenship-Prep-Online-scaled.jpg
ORGANIZER;CN="Newcomers and Community Building Program (NCBP)":MAILTO:settlement@mosaicbc.org
END:VEVENT
END:VCALENDAR