BEGIN:VCALENDAR
VERSION:2.0
PRODID:-//MOSAIC - ECPv6.15.20//NONSGML v1.0//EN
CALSCALE:GREGORIAN
METHOD:PUBLISH
X-ORIGINAL-URL:https://mosaicbc.org
X-WR-CALDESC:Events for MOSAIC
REFRESH-INTERVAL;VALUE=DURATION:PT1H
X-Robots-Tag:noindex
X-PUBLISHED-TTL:PT1H
BEGIN:VTIMEZONE
TZID:America/Los_Angeles
BEGIN:DAYLIGHT
TZOFFSETFROM:-0800
TZOFFSETTO:-0700
TZNAME:PDT
DTSTART:20230312T100000
END:DAYLIGHT
BEGIN:STANDARD
TZOFFSETFROM:-0700
TZOFFSETTO:-0800
TZNAME:PST
DTSTART:20231105T090000
END:STANDARD
BEGIN:DAYLIGHT
TZOFFSETFROM:-0800
TZOFFSETTO:-0700
TZNAME:PDT
DTSTART:20240310T100000
END:DAYLIGHT
BEGIN:STANDARD
TZOFFSETFROM:-0700
TZOFFSETTO:-0800
TZNAME:PST
DTSTART:20241103T090000
END:STANDARD
BEGIN:DAYLIGHT
TZOFFSETFROM:-0800
TZOFFSETTO:-0700
TZNAME:PDT
DTSTART:20250309T100000
END:DAYLIGHT
BEGIN:STANDARD
TZOFFSETFROM:-0700
TZOFFSETTO:-0800
TZNAME:PST
DTSTART:20251102T090000
END:STANDARD
END:VTIMEZONE
BEGIN:VEVENT
DTSTART;TZID=America/Los_Angeles:20240513T170000
DTEND;TZID=America/Los_Angeles:20240513T190000
DTSTAMP:20260419T130850
CREATED:20231222T222736Z
LAST-MODIFIED:20240506T200959Z
UID:10032801-1715619600-1715626800@mosaicbc.org
SUMMARY:LGBTQ Support Groups: I Belong Group Counselling Session
DESCRIPTION:Are you seeking a transformative experience within the vibrant 2SLGBTQIA+ community in Vancouver\, BC? Look no further: I Belong hosts monthly Group Counseling Sessions. Tailored specifically as LGBTQ support groups\, our sessions provide a safe and confidential space for individuals to freely express themselves and embark on a journey of self-discovery. \nLocation: MOSAIC Office\, 5575 Boundary Road\, Vancouver\, BC\, V5R 2P9 \nDates: \n\nDecember 11\nJanuary 22\, 2024\nMarch 18\, 2024\nApril 15\, 2024\n\nMay 13\, 2024\n\n\nTime: 5:00 pm – 7:00 pm \nWhat to Expect: \n\nSafe and Confidential Space: Step into a warm and inclusive environment where your identity is celebrated\, and your experiences are respected. Our session provides a haven for you to express yourself freely. \nPeer Connections: Connect with fellow 2SLGBTQIA+ individuals who have walked similar paths. Build meaningful connections\, share stories\, and find solace in a community that understands and embraces your journey. \nProfessional Counseling: Our experienced counselor will guide the session\, offering valuable insights\, empathetic listening\, and expert support to help you navigate challenges and foster personal growth. \nSupport: Discover resources and coping strategies\, gain confidence\, and learn to navigate life’s complexities with resilience.  \n\nHow to Join: \nRegister for our upcoming sessions through our Outlook calendar: I Belong Registration \nFor inquiries or assistance\, connect with us at 604-762-1566 or via email at ibelong@mosaicbc.org. \nBe Seen. Be Heard. Belong. \nOur focus on LGBTQ support groups ensures a tailored experience that resonates with your unique journey. Register now and embark on a path of self-discovery and connection with like-minded individuals who share your story. \nThis event is organized by the I Belong Program\, which provides community support\, one-on-one help\, referrals for settlement needs\, and counselling. Group sessions are offered in English\, additional language support is available upon request. We invite you to visit the program page and know more how we can support you.
URL:https://mosaicbc.org/event/lgbtq-support-groups-counseling-2/2024-05-13/
LOCATION:MOSAIC – Boundary\, 5575 Boundary Road\, Vancouver\, British Columbia\, V5R 2P9
CATEGORIES:Other Events
ATTACH;FMTTYPE=image/jpeg:https://mosaicbc.org/wp-content/uploads/2023/11/lgbt-support-groups-scaled.jpg
ORGANIZER;CN="I Belong Program":MAILTO:ibelong@mosaicbc.org
GEO:49.2336134;-123.0236146
X-APPLE-STRUCTURED-LOCATION;VALUE=URI;X-ADDRESS=MOSAIC – Boundary 5575 Boundary Road Vancouver British Columbia V5R 2P9;X-APPLE-RADIUS=500;X-TITLE=5575 Boundary Road:geo:-123.0236146,49.2336134
END:VEVENT
BEGIN:VEVENT
DTSTART;TZID=America/Los_Angeles:20240518T110000
DTEND;TZID=America/Los_Angeles:20240518T120000
DTSTAMP:20260419T130850
CREATED:20240429T211617Z
LAST-MODIFIED:20240429T211617Z
UID:10032786-1716030000-1716033600@mosaicbc.org
SUMMARY:Effects of Anger: Triggers & Impacts
DESCRIPTION:Date: May 18\, 2024 Effects of Anger\nTime: 11:00 AM – 12:00 PM\nLocation: Online\n\nAre you curious about the profound effects of anger within relationships? Join us for a thought-provoking wellness workshop titled “Effects of Anger: Triggers & Impacts”. \nOverview: \nAnger is a powerful emotion that can significantly influence our lives and the lives of those around us. In this engaging workshop\, we will discuss anger triggers\, its far-reaching impacts on individuals\, loved ones\, and the community\, and most importantly\, formulate a plan to manage our triggers. \nHow to Join:  \nIf you are already enrolled in the AMCP\, we encourage you to participate and take advantage of this valuable opportunity. \nFor those who are not currently part of the AMCP but are interested in joining\, please check the AMCP page to see if you are eligible for the program\, then reach out to our Program Coordinator. You can contact us via phone at 236-521-7092 or send an email to amcp@mosaicbc.org. Our Program Coordinator will be delighted to assist you in getting started on your path to better self-care and emotional well-being. \nKey Workshop Highlights: Effects of Anger \n\nGain insight into the common triggers of anger in relationships.\nUnderstand the potential consequences of unmanaged anger on personal well-being.\nExplore the ripple effects of anger within families and the broader community.\n\nHow to Register: \nTo secure your spot at this enlightening workshop\, please contact the Program Coordinator by calling 236-521-7092 or e-mailing amcp@mosaicbc.org \nDon’t miss this opportunity to deepen your understanding of anger and its impact on your life and relationships. Join us as we embark on a journey towards healthier\, more harmonious connections within our community. We look forward to having you with us.
URL:https://mosaicbc.org/event/effects-of-anger-workshop-2/
LOCATION:Online
CATEGORIES:Other Events,Workshops
ATTACH;FMTTYPE=image/jpeg:https://mosaicbc.org/wp-content/uploads/2023/09/Oct-11.jpg
ORGANIZER;CN="Anger Management Care Program (AMCP)":MAILTO:amcp@mosaicbc.org
END:VEVENT
BEGIN:VEVENT
DTSTART;TZID=America/Los_Angeles:20240527T170000
DTEND;TZID=America/Los_Angeles:20240527T190000
DTSTAMP:20260419T130850
CREATED:20231222T231252Z
LAST-MODIFIED:20240523T201648Z
UID:10032440-1716829200-1716836400@mosaicbc.org
SUMMARY:Beyond Borders and Binaries (BBB) Monthly Meetup in Vancouver\, BC
DESCRIPTION:Join us at Beyond Borders and Binaries (BBB)\, a free vibrant monthly gathering designed for individuals with lived experiences in the transgender\, non-binary\, and gender diverse community. These sessions offer a supportive environment where participants can connect\, share\, and learn. \nEvent Details: \n\nLocation: MOSAIC Office (5575 Boundary Road\, Vancouver\, BC. V5R 2P9)\nTime: 5:00 pm to 7:00 pm.\nRecurrent Event Dates: This is a recurring event\, so please check the other dates to accommodate you better\n\nWhat to Expect: \n\nCommunity Connection: Connect with like-minded individuals who share similar experiences and stories.\nResource Sharing: Discover valuable community resources and services tailored to your needs.\nSafe Space: Engage in open and honest conversations in a secure and understanding environment.\nSupport Network: Build a network of support that extends beyond the event.\n\nReady to embark on a journey of friendship\, acceptance\, and celebration? RSVP now to be a part of something beautiful! \nRegistration Link \nLet’s celebrate diversity and go Beyond Borders and Binaries together! See you there! \nThis event is organized by the I Belong Program\, which provides community support\, one-on-one help\, referrals for settlement needs\, and counselling. Group sessions are offered in English\, additional language support is available upon request. We invite you to visit the program page and know more how we can support you.
URL:https://mosaicbc.org/event/beyond-borders-bbb-monthly-meetup-vancouver/2024-05-27/
LOCATION:MOSAIC – Boundary\, 5575 Boundary Road\, Vancouver\, British Columbia\, V5R 2P9
CATEGORIES:Other Events
ATTACH;FMTTYPE=image/jpeg:https://mosaicbc.org/wp-content/uploads/2023/12/beyond-borders-scaled.jpg
ORGANIZER;CN="I Belong Program":MAILTO:ibelong@mosaicbc.org
GEO:49.2336134;-123.0236146
X-APPLE-STRUCTURED-LOCATION;VALUE=URI;X-ADDRESS=MOSAIC – Boundary 5575 Boundary Road Vancouver British Columbia V5R 2P9;X-APPLE-RADIUS=500;X-TITLE=5575 Boundary Road:geo:-123.0236146,49.2336134
END:VEVENT
END:VCALENDAR