BEGIN:VCALENDAR
VERSION:2.0
PRODID:-//MOSAIC - ECPv6.15.20//NONSGML v1.0//EN
CALSCALE:GREGORIAN
METHOD:PUBLISH
X-WR-CALNAME:MOSAIC
X-ORIGINAL-URL:https://mosaicbc.org
X-WR-CALDESC:Events for MOSAIC
REFRESH-INTERVAL;VALUE=DURATION:PT1H
X-Robots-Tag:noindex
X-PUBLISHED-TTL:PT1H
BEGIN:VTIMEZONE
TZID:America/Los_Angeles
BEGIN:DAYLIGHT
TZOFFSETFROM:-0800
TZOFFSETTO:-0700
TZNAME:PDT
DTSTART:20230312T100000
END:DAYLIGHT
BEGIN:STANDARD
TZOFFSETFROM:-0700
TZOFFSETTO:-0800
TZNAME:PST
DTSTART:20231105T090000
END:STANDARD
BEGIN:DAYLIGHT
TZOFFSETFROM:-0800
TZOFFSETTO:-0700
TZNAME:PDT
DTSTART:20240310T100000
END:DAYLIGHT
BEGIN:STANDARD
TZOFFSETFROM:-0700
TZOFFSETTO:-0800
TZNAME:PST
DTSTART:20241103T090000
END:STANDARD
BEGIN:DAYLIGHT
TZOFFSETFROM:-0800
TZOFFSETTO:-0700
TZNAME:PDT
DTSTART:20250309T100000
END:DAYLIGHT
BEGIN:STANDARD
TZOFFSETFROM:-0700
TZOFFSETTO:-0800
TZNAME:PST
DTSTART:20251102T090000
END:STANDARD
END:VTIMEZONE
BEGIN:VEVENT
DTSTART;TZID=America/Los_Angeles:20240313T133000
DTEND;TZID=America/Los_Angeles:20240313T150000
DTSTAMP:20260421T092213
CREATED:20240213T000011Z
LAST-MODIFIED:20240301T055805Z
UID:10032332-1710336600-1710342000@mosaicbc.org
SUMMARY:Musical Theatre Premiere: Seniors Take On Things We Never Talk About
DESCRIPTION:Join us for the MOSAIC Seniors’ Club Musical Theatre Premiere. This captivating afternoon\, supported by the Government of Canada’s New Horizons for Seniors Program\, honors the diverse experiences of immigrant seniors. The performance\, titled “Seniors Take On Things We Never Talk About\,” delves into critical issues such as elder abuse and age-related myths\, while rediscovering the resilience and vitality of aging. \nSave the Date: \n\nMarch 13\, 2024\nTime: 1:30pm – 3:00pm\nLocation: Michael J Fox Theatre\, 7373 MacPherson Avenue\, Burnaby\n\nAdmission is FREE\, but seats are limited! Register now to secure your spot! \nSponsored by the Government of Canada’s New Horizons for Seniors Program\, this event promises to be an enlightening exploration of the challenges faced by our senior community and an opportunity to raise awareness about these important issues. \nIn our musical theatre performance\, titled “Seniors Take On Things We Never Talk About\,” we will delve into sensitive topics such as elder abuse\, age-related stereotypes\, and the influence of gender roles on seniors. Through poignant songs and compelling storytelling\, we aim to spark meaningful conversations and foster a deeper understanding of the experiences of immigrant seniors. \nQuestions we’ll explore: \n\nHave you ever felt lonely or isolated from your loved ones?\nHow do you feel about being treated as if you’re incapable of understanding?\nWhat are your thoughts on seniors dating and finding love?\nHow do you cope with difficult realities?\n\nLet’s come together to listen\, learn\, and honor the perspectives of our esteemed seniors. Don’t miss this opportunity to engage in thought-provoking discussions and enjoy an enriching musical experience! \nThis musical is part of the efforts of the Seniors Club Program to support newcomer immigrants\,  refugee-immigrants\, age 55+\, and seniors from all ethnic communities who want group support\, learning\, and activities. If you are interested in joining it\, feel free to visit the program page. \nDownload the Event Poster
URL:https://mosaicbc.org/event/musical-theatre-free-ticket-burnaby/
LOCATION:Michael J Fox Theatre\, 7373 MacPherson Avenue\, Burnaby\, British Columbia\, V5J 2B7\, Canada
CATEGORIES:Other Events
ATTACH;FMTTYPE=image/jpeg:https://mosaicbc.org/wp-content/uploads/2024/02/musical-theatre-SeniorsEvent-scaled.jpg
ORGANIZER;CN="Seniors Club":MAILTO:seniors@mosaicbc.org
END:VEVENT
BEGIN:VEVENT
DTSTART;TZID=America/Los_Angeles:20240318T170000
DTEND;TZID=America/Los_Angeles:20240318T190000
DTSTAMP:20260421T092213
CREATED:20231222T222736Z
LAST-MODIFIED:20240506T200959Z
UID:10032225-1710781200-1710788400@mosaicbc.org
SUMMARY:LGBTQ Support Groups: I Belong Group Counselling Session
DESCRIPTION:Are you seeking a transformative experience within the vibrant 2SLGBTQIA+ community in Vancouver\, BC? Look no further: I Belong hosts monthly Group Counseling Sessions. Tailored specifically as LGBTQ support groups\, our sessions provide a safe and confidential space for individuals to freely express themselves and embark on a journey of self-discovery. \nLocation: MOSAIC Office\, 5575 Boundary Road\, Vancouver\, BC\, V5R 2P9 \nDates: \n\nDecember 11\nJanuary 22\, 2024\nMarch 18\, 2024\nApril 15\, 2024\n\nMay 13\, 2024\n\n\nTime: 5:00 pm – 7:00 pm \nWhat to Expect: \n\nSafe and Confidential Space: Step into a warm and inclusive environment where your identity is celebrated\, and your experiences are respected. Our session provides a haven for you to express yourself freely. \nPeer Connections: Connect with fellow 2SLGBTQIA+ individuals who have walked similar paths. Build meaningful connections\, share stories\, and find solace in a community that understands and embraces your journey. \nProfessional Counseling: Our experienced counselor will guide the session\, offering valuable insights\, empathetic listening\, and expert support to help you navigate challenges and foster personal growth. \nSupport: Discover resources and coping strategies\, gain confidence\, and learn to navigate life’s complexities with resilience.  \n\nHow to Join: \nRegister for our upcoming sessions through our Outlook calendar: I Belong Registration \nFor inquiries or assistance\, connect with us at 604-762-1566 or via email at ibelong@mosaicbc.org. \nBe Seen. Be Heard. Belong. \nOur focus on LGBTQ support groups ensures a tailored experience that resonates with your unique journey. Register now and embark on a path of self-discovery and connection with like-minded individuals who share your story. \nThis event is organized by the I Belong Program\, which provides community support\, one-on-one help\, referrals for settlement needs\, and counselling. Group sessions are offered in English\, additional language support is available upon request. We invite you to visit the program page and know more how we can support you.
URL:https://mosaicbc.org/event/lgbtq-support-groups-counseling-2/2024-03-18/
LOCATION:MOSAIC – Boundary\, 5575 Boundary Road\, Vancouver\, British Columbia\, V5R 2P9
CATEGORIES:Other Events
ATTACH;FMTTYPE=image/jpeg:https://mosaicbc.org/wp-content/uploads/2023/11/lgbt-support-groups-scaled.jpg
ORGANIZER;CN="I Belong Program":MAILTO:ibelong@mosaicbc.org
GEO:49.2336134;-123.0236146
X-APPLE-STRUCTURED-LOCATION;VALUE=URI;X-ADDRESS=MOSAIC – Boundary 5575 Boundary Road Vancouver British Columbia V5R 2P9;X-APPLE-RADIUS=500;X-TITLE=5575 Boundary Road:geo:-123.0236146,49.2336134
END:VEVENT
BEGIN:VEVENT
DTSTART;TZID=America/Los_Angeles:20240326T170000
DTEND;TZID=America/Los_Angeles:20240326T190000
DTSTAMP:20260421T092213
CREATED:20240320T200315Z
LAST-MODIFIED:20240523T200739Z
UID:10032438-1711472400-1711479600@mosaicbc.org
SUMMARY:Beyond Borders and Binaries (BBB) Monthly Meetup in Vancouver\, BC
DESCRIPTION:Join us at Beyond Borders and Binaries (BBB)\, a free vibrant monthly gathering designed for individuals with lived experiences in the transgender\, non-binary\, and gender diverse community. These sessions offer a supportive environment where participants can connect\, share\, and learn. \nEvent Details: \n\nLocation: MOSAIC Office (5575 Boundary Road\, Vancouver\, BC. V5R 2P9)\nDate: Every first Monday of the month\nTime: 5:00 pm to 7:00 pm.\nRecurrent Event Dates:\n\nJanuary 8\nFebruary 5\nMarch 26 – Celebration of the International TransGender Day\nApril 29\nMay 27\nJune 29\n\n\n\nWhat to Expect: \n\nCommunity Connection: Connect with like-minded individuals who share similar experiences and stories.\nResource Sharing: Discover valuable community resources and services tailored to your needs.\nSafe Space: Engage in open and honest conversations in a secure and understanding environment.\nSupport Network: Build a network of support that extends beyond the event.\n\nReady to embark on a journey of friendship\, acceptance\, and celebration? RSVP now to be a part of something beautiful! \nRegistration Link \nLet’s celebrate diversity and go Beyond Borders and Binaries together! See you there! \nThis event is organized by the I Belong Program\, which provides community support\, one-on-one help\, referrals for settlement needs\, and counselling. Group sessions are offered in English\, additional language support is available upon request. We invite you to visit the program page and know more how we can support you. \nEvent Flyer
URL:https://mosaicbc.org/event/beyond-borders-bbb-monthly-meetup-vancouver-2/
LOCATION:MOSAIC – Boundary\, 5575 Boundary Road\, Vancouver\, British Columbia\, V5R 2P9
CATEGORIES:Other Events
ATTACH;FMTTYPE=image/jpeg:https://mosaicbc.org/wp-content/uploads/2023/12/beyond-borders-scaled.jpg
ORGANIZER;CN="I Belong Program":MAILTO:ibelong@mosaicbc.org
GEO:49.2336134;-123.0236146
X-APPLE-STRUCTURED-LOCATION;VALUE=URI;X-ADDRESS=MOSAIC – Boundary 5575 Boundary Road Vancouver British Columbia V5R 2P9;X-APPLE-RADIUS=500;X-TITLE=5575 Boundary Road:geo:-123.0236146,49.2336134
END:VEVENT
END:VCALENDAR