BEGIN:VCALENDAR
VERSION:2.0
PRODID:-//MOSAIC - ECPv6.15.20//NONSGML v1.0//EN
CALSCALE:GREGORIAN
METHOD:PUBLISH
X-WR-CALNAME:MOSAIC
X-ORIGINAL-URL:https://mosaicbc.org
X-WR-CALDESC:Events for MOSAIC
REFRESH-INTERVAL;VALUE=DURATION:PT1H
X-Robots-Tag:noindex
X-PUBLISHED-TTL:PT1H
BEGIN:VTIMEZONE
TZID:UTC
BEGIN:STANDARD
TZOFFSETFROM:+0000
TZOFFSETTO:+0000
TZNAME:UTC
DTSTART:20220101T000000
END:STANDARD
END:VTIMEZONE
BEGIN:VTIMEZONE
TZID:America/Los_Angeles
BEGIN:DAYLIGHT
TZOFFSETFROM:-0800
TZOFFSETTO:-0700
TZNAME:PDT
DTSTART:20220313T100000
END:DAYLIGHT
BEGIN:STANDARD
TZOFFSETFROM:-0700
TZOFFSETTO:-0800
TZNAME:PST
DTSTART:20221106T090000
END:STANDARD
BEGIN:DAYLIGHT
TZOFFSETFROM:-0800
TZOFFSETTO:-0700
TZNAME:PDT
DTSTART:20230312T100000
END:DAYLIGHT
BEGIN:STANDARD
TZOFFSETFROM:-0700
TZOFFSETTO:-0800
TZNAME:PST
DTSTART:20231105T090000
END:STANDARD
BEGIN:DAYLIGHT
TZOFFSETFROM:-0800
TZOFFSETTO:-0700
TZNAME:PDT
DTSTART:20240310T100000
END:DAYLIGHT
BEGIN:STANDARD
TZOFFSETFROM:-0700
TZOFFSETTO:-0800
TZNAME:PST
DTSTART:20241103T090000
END:STANDARD
END:VTIMEZONE
BEGIN:VEVENT
DTSTART;TZID=UTC:20231002T173000
DTEND;TZID=UTC:20231002T193000
DTSTAMP:20260421T174115
CREATED:20230630T002947Z
LAST-MODIFIED:20230630T002947Z
UID:10025546-1696267800-1696275000@mosaicbc.org
SUMMARY:I Belong Peer Support Group
DESCRIPTION:Meet other LGBTQ+ newcomers\, make friends\, and participate in activities facilitated by our LGBTQ+ support worker. \nThe I Belong Peer support group to learn about community resources\, share experiences and information\, and build social connections. I Belong’s peer support group is open to LGBTQ+ (Lesbian\, Gay\, Bisexual\, Transgender\, and Queer/Questioning) newcomers regardless of immigration status. \nRefreshments are provided for in-person group sessions. Registration is required\, please contact ibelong@mosaicbc.org to register for I Belong groups.
URL:https://mosaicbc.org/event/i-belong-peer-support-group-2/2023-10-02/
LOCATION:MOSAIC – Boundary\, 5575 Boundary Road\, Vancouver\, British Columbia\, V5R 2P9
CATEGORIES:Other Events
ATTACH;FMTTYPE=image/jpeg:https://mosaicbc.org/wp-content/uploads/2022/09/ibelong.jpg
GEO:49.2336134;-123.0236146
X-APPLE-STRUCTURED-LOCATION;VALUE=URI;X-ADDRESS=MOSAIC – Boundary 5575 Boundary Road Vancouver British Columbia V5R 2P9;X-APPLE-RADIUS=500;X-TITLE=5575 Boundary Road:geo:-123.0236146,49.2336134
END:VEVENT
BEGIN:VEVENT
DTSTART;TZID=America/Los_Angeles:20231007T100000
DTEND;TZID=America/Los_Angeles:20231007T143000
DTSTAMP:20260421T174115
CREATED:20230920T220639Z
LAST-MODIFIED:20230921T191945Z
UID:10032153-1696672800-1696689000@mosaicbc.org
SUMMARY:Events for Seniors celebrating Senior's Day 2023
DESCRIPTION:Greetings from MOSAIC Seniors! We cordially invite you to join us in celebrating National Seniors’ Day at MOSAIC Multicultural Seniors Day 2023. This special event is designed to challenge misconceptions about aging and embrace the true essence of growing older. events for seniors \nEmbrace Aging with a Realistic Perspective \nAt MOSAIC Multicultural Seniors Day\, we believe in rewriting the narrative on aging. It’s not just about wrinkles or slowing down; and grey hair; it’s about embracing the wisdom that comes with experience and aging gracefully. Our event will help you to empower yourself to: \n\nPrioritize Health and Wellness: Discover how to maintain and improve your well-being as you age. We’ll provide insights into holistic health practices tailored to seniors.\nFlexibility and Adjustment: Learn strategies to adapt to the changes that aging brings. We’ll explore techniques to maintain independence and thrive in your golden years.\nEmbrace Wisdom: Recognize the value of your life experiences and the knowledge you have gained over the years. We encourage you to take pride in becoming an Elder or Sage in your community and to live with agency and purpose.\n\nEvent Details events for seniors \nDate: October 7\, 2023\nTime: 10:00 AM – 2:30 PM\nLocation: Nikkei National Museum & Cultural Centre\, 6688 Southoaks Crescent\, Burnaby \nGet Involved \nDon’t miss this opportunity to celebrate aging with purpose. Join us at MOSAIC Multicultural Seniors Day 2023 and be part of a community that values wisdom\, health\, and resilience in the senior years. \nRegister Now \nVisit our event page on Eventbrite to secure your spot at MOSAIC Multicultural Seniors Day 2023. \nLet’s redefine aging together and celebrate the vibrant seniors in our community. We look forward to seeing you on October 7th at the Nikkei National Museum & Cultural Centre in Burnaby! \n Chinese Flyer          English Flyer          Farsi Flyer
URL:https://mosaicbc.org/event/events-for-seniors-burnaby/
LOCATION:Nikkei National Museum & Cultural Centre\, 6688 Southoaks Crescent\, Burnaby\, British Columbia\, V5E 4M7\, Canada
CATEGORIES:Other Events
ATTACH;FMTTYPE=image/jpeg:https://mosaicbc.org/wp-content/uploads/2023/09/events-for-seniors.jpg
ORGANIZER;CN="Seniors Club":MAILTO:seniors@mosaicbc.org
END:VEVENT
BEGIN:VEVENT
DTSTART;TZID=UTC:20231009T173000
DTEND;TZID=UTC:20231009T193000
DTSTAMP:20260421T174115
CREATED:20230119T031335Z
LAST-MODIFIED:20230119T031335Z
UID:10025552-1696872600-1696879800@mosaicbc.org
SUMMARY:I Belong Peer Support Group
DESCRIPTION:Meet other LGBTQ+ newcomers\, make friends\, and participate in activities facilitated by our LGBTQ+ support worker. \nThe I Belong Peer support group to learn about community resources\, share experiences and information\, and build social connections. I Belong’s peer support group is open to LGBTQ+ (Lesbian\, Gay\, Bisexual\, Transgender\, and Queer/Questioning) newcomers regardless of immigration status. \nRefreshments are provided for in-person group sessions. Registration is required\, please contact ibelong@mosaicbc.org to register for I Belong groups.
URL:https://mosaicbc.org/event/i-belong-peer-support-group/2023-10-09/
LOCATION:MOSAIC – Boundary\, 5575 Boundary Road\, Vancouver\, British Columbia\, V5R 2P9
CATEGORIES:Other Events
ATTACH;FMTTYPE=image/jpeg:https://mosaicbc.org/wp-content/uploads/2022/09/ibelong.jpg
GEO:49.2336134;-123.0236146
X-APPLE-STRUCTURED-LOCATION;VALUE=URI;X-ADDRESS=MOSAIC – Boundary 5575 Boundary Road Vancouver British Columbia V5R 2P9;X-APPLE-RADIUS=500;X-TITLE=5575 Boundary Road:geo:-123.0236146,49.2336134
END:VEVENT
BEGIN:VEVENT
DTSTART;TZID=America/Los_Angeles:20231011T140000
DTEND;TZID=America/Los_Angeles:20231011T160000
DTSTAMP:20260421T174115
CREATED:20230925T225655Z
LAST-MODIFIED:20230926T184411Z
UID:10032155-1697032800-1697040000@mosaicbc.org
SUMMARY:Co-op Housing in Vancouver: Your Path to Affordable Living
DESCRIPTION:Are you in search of affordable housing options in the picturesque province of British Columbia? Are you curious about the various housing alternatives available to you? Look no further! Join us for an enlightening Co-op Housing Workshop\, where our expert from the Co-operative Housing Federation of British Columbia (CHF BC) will share invaluable insights into cooperative housing in BC. co-op housing Vancouver \nDate: October 11\, 2023 \nTime: 14:00 – 16:00 \nLocation: 5575 Boundary Road\, Vancouver\, BC \nRegistration is Mandatory: To secure your spot\, please make sure to register in advance. Please note that the number of spots available is limited and will be allocated on a first-come\, first-serve basis. But priority will be given to Permanent Residents\, CUAET holders and Protected Persons. \nRefreshments: We care about your comfort and well-being during the workshop\, so light refreshments will be thoughtfully provided. \nLanguage of the Workshop: The workshop will be conducted exclusively in English\, ensuring that all attendees can fully participate and understand the discussion. co-op housing Vancouver \nIn this workshop\, you can expect to gain a comprehensive understanding of cooperative housing in British Columbia\, including its benefits\, eligibility criteria\, and the application process. Our expert will delve into the intricacies of co-op housing\, making it easier for you to navigate the housing landscape in BC. \nThis workshop will not only provide you with information but also an opportunity to ask questions and engage in meaningful discussions. Whether you are new to BC or have been here for a while\, we aim to empower you with knowledge about housing options that may be suitable for you and your family. \nIf you have any questions or require additional information\, please don’t hesitate to reach out to Valeriia at vshegai@mosaicbc.org. We are here to assist you every step of the way. If you want even more support\, our Newcomers and Community Building Program is here for you. \nDon’t miss this unique opportunity to learn about cooperative housing in Vancouver\, BC. Register now to secure your place at this informative workshop. We look forward to welcoming you on October 11th! \nEvent Flyer
URL:https://mosaicbc.org/event/co-op-housing-vancouver-workshop/
LOCATION:MOSAIC – Boundary\, 5575 Boundary Road\, Vancouver\, British Columbia\, V5R 2P9
CATEGORIES:Information Sessions,Other Events,Workshops
ATTACH;FMTTYPE=image/png:https://mosaicbc.org/wp-content/uploads/2023/09/co-op-housing-Vancouver.png
ORGANIZER;CN="Newcomers and Community Building Program":MAILTO:https://mosaicbc.org/our-programs/get-newcomer-support-in-canada/
GEO:49.2336134;-123.0236146
X-APPLE-STRUCTURED-LOCATION;VALUE=URI;X-ADDRESS=MOSAIC – Boundary 5575 Boundary Road Vancouver British Columbia V5R 2P9;X-APPLE-RADIUS=500;X-TITLE=5575 Boundary Road:geo:-123.0236146,49.2336134
END:VEVENT
BEGIN:VEVENT
DTSTART;TZID=America/Los_Angeles:20231011T160000
DTEND;TZID=America/Los_Angeles:20231011T170000
DTSTAMP:20260421T174115
CREATED:20230929T222942Z
LAST-MODIFIED:20230929T223501Z
UID:10032156-1697040000-1697043600@mosaicbc.org
SUMMARY:Effects of Anger: Triggers & Impacts
DESCRIPTION:Date: October 11\, 2023 Effects of Anger\nTime: 4:00 PM – 5:00 PM\nLocation: 5575 Boundary Road\n\nAre you curious about the profound effects of anger within relationships? Join us for a thought-provoking wellness workshop titled “Effects of Anger: Triggers & Impacts” on October 11\, 2023\, from 4:00 PM to 5:00 PM at our in-person venue located at 5575 Boundary Road. \nOverview: \nAnger is a powerful emotion that can significantly influence our lives and the lives of those around us. In this engaging workshop\, we will discuss anger triggers\, its far-reaching impacts on individuals\, loved ones\, and the community\, and most importantly\, formulate a plan to manage our triggers. \nHow to Join:  \nIf you are already enrolled in the AMCP\, we encourage you to participate and take advantage of this valuable opportunity. \nFor those who are not currently part of the AMCP but are interested in joining\, please check the AMCP page to see if you are eligible for the program\, then reach out to our Program Coordinator. You can contact us via phone at 236-521-7092 or send an email to amcp@mosaicbc.org. Our Program Coordinator will be delighted to assist you in getting started on your path to better self-care and emotional well-being. \nKey Workshop Highlights: Effects of Anger \n\nGain insight into the common triggers of anger in relationships.\nUnderstand the potential consequences of unmanaged anger on personal well-being.\nExplore the ripple effects of anger within families and the broader community.\n\nHow to Register: \nTo secure your spot at this enlightening workshop\, please contact the Program Coordinator by calling 236-521-7092 or e-mailing amcp@mosaicbc.org \nDon’t miss this opportunity to deepen your understanding of anger and its impact on your life and relationships. Join us on October 11\, 2023\, as we embark on a journey towards healthier\, more harmonious connections within our community. We look forward to having you with us.
URL:https://mosaicbc.org/event/effects-of-anger-workshop/
LOCATION:MOSAIC – Boundary\, 5575 Boundary Road\, Vancouver\, British Columbia\, V5R 2P9
CATEGORIES:Other Events,Workshops
ATTACH;FMTTYPE=image/jpeg:https://mosaicbc.org/wp-content/uploads/2023/09/Oct-11.jpg
ORGANIZER;CN="Anger Management Care Program (AMCP)":MAILTO:amcp@mosaicbc.org
GEO:49.2336134;-123.0236146
X-APPLE-STRUCTURED-LOCATION;VALUE=URI;X-ADDRESS=MOSAIC – Boundary 5575 Boundary Road Vancouver British Columbia V5R 2P9;X-APPLE-RADIUS=500;X-TITLE=5575 Boundary Road:geo:-123.0236146,49.2336134
END:VEVENT
BEGIN:VEVENT
DTSTART;TZID=UTC:20231016T173000
DTEND;TZID=UTC:20231016T193000
DTSTAMP:20260421T174115
CREATED:20221022T014357Z
LAST-MODIFIED:20221022T014534Z
UID:10031235-1697477400-1697484600@mosaicbc.org
SUMMARY:I Belong Beyond Borders and Binaries Peer Support Group
DESCRIPTION:Meet and make friends with other transgender\, non-binary\, and gender diverse newcomers in Vancouver! Beyond Borders and Binaries is facilitated by our LGBTQ+ support worker in collaboration with registered clinical counsellors. Participants can learn about community resources\, share experiences\, and find support in a safe\, understanding space. Beyond Borders and Binaries is open to transgender\, non-binary\, and gender diverse newcomers regardless of immigration status. \nRefreshments are provided. Registration is required\, please contact ibelong@mosaicbc.org to sign up.
URL:https://mosaicbc.org/event/i-belong-beyond-borders-and-binaries-peer-support-group/2023-10-16/
LOCATION:MOSAIC – Boundary\, 5575 Boundary Road\, Vancouver\, British Columbia\, V5R 2P9
CATEGORIES:Other Events
ATTACH;FMTTYPE=image/jpeg:https://mosaicbc.org/wp-content/uploads/2022/10/lgbtqi-event.jpg
ORGANIZER;CN="MOSAIC":MAILTO:info@mosaicbc.org
GEO:49.2336134;-123.0236146
X-APPLE-STRUCTURED-LOCATION;VALUE=URI;X-ADDRESS=MOSAIC – Boundary 5575 Boundary Road Vancouver British Columbia V5R 2P9;X-APPLE-RADIUS=500;X-TITLE=5575 Boundary Road:geo:-123.0236146,49.2336134
END:VEVENT
END:VCALENDAR