BEGIN:VCALENDAR
VERSION:2.0
PRODID:-//MOSAIC - ECPv6.15.20//NONSGML v1.0//EN
CALSCALE:GREGORIAN
METHOD:PUBLISH
X-WR-CALNAME:MOSAIC
X-ORIGINAL-URL:https://mosaicbc.org
X-WR-CALDESC:Events for MOSAIC
REFRESH-INTERVAL;VALUE=DURATION:PT1H
X-Robots-Tag:noindex
X-PUBLISHED-TTL:PT1H
BEGIN:VTIMEZONE
TZID:UTC
BEGIN:STANDARD
TZOFFSETFROM:+0000
TZOFFSETTO:+0000
TZNAME:UTC
DTSTART:20220101T000000
END:STANDARD
END:VTIMEZONE
BEGIN:VTIMEZONE
TZID:America/Los_Angeles
BEGIN:DAYLIGHT
TZOFFSETFROM:-0800
TZOFFSETTO:-0700
TZNAME:PDT
DTSTART:20220313T100000
END:DAYLIGHT
BEGIN:STANDARD
TZOFFSETFROM:-0700
TZOFFSETTO:-0800
TZNAME:PST
DTSTART:20221106T090000
END:STANDARD
BEGIN:DAYLIGHT
TZOFFSETFROM:-0800
TZOFFSETTO:-0700
TZNAME:PDT
DTSTART:20230312T100000
END:DAYLIGHT
BEGIN:STANDARD
TZOFFSETFROM:-0700
TZOFFSETTO:-0800
TZNAME:PST
DTSTART:20231105T090000
END:STANDARD
BEGIN:DAYLIGHT
TZOFFSETFROM:-0800
TZOFFSETTO:-0700
TZNAME:PDT
DTSTART:20240310T100000
END:DAYLIGHT
BEGIN:STANDARD
TZOFFSETFROM:-0700
TZOFFSETTO:-0800
TZNAME:PST
DTSTART:20241103T090000
END:STANDARD
END:VTIMEZONE
BEGIN:VEVENT
DTSTART;TZID=UTC:20230904T173000
DTEND;TZID=UTC:20230904T193000
DTSTAMP:20260421T191932
CREATED:20230630T002947Z
LAST-MODIFIED:20230630T002947Z
UID:10025545-1693848600-1693855800@mosaicbc.org
SUMMARY:I Belong Peer Support Group
DESCRIPTION:Meet other LGBTQ+ newcomers\, make friends\, and participate in activities facilitated by our LGBTQ+ support worker. \nThe I Belong Peer support group to learn about community resources\, share experiences and information\, and build social connections. I Belong’s peer support group is open to LGBTQ+ (Lesbian\, Gay\, Bisexual\, Transgender\, and Queer/Questioning) newcomers regardless of immigration status. \nRefreshments are provided for in-person group sessions. Registration is required\, please contact ibelong@mosaicbc.org to register for I Belong groups.
URL:https://mosaicbc.org/event/i-belong-peer-support-group-2/2023-09-04/
LOCATION:MOSAIC – Boundary\, 5575 Boundary Road\, Vancouver\, British Columbia\, V5R 2P9
CATEGORIES:Other Events
ATTACH;FMTTYPE=image/jpeg:https://mosaicbc.org/wp-content/uploads/2022/09/ibelong.jpg
GEO:49.2336134;-123.0236146
X-APPLE-STRUCTURED-LOCATION;VALUE=URI;X-ADDRESS=MOSAIC – Boundary 5575 Boundary Road Vancouver British Columbia V5R 2P9;X-APPLE-RADIUS=500;X-TITLE=5575 Boundary Road:geo:-123.0236146,49.2336134
END:VEVENT
BEGIN:VEVENT
DTSTART;TZID=UTC:20230911T173000
DTEND;TZID=UTC:20230911T193000
DTSTAMP:20260421T191932
CREATED:20230119T031335Z
LAST-MODIFIED:20230119T031335Z
UID:10025551-1694453400-1694460600@mosaicbc.org
SUMMARY:I Belong Peer Support Group
DESCRIPTION:Meet other LGBTQ+ newcomers\, make friends\, and participate in activities facilitated by our LGBTQ+ support worker. \nThe I Belong Peer support group to learn about community resources\, share experiences and information\, and build social connections. I Belong’s peer support group is open to LGBTQ+ (Lesbian\, Gay\, Bisexual\, Transgender\, and Queer/Questioning) newcomers regardless of immigration status. \nRefreshments are provided for in-person group sessions. Registration is required\, please contact ibelong@mosaicbc.org to register for I Belong groups.
URL:https://mosaicbc.org/event/i-belong-peer-support-group/2023-09-11/
LOCATION:MOSAIC – Boundary\, 5575 Boundary Road\, Vancouver\, British Columbia\, V5R 2P9
CATEGORIES:Other Events
ATTACH;FMTTYPE=image/jpeg:https://mosaicbc.org/wp-content/uploads/2022/09/ibelong.jpg
GEO:49.2336134;-123.0236146
X-APPLE-STRUCTURED-LOCATION;VALUE=URI;X-ADDRESS=MOSAIC – Boundary 5575 Boundary Road Vancouver British Columbia V5R 2P9;X-APPLE-RADIUS=500;X-TITLE=5575 Boundary Road:geo:-123.0236146,49.2336134
END:VEVENT
BEGIN:VEVENT
DTSTART;TZID=UTC:20230918T173000
DTEND;TZID=UTC:20230918T193000
DTSTAMP:20260421T191932
CREATED:20221022T014357Z
LAST-MODIFIED:20221022T014534Z
UID:10031234-1695058200-1695065400@mosaicbc.org
SUMMARY:I Belong Beyond Borders and Binaries Peer Support Group
DESCRIPTION:Meet and make friends with other transgender\, non-binary\, and gender diverse newcomers in Vancouver! Beyond Borders and Binaries is facilitated by our LGBTQ+ support worker in collaboration with registered clinical counsellors. Participants can learn about community resources\, share experiences\, and find support in a safe\, understanding space. Beyond Borders and Binaries is open to transgender\, non-binary\, and gender diverse newcomers regardless of immigration status. \nRefreshments are provided. Registration is required\, please contact ibelong@mosaicbc.org to sign up.
URL:https://mosaicbc.org/event/i-belong-beyond-borders-and-binaries-peer-support-group/2023-09-18/
LOCATION:MOSAIC – Boundary\, 5575 Boundary Road\, Vancouver\, British Columbia\, V5R 2P9
CATEGORIES:Other Events
ATTACH;FMTTYPE=image/jpeg:https://mosaicbc.org/wp-content/uploads/2022/10/lgbtqi-event.jpg
ORGANIZER;CN="MOSAIC":MAILTO:info@mosaicbc.org
GEO:49.2336134;-123.0236146
X-APPLE-STRUCTURED-LOCATION;VALUE=URI;X-ADDRESS=MOSAIC – Boundary 5575 Boundary Road Vancouver British Columbia V5R 2P9;X-APPLE-RADIUS=500;X-TITLE=5575 Boundary Road:geo:-123.0236146,49.2336134
END:VEVENT
BEGIN:VEVENT
DTSTART;TZID=America/Los_Angeles:20230921T160000
DTEND;TZID=America/Los_Angeles:20230921T180000
DTSTAMP:20260421T191932
CREATED:20230909T014207Z
LAST-MODIFIED:20230909T014453Z
UID:10032150-1695312000-1695319200@mosaicbc.org
SUMMARY:Family Yoga & Cookie Decorating Event: Stress Relief for Moms and Fun for Kids
DESCRIPTION:Join us for a rejuvenating and creative afternoon at our “Yoga & Arts for Moms and Kids” event! Family Yoga & Art Event \nDate: September 21\, 2023 Family Yoga & Art Event \nTime: 4:00 PM – 6:00 PM \nLocation: 2055 Rosser Ave\, Burnaby V5C 5Y1 \nEvent Highlights: \nMom and Child Yoga for Stress Relief and Relaxation: \nTake a break from your busy schedule and unwind with your little one. Our experienced yoga instructor will guide you through a calming yoga session specially designed for mothers and children. It’s a wonderful opportunity to bond with your child while relieving stress and fostering relaxation. We will provide yoga mats\, in case you don’t bring yours. \nCookie Painting and Decoration for Kids: \nLet your child’s creativity shine as they indulge in the delightful art of cookie painting and decoration. We’ll provide all the supplies needed for your little artists to transform plain cookies into edible masterpieces. It’s a fun and delicious activity that will surely put a smile on their faces. \nPriority Given to PRs\, CUAET & Protected Persons: \nAs a token of our appreciation for our Permanent Residents (PRs)\, Canadian Under Agreement for Excluded Temporary Residents (CUAET)\, and Protected Persons\, we are offering priority registration for this event. We value your contribution to our community and want to ensure you have the opportunity to participate in this enriching experience. \nDon’t miss out on this fantastic opportunity to connect with your child\, relax through yoga\, and explore your artistic side together. Join us for a memorable day filled with relaxation\, creativity\, and bonding. \nPlease use the Registration Form to secure your spot at this event. We look forward to seeing you there! \nThis is an event organized by the Newcomers and Community Building Program. Visit the program page to know how can we support you\, including getting a SIN (Social Insurance Number)\, finding schools\, jobs\, and family doctors and more. \nEvent Brochure
URL:https://mosaicbc.org/event/family-yoga-and-art-event/
LOCATION:2055 Rosser Ave\, 2055 Rosser Ave.\, Burnaby\, British Columbia\, V5C 5Y1\, Canada
CATEGORIES:Other Events
ATTACH;FMTTYPE=image/png:https://mosaicbc.org/wp-content/uploads/2023/09/yoga.png
ORGANIZER;CN="Dorna":MAILTO:dostovarkashkooli@mosaicbc.org
END:VEVENT
END:VCALENDAR