BEGIN:VCALENDAR
VERSION:2.0
PRODID:-//MOSAIC - ECPv6.15.20//NONSGML v1.0//EN
CALSCALE:GREGORIAN
METHOD:PUBLISH
X-ORIGINAL-URL:https://mosaicbc.org
X-WR-CALDESC:Events for MOSAIC
REFRESH-INTERVAL;VALUE=DURATION:PT1H
X-Robots-Tag:noindex
X-PUBLISHED-TTL:PT1H
BEGIN:VTIMEZONE
TZID:UTC
BEGIN:STANDARD
TZOFFSETFROM:+0000
TZOFFSETTO:+0000
TZNAME:UTC
DTSTART:20220101T000000
END:STANDARD
END:VTIMEZONE
BEGIN:VEVENT
DTSTART;TZID=UTC:20230803T140000
DTEND;TZID=UTC:20230803T153000
DTSTAMP:20260421T210002
CREATED:20230628T024149Z
LAST-MODIFIED:20230628T024149Z
UID:10031710-1691071200-1691076600@mosaicbc.org
SUMMARY:Weekly Multicultural Women's Mutual Support Group
DESCRIPTION:Join us for the Weekly Multicultural Women’s Mutual Support Group\, a safe and empowering space for self-identified women\, regardless of immigration status\, who have lived experience or are at risk of violence or abuse. This group aims to provide support and knowledge on various important topics. \nLed by our facilitator\, each session will be dedicated to exploring different themes through engaging content and materials. Participants will have the opportunity to share their experiences and thoughts in a respectful and confidential online environment. Don’t miss this chance to join a supportive community of women and embark on a journey of healing\, empowerment\, and mutual support. \nDate: 2023 July 13\, 20\, 27\, August 3\, 10\, 17 (Thursday)\nTime: 2:00-3:30pm (1.5 hours)\nPlatform: Zoom \n*Priority will be given to women who can attend all 6 group sessions. \nTopics: \n\nSelf-esteem\nRights and Needs\nGender stereotyping and social norms\nHealthy relationship and Boundaries\nEmotions\nAssertiveness\n\nRegistration Link \nEvent Brochure
URL:https://mosaicbc.org/event/women-mutual-support-group/2023-08-03/
LOCATION:Online
CATEGORIES:Conversation Circles,Information Sessions,Online,Other Events
ATTACH;FMTTYPE=image/png:https://mosaicbc.org/wp-content/uploads/2023/06/support.png
ORGANIZER;CN="MOSAIC":MAILTO:info@mosaicbc.org
END:VEVENT
BEGIN:VEVENT
DTSTART;TZID=UTC:20230804T093000
DTEND;TZID=UTC:20230804T110000
DTSTAMP:20260421T210002
CREATED:20230724T224559Z
LAST-MODIFIED:20230724T225427Z
UID:10031715-1691141400-1691146800@mosaicbc.org
SUMMARY:Wellness Workshop Series: Chair Yoga for Newcomer Seniors
DESCRIPTION:Join us for FREE physical wellness sessions\, accompanied by information sessions about government benefits. \n\nThe sessions are led by certified Yoga instructors.\nRefreshments will be provided.\nBring your PR card for registration.\nRegister here or call (778) 591-9334\n\nFridays\, August 4\, 11\, 18\, and 25\, 9:30 am-11:00 am \nAddress: MOSAIC\, 7134 King George Blvd\, Surrey \nEvent Flyer                                    Workshop for Ukrainian CUAET holders
URL:https://mosaicbc.org/event/wellness-workshop-series-chair-yoga-for-newcomer-seniors/2023-08-04/
LOCATION:MOSAIC – Surrey\, 200A-7134 King George Boulevard\, Surrey\, V3W 5A3\, BC\, Canada
CATEGORIES:Information Sessions,Other Events,Workshops
ATTACH;FMTTYPE=image/jpeg:https://mosaicbc.org/wp-content/uploads/2023/07/Chair-Yoga_Ariba-Dara.jpg
ORGANIZER;CN="Daisy Au":MAILTO:daisyau@mosaicbc.org
GEO:49.1322589;-122.844483
X-APPLE-STRUCTURED-LOCATION;VALUE=URI;X-ADDRESS=MOSAIC – Surrey 200A-7134 King George Boulevard Surrey V3W 5A3 BC Canada;X-APPLE-RADIUS=500;X-TITLE=200A-7134 King George Boulevard:geo:-122.844483,49.1322589
END:VEVENT
BEGIN:VEVENT
DTSTART;TZID=UTC:20230807T173000
DTEND;TZID=UTC:20230807T193000
DTSTAMP:20260421T210002
CREATED:20230630T002947Z
LAST-MODIFIED:20230630T002947Z
UID:10025544-1691429400-1691436600@mosaicbc.org
SUMMARY:I Belong Peer Support Group
DESCRIPTION:Meet other LGBTQ+ newcomers\, make friends\, and participate in activities facilitated by our LGBTQ+ support worker. \nThe I Belong Peer support group to learn about community resources\, share experiences and information\, and build social connections. I Belong’s peer support group is open to LGBTQ+ (Lesbian\, Gay\, Bisexual\, Transgender\, and Queer/Questioning) newcomers regardless of immigration status. \nRefreshments are provided for in-person group sessions. Registration is required\, please contact ibelong@mosaicbc.org to register for I Belong groups.
URL:https://mosaicbc.org/event/i-belong-peer-support-group-2/2023-08-07/
LOCATION:MOSAIC – Boundary\, 5575 Boundary Road\, Vancouver\, British Columbia\, V5R 2P9
CATEGORIES:Other Events
ATTACH;FMTTYPE=image/jpeg:https://mosaicbc.org/wp-content/uploads/2022/09/ibelong.jpg
GEO:49.2336134;-123.0236146
X-APPLE-STRUCTURED-LOCATION;VALUE=URI;X-ADDRESS=MOSAIC – Boundary 5575 Boundary Road Vancouver British Columbia V5R 2P9;X-APPLE-RADIUS=500;X-TITLE=5575 Boundary Road:geo:-123.0236146,49.2336134
END:VEVENT
BEGIN:VEVENT
DTSTART;TZID=UTC:20230810T140000
DTEND;TZID=UTC:20230810T153000
DTSTAMP:20260421T210002
CREATED:20230628T024149Z
LAST-MODIFIED:20230628T024149Z
UID:10031711-1691676000-1691681400@mosaicbc.org
SUMMARY:Weekly Multicultural Women's Mutual Support Group
DESCRIPTION:Join us for the Weekly Multicultural Women’s Mutual Support Group\, a safe and empowering space for self-identified women\, regardless of immigration status\, who have lived experience or are at risk of violence or abuse. This group aims to provide support and knowledge on various important topics. \nLed by our facilitator\, each session will be dedicated to exploring different themes through engaging content and materials. Participants will have the opportunity to share their experiences and thoughts in a respectful and confidential online environment. Don’t miss this chance to join a supportive community of women and embark on a journey of healing\, empowerment\, and mutual support. \nDate: 2023 July 13\, 20\, 27\, August 3\, 10\, 17 (Thursday)\nTime: 2:00-3:30pm (1.5 hours)\nPlatform: Zoom \n*Priority will be given to women who can attend all 6 group sessions. \nTopics: \n\nSelf-esteem\nRights and Needs\nGender stereotyping and social norms\nHealthy relationship and Boundaries\nEmotions\nAssertiveness\n\nRegistration Link \nEvent Brochure
URL:https://mosaicbc.org/event/women-mutual-support-group/2023-08-10/
LOCATION:Online
CATEGORIES:Conversation Circles,Information Sessions,Online,Other Events
ATTACH;FMTTYPE=image/png:https://mosaicbc.org/wp-content/uploads/2023/06/support.png
ORGANIZER;CN="MOSAIC":MAILTO:info@mosaicbc.org
END:VEVENT
BEGIN:VEVENT
DTSTART;TZID=UTC:20230811T093000
DTEND;TZID=UTC:20230811T110000
DTSTAMP:20260421T210002
CREATED:20230724T224559Z
LAST-MODIFIED:20230724T225427Z
UID:10031716-1691746200-1691751600@mosaicbc.org
SUMMARY:Wellness Workshop Series: Chair Yoga for Newcomer Seniors
DESCRIPTION:Join us for FREE physical wellness sessions\, accompanied by information sessions about government benefits. \n\nThe sessions are led by certified Yoga instructors.\nRefreshments will be provided.\nBring your PR card for registration.\nRegister here or call (778) 591-9334\n\nFridays\, August 4\, 11\, 18\, and 25\, 9:30 am-11:00 am \nAddress: MOSAIC\, 7134 King George Blvd\, Surrey \nEvent Flyer                                    Workshop for Ukrainian CUAET holders
URL:https://mosaicbc.org/event/wellness-workshop-series-chair-yoga-for-newcomer-seniors/2023-08-11/
LOCATION:MOSAIC – Surrey\, 200A-7134 King George Boulevard\, Surrey\, V3W 5A3\, BC\, Canada
CATEGORIES:Information Sessions,Other Events,Workshops
ATTACH;FMTTYPE=image/jpeg:https://mosaicbc.org/wp-content/uploads/2023/07/Chair-Yoga_Ariba-Dara.jpg
ORGANIZER;CN="Daisy Au":MAILTO:daisyau@mosaicbc.org
GEO:49.1322589;-122.844483
X-APPLE-STRUCTURED-LOCATION;VALUE=URI;X-ADDRESS=MOSAIC – Surrey 200A-7134 King George Boulevard Surrey V3W 5A3 BC Canada;X-APPLE-RADIUS=500;X-TITLE=200A-7134 King George Boulevard:geo:-122.844483,49.1322589
END:VEVENT
BEGIN:VEVENT
DTSTART;TZID=UTC:20230814T173000
DTEND;TZID=UTC:20230814T193000
DTSTAMP:20260421T210002
CREATED:20230119T031335Z
LAST-MODIFIED:20230119T031335Z
UID:10025550-1692034200-1692041400@mosaicbc.org
SUMMARY:I Belong Peer Support Group
DESCRIPTION:Meet other LGBTQ+ newcomers\, make friends\, and participate in activities facilitated by our LGBTQ+ support worker. \nThe I Belong Peer support group to learn about community resources\, share experiences and information\, and build social connections. I Belong’s peer support group is open to LGBTQ+ (Lesbian\, Gay\, Bisexual\, Transgender\, and Queer/Questioning) newcomers regardless of immigration status. \nRefreshments are provided for in-person group sessions. Registration is required\, please contact ibelong@mosaicbc.org to register for I Belong groups.
URL:https://mosaicbc.org/event/i-belong-peer-support-group/2023-08-14/
LOCATION:MOSAIC – Boundary\, 5575 Boundary Road\, Vancouver\, British Columbia\, V5R 2P9
CATEGORIES:Other Events
ATTACH;FMTTYPE=image/jpeg:https://mosaicbc.org/wp-content/uploads/2022/09/ibelong.jpg
GEO:49.2336134;-123.0236146
X-APPLE-STRUCTURED-LOCATION;VALUE=URI;X-ADDRESS=MOSAIC – Boundary 5575 Boundary Road Vancouver British Columbia V5R 2P9;X-APPLE-RADIUS=500;X-TITLE=5575 Boundary Road:geo:-123.0236146,49.2336134
END:VEVENT
BEGIN:VEVENT
DTSTART;TZID=UTC:20230817T140000
DTEND;TZID=UTC:20230817T153000
DTSTAMP:20260421T210002
CREATED:20230628T024149Z
LAST-MODIFIED:20230628T024149Z
UID:10031712-1692280800-1692286200@mosaicbc.org
SUMMARY:Weekly Multicultural Women's Mutual Support Group
DESCRIPTION:Join us for the Weekly Multicultural Women’s Mutual Support Group\, a safe and empowering space for self-identified women\, regardless of immigration status\, who have lived experience or are at risk of violence or abuse. This group aims to provide support and knowledge on various important topics. \nLed by our facilitator\, each session will be dedicated to exploring different themes through engaging content and materials. Participants will have the opportunity to share their experiences and thoughts in a respectful and confidential online environment. Don’t miss this chance to join a supportive community of women and embark on a journey of healing\, empowerment\, and mutual support. \nDate: 2023 July 13\, 20\, 27\, August 3\, 10\, 17 (Thursday)\nTime: 2:00-3:30pm (1.5 hours)\nPlatform: Zoom \n*Priority will be given to women who can attend all 6 group sessions. \nTopics: \n\nSelf-esteem\nRights and Needs\nGender stereotyping and social norms\nHealthy relationship and Boundaries\nEmotions\nAssertiveness\n\nRegistration Link \nEvent Brochure
URL:https://mosaicbc.org/event/women-mutual-support-group/2023-08-17/
LOCATION:Online
CATEGORIES:Conversation Circles,Information Sessions,Online,Other Events
ATTACH;FMTTYPE=image/png:https://mosaicbc.org/wp-content/uploads/2023/06/support.png
ORGANIZER;CN="MOSAIC":MAILTO:info@mosaicbc.org
END:VEVENT
BEGIN:VEVENT
DTSTART;TZID=UTC:20230818T093000
DTEND;TZID=UTC:20230818T110000
DTSTAMP:20260421T210002
CREATED:20230724T224559Z
LAST-MODIFIED:20230724T225427Z
UID:10031717-1692351000-1692356400@mosaicbc.org
SUMMARY:Wellness Workshop Series: Chair Yoga for Newcomer Seniors
DESCRIPTION:Join us for FREE physical wellness sessions\, accompanied by information sessions about government benefits. \n\nThe sessions are led by certified Yoga instructors.\nRefreshments will be provided.\nBring your PR card for registration.\nRegister here or call (778) 591-9334\n\nFridays\, August 4\, 11\, 18\, and 25\, 9:30 am-11:00 am \nAddress: MOSAIC\, 7134 King George Blvd\, Surrey \nEvent Flyer                                    Workshop for Ukrainian CUAET holders
URL:https://mosaicbc.org/event/wellness-workshop-series-chair-yoga-for-newcomer-seniors/2023-08-18/
LOCATION:MOSAIC – Surrey\, 200A-7134 King George Boulevard\, Surrey\, V3W 5A3\, BC\, Canada
CATEGORIES:Information Sessions,Other Events,Workshops
ATTACH;FMTTYPE=image/jpeg:https://mosaicbc.org/wp-content/uploads/2023/07/Chair-Yoga_Ariba-Dara.jpg
ORGANIZER;CN="Daisy Au":MAILTO:daisyau@mosaicbc.org
GEO:49.1322589;-122.844483
X-APPLE-STRUCTURED-LOCATION;VALUE=URI;X-ADDRESS=MOSAIC – Surrey 200A-7134 King George Boulevard Surrey V3W 5A3 BC Canada;X-APPLE-RADIUS=500;X-TITLE=200A-7134 King George Boulevard:geo:-122.844483,49.1322589
END:VEVENT
BEGIN:VEVENT
DTSTART;TZID=UTC:20230821T173000
DTEND;TZID=UTC:20230821T193000
DTSTAMP:20260421T210002
CREATED:20221022T014357Z
LAST-MODIFIED:20221022T014534Z
UID:10031233-1692639000-1692646200@mosaicbc.org
SUMMARY:I Belong Beyond Borders and Binaries Peer Support Group
DESCRIPTION:Meet and make friends with other transgender\, non-binary\, and gender diverse newcomers in Vancouver! Beyond Borders and Binaries is facilitated by our LGBTQ+ support worker in collaboration with registered clinical counsellors. Participants can learn about community resources\, share experiences\, and find support in a safe\, understanding space. Beyond Borders and Binaries is open to transgender\, non-binary\, and gender diverse newcomers regardless of immigration status. \nRefreshments are provided. Registration is required\, please contact ibelong@mosaicbc.org to sign up.
URL:https://mosaicbc.org/event/i-belong-beyond-borders-and-binaries-peer-support-group/2023-08-21/
LOCATION:MOSAIC – Boundary\, 5575 Boundary Road\, Vancouver\, British Columbia\, V5R 2P9
CATEGORIES:Other Events
ATTACH;FMTTYPE=image/jpeg:https://mosaicbc.org/wp-content/uploads/2022/10/lgbtqi-event.jpg
ORGANIZER;CN="MOSAIC":MAILTO:info@mosaicbc.org
GEO:49.2336134;-123.0236146
X-APPLE-STRUCTURED-LOCATION;VALUE=URI;X-ADDRESS=MOSAIC – Boundary 5575 Boundary Road Vancouver British Columbia V5R 2P9;X-APPLE-RADIUS=500;X-TITLE=5575 Boundary Road:geo:-123.0236146,49.2336134
END:VEVENT
BEGIN:VEVENT
DTSTART;TZID=UTC:20230825T093000
DTEND;TZID=UTC:20230825T110000
DTSTAMP:20260421T210002
CREATED:20230724T224559Z
LAST-MODIFIED:20230724T225427Z
UID:10031718-1692955800-1692961200@mosaicbc.org
SUMMARY:Wellness Workshop Series: Chair Yoga for Newcomer Seniors
DESCRIPTION:Join us for FREE physical wellness sessions\, accompanied by information sessions about government benefits. \n\nThe sessions are led by certified Yoga instructors.\nRefreshments will be provided.\nBring your PR card for registration.\nRegister here or call (778) 591-9334\n\nFridays\, August 4\, 11\, 18\, and 25\, 9:30 am-11:00 am \nAddress: MOSAIC\, 7134 King George Blvd\, Surrey \nEvent Flyer                                    Workshop for Ukrainian CUAET holders
URL:https://mosaicbc.org/event/wellness-workshop-series-chair-yoga-for-newcomer-seniors/2023-08-25/
LOCATION:MOSAIC – Surrey\, 200A-7134 King George Boulevard\, Surrey\, V3W 5A3\, BC\, Canada
CATEGORIES:Information Sessions,Other Events,Workshops
ATTACH;FMTTYPE=image/jpeg:https://mosaicbc.org/wp-content/uploads/2023/07/Chair-Yoga_Ariba-Dara.jpg
ORGANIZER;CN="Daisy Au":MAILTO:daisyau@mosaicbc.org
GEO:49.1322589;-122.844483
X-APPLE-STRUCTURED-LOCATION;VALUE=URI;X-ADDRESS=MOSAIC – Surrey 200A-7134 King George Boulevard Surrey V3W 5A3 BC Canada;X-APPLE-RADIUS=500;X-TITLE=200A-7134 King George Boulevard:geo:-122.844483,49.1322589
END:VEVENT
END:VCALENDAR